{"text_format":"1","workbook":"xlsx","n_sheets":19,"sheets":["Titel","Inhaltsverzeichnis","Einführung","Konstante_Werte","Variable_Werte","Szen1_Variablen","Szen2_Variablen","Szen3_Variablen","UBA-Empfehlung","Berechnung_BasisS","Berechnung_UBA-Empfehlung","Berechnung_Szen1","Berechnung_Szen2","Berechnung_Szen3","CO2e-Ergebnisse","Kosten-Ergebnisse","Default-Werte","Quellen","FAQs"],"not_rendered":{"charts":4,"images":12,"macros":1,"external_links":0,"defined_names":15,"comments":0,"pivot_tables":0},"unopened":[],"bounds":{"document_bytes":16777216,"sheet_cells":100000,"rows_first":2000,"rows_last":500,"rows_between":2000,"halvings":0,"cell_chars":16384,"cell_head_chars":4096},"cells_cut":0,"cells_raw":0,"read":"whole","date_system":"1900"}

{"sheet":"Titel","index":0,"n_rows":30,"n_cols":5,"rows_kept":30,"cut":false,"hidden":false,"merged":[[27,1,27,2],[27,4,27,6]]}
[]
[]
[]
[]
[]
[]
[]
[]
[]
[]
[]
[]
[]
[null,"Version: 1.1 (Stand: 16.08.2018, letzte redaktionelle Bearbeitung: 4.10.2019)"]
[]
[null,"Erarbeitung:"]
[null,"Öko-Institut e.V."]
[]
[null,"Ran Liu",null,null,"Jens Gröger"]
[null,"Tel. 030/405085-327",null,null,"Tel. 030/405085-378"]
[null,"r.liu@oeko.de ",null,null,"j.groeger@oeko.de "]
[]
[]
[null,"Redaktion:"]
[null,"Umweltbundesamt"]
[]
[null,"Maike Janßen ",null,null,"Dr. Hans-Jürgen Baumeister"]
[null,"Fachgebiet III 1.1 (Übergreifende Aspekte des produktbezogenen Umweltschutzes, Nachhaltige Konsumstrukturen, Innovationsprogramm)",null,null,"Beratungsstelle nachhaltige Informations- und Kommunikationstechnik - Green IT"]
[null,"Tel. 0340/2103-3385 ",null,null,"Tel. 0340/2103-2640"]
[null,"maike.janssen@uba.de",null,null,"hans-juergen.baumeister@uba.de"]

{"sheet":"Inhaltsverzeichnis","index":1,"n_rows":20,"n_cols":2,"rows_kept":20,"cut":false,"hidden":false,"merged":[]}
[]
[null,"Inhaltsverzeichnis"]
[]
[null,"Einführung"]
[]
[null,"Konstante_Werte"]
[]
[null,"Variable_Werte "]
[]
[null,"UBA-Empfehlung"]
[]
[null,"CO2e-Ergebnisse"]
[]
[null,"Kosten-Ergebnisse"]
[]
[null,"Default Werte"]
[]
[null,"Quellen- und Literaturverzeichnis"]
[]
[null,"FAQs"]

{"sheet":"Einführung","index":2,"n_rows":44,"n_cols":7,"rows_kept":44,"cut":false,"hidden":false,"merged":[[40,0,40,14],[12,0,12,14],[42,0,42,14],[13,0,13,12],[4,0,4,14],[5,0,5,14],[8,0,8,14],[9,0,9,14],[10,0,10,14],[11,0,11,14],[7,0,7,14],[18,0,18,14],[20,0,20,14],[19,0,19,14],[6,0,6,14]]}
[]
[null,null,null,"Einführung",null,null,"Zurück zum Inhaltsverzeichnis"]
[]
[]
["Im Forschungsvorhaben „Öko-APC “ des Umweltbundesamtes (siehe Quelle [1]) wurden die ökologischen und ökonomischen Auswirkungen von drei verschiedenen Arbeitsplatzlösungen in der Bundesverwaltung miteinander verglichen. Um mit den daraus gewonnenen Erkenntnissen die Beschaffung in der Praxis zu unterstützen, hat das Öko-Institut auf Basis der im Forschungsvorhaben erhobenen Daten dieses Excel-basierte Berechnungswerkzeug im Auftrag des Umweltbundesamtes entwickelt. \nZweck des Werkzeugs ist es, verschiedene Computervarianten für die Arbeitsplätze in der Verwaltung im Hinblick auf Kosten und Klimaschutz miteinander zu vergleichen. Als Anwenderinnen und Anwender können Sie verschiedene Varianten (Szenarien) für die Ausstattung Ihrer Arbeitsplätze mit Computern definieren und sehen anhand automatisch erzeugter Grafiken und Tabellen, welchen Treibhauseffekt (in kg CO2e), welche Lebenszykluskosten (in Euro) und welche jährlichen Kosten die Varianten über einen Betrachtungszeitraum von bis zu 12 Jahren verursachen.\n\n\n"]
["Wer kann dieses Tool nutzen? Zielgruppe sind Behördenleiter/-innen, Geschäftsführer/-innen, Verwaltungsleiter/-innen, Leiter/innen der IT-Abteilung, Umweltbeauftragte und andere Verantwortliche für IT, Beschaffung, Haushalt und Umweltaspekte in Behörden und anderen (auch gewerblichen) Verwaltungen, die die (Lebenszyklus)-Kosten und Umweltauswirkungen der Computerarbeitsplätze in ihrem Hause berechnen möchten. \n"]
["Für welche Zwecke ist dieses Tool nicht geeignet? Anwendbar ist dieses Tool ausschließlich für Standard-Arbeitsplätze in der Verwaltung. Computerarbeitsplätze mit einem anderen Zuschnitt - beispielsweise für aufwändige Grafikbearbeitung u.ä. - wurden im Forschungsvorhaben \"Öko-APC\", in dem die hier verwendeten ökoblanzellen Daten erhoben wurden, nicht betrachtet und können deshalb hier leider nicht abgebildet werden. \nEs ist auch nicht anwendbar, um Kosten und Umweltauswirkungen von IT-Anschaffungen im Privathaushalt zu berechnen. \n"]
["Was wird berücksichtigt? Das Tool umfasst die Berechnung von Treibhausgas-Emissionen (CO2e) und anfallenden Kosten. Die Kosten berücksichtigen die Hardware, den Strom und erforderliche Personalkosten für begleitende Aktivitäten wie bspw. Rollout der Systeme und einen ggf. erforderlichen Austausch von Komponenten. Die Treibhausgas-Emissionen werden auf Grundlage des Forschungsvorhabens \"Öko-APC\" (siehe Quelle [1]) über den gesamten Lebensweg der Geräte berechnet, also inklusive Herstellung (mit Rohstoffgewinnung), Distribution, Energiebedarf in der Nutzung und Entsorgung/Recycling. "]
["Welche Arten von Computer-Arbeitsplätzen sind abgebildet? \nDie Standard-Arbeitsplätze werden für die Zwecke dieses Tools in drei Typen eingeteilt: \n- Arbeitsplatz mit Desktop-PC: Desktop-PC + externe Tastatur + Maus \n- Arbeitsplatz mit Notebook: Notebook (mit integriertem Monitor und Tastatur) + Docking-Station + externe Tastatur + Maus \n- Arbeitsplatz mit Mini-PC: Mini-PC + externe Tastatur + Maus\n(Hinweis: Mini-PCs sind kleine und kompakte PCs, die bspw. durch die Verwendung von Notebook-Komponenten besonders energieeffizient in der Nutzung sind. Thin Clients werden hier nicht betrachtet.) \nFür jeden Arbeitsplatztyp geben Sie die Anzahl der eingesetzten (externen) Monitore an. Die Anzahl der eingesetzten Computer und der Monitore können sich unterscheiden (z.B. falls Arbeitsplätze mit zwei Monitoren ausgestattet sind).                                                                                               \nDie Gesamtanzahl der Arbeitsplätze über alle drei Typen ist in allen betrachteten Szenarien identisch zu wählen, damit die Ergebnisse vergleichbar sind. \n"]
["Bezugsgrößen\nDie Bezugsgröße der Ergebnisse für das Berechnungsmodell des Treibhauseffekts ist der Betrachtungszeitraum (gesamte THG-Emissionen). \n\nDas Berechnungsmodell der Lebenszykluskosten hat zwei Bezugsgrößen: \n      - Betrachtungszeitraum (Gesamt-Kosten über mehrere Jahre) und \n      - Kalenderjahr (je Haushaltsjahr zu erwartende Ausgaben). \nDer Betrachtungszeitraum wird von Ihnen gewählt. So können Sie mittel- bis langfristige Effekte abbilden, die sich durch unterschiedliche Nutzungsdauern (in Jahren) ergeben. Je nach Nutzungsdauer der einzelnen Komponenten müssen während des Betrachtungszeitraums unterschiedlich oft neue Geräte beschafft werden. Die Nachrüstung einzelner Komponenten kann ebenfalls (mit einigen Vereinfachungen, s.u.) betrachtet werden."]
["Betrachtete Aspekte\nDer Treibhauseffekt (als THG-Emissionen in CO2e ausgedrückt) und die Lebenszykluskosten (in Euro) werden für die Computerarbeitsplätze über den gesamten Lebenszyklus einschließlich aller in diesem Vorhaben betrachteten Komponenten in Verbindung mit dem Nutzungsprofil betrachtet. Das Nutzungsprofil beinhaltet insbesondere die tägliche Nutzungsdauer der Geräte, die Nutzungsintensität und die jährliche Arbeitszeit. \n"]
["Systemgrenze\nFür die Untersuchung der Treibhausgasemissionen wurden alle Lebensphasen der Geräte einbezogen: Rohstoffgewinnung, Herstellung, Transport, Nutzung und Entsorgung/Verwertung. Die Untersuchung der Lebenszykluskosten umfasst Anschaffungskosten, Stromkosten in der Nutzungsphase, Personalkosten und Sach- und Gemeinkosten.\nNicht berücksichtigt werden Aufwendungen für Netzwerk und Rechenzentren sowie für Büromöbel, Gebäude, Beleuchtung etc. (analog zum Forschungsvorhaben „Öko-APC\", s. Quelle [1])."]
["Annahmen zur Vereinfachung\n1) Es wurde angenommen, dass bei den Desktops und Mini-PCs der Ersatz von HDD durch SSD und die Erweiterung des RAM möglich sind; bei den Notebooks zusätzlich die Erneuerung des Akkus. Die Nutzer können den Anteil der vom Austausch betroffenen Computer und die Anzahl der Austauschvorgänge während der Nutzungsdauer angeben. \n\n2) Während der Nutzungsdauer der jeweiligen Geräte bleibt deren Stromverbrauch konstant. Bei einer Neuanschaffung während des Betrachtungszeitraums berücksichtigt das Tool eine Zunahme der Energieeffizienz  von 5% pro Jahr durch den technischen Fortschritt.     \n\n3) Das Berechnungswerkzeug betrachtet nicht alle Parameter in dem durch die Nutzer definierten Betrachtungszeitraum als dynamisch.\na) Dynamische Parameter während des Betrachtungszeitraums sind: Strompreis; Energieeffizienzsteigerung der neubeschafften Geräte (s.o.); \nb) Konstante Parameter während des Betrachtungszeitraums sind: Emissionsfaktoren des deutschen Strommixes und Emissionen bei Produktion, Distribution und Entsorgung der Geräte  sowie Anschaffungskosten der Geräte."]
["Wie funktioniert das Tool?\nDie folgende Abbildung zeigt den Ablauf der Nutzung des Tools."]
[]
[]
[]
[]
["Die  Parameter, die Sie eingeben, teilen sich in zwei Bereiche auf: Konstante und variable Werte der Szenarien. Im Blatt Konstante_Werte geben Sie Daten ein, die für alle Szenarien als Rahmenbedingungen unverändert bleiben, beispielsweise der Betrachtungszeitraum und die Zahl der Arbeitsplätze. Im Blatt Variable_Werte geben Sie weitere Daten ein, die Ihr Basis-Szenario bilden. In späteren Schritten können Sie diese variablen Werte für Ihre weiteren Szenarien ändern. Zu den variablen Werten gehört beispielsweise die Angabe, wie viele Jahre Ihre Geräte genutzt werden, welcher Anteil der Arbeitsplätze in Ihrem Haus mit Notebooks ausgestattet werden soll usw. \n\nAuf der Grundlage des von Ihnen festgelegten Basisszenarios wird automatisch eine UBA-Empfehlung generiert. Dabei wird lediglich die Nutzungsdauer (in Jahren) der Geräte auf sechs Jahre verlängert (sofern die von Ihnen angegebene Zeit nicht ohnehin schon sechs Jahre oder länger ist). Dadurch können Sie vergleichen, welche Kosten und Treibhausgasemissionen sich ergeben, wenn Sie die Geräte seltener ersetzen.\n\nAuf dem Blatt Variable_Werte finden Sie unten die Schaltfläche \"Neues Szenario erstellen\". Bis zu drei weitere Szenarien sind möglich. Wenn Sie die Schaltfläche anklicken, öffnet sich jeweils ein weiteres Blatt: Szen1_Variablen, Szen2_Variablen, Szen3_Variablen. Dort finden Sie die Angaben wieder, die Sie im Basis-Szenario (auf dem Blatt Variable_Werte) eingegeben haben und können sie gezielt ändern.  Sie können beispielsweise die Anzahlen für die einzelnen Gerätetypen (bei konstanter Gesamtanzahl der Arbeitsplätze) ändern. So können Sie sich ansehen, wie das Gesamtergebnis sich verändert, wenn Sie beispielsweise Mini-PCs statt Desktop-PCs einsetzen. Sie können auch technische Parameter der Geräte ändern. Auf diese Weise können Sie die Effekte unterschiedlichster Veränderungen sichtbar machen. Auch die Nutzungsdauer (in Jahren) können Sie ändern.\n\nDie Ergebnisse werden auf den Blättern CO2e-Ergebnisse und Kosten-Ergebnisse angezeigt - als Tabellen und als Grafiken. Auf den Ergebnis-Blättern finden Sie außerdem Schaltflächen, mit deren Hilfe Sie auf diesen Blättern die Ergebnisse Ihrer zusätzlichen Szenarien (falls Sie welche angelegt haben) ein- und ausblenden können. \n\n"]
["Experten-Modus: Im Blatt Konstante_Werte ist ein Button eingebettet, mit dem Sie den \"Expertenmodus\" aktivieren können. Dann werden alle versteckten Berechnungsblätter und das Default-Werte-Blatt eingeblendet. Wenn Sie den Expertenmodus mit derselben Schaltfläche deaktivieren, werden die versteckten Blätter wieder ausgeblendet. \nDefault-Werte:  In hellgrünen Zellen sind bereits Default-Werte vorgegeben, die wir Ihnen als Ausgangswerte vorschlagen, beispielsweise für die Leistungsaufnahme der Geräte oder für den Personalaufwand. Diese Werte sind im Blatt Default-Werte dokumentiert. Die Default-Werte basieren auf dem Forschungsvorhaben \"Öko-APC\", vgl. Quelle [1]. Wenn Sie eigene, andere Werte haben, können Sie sie anstelle der Default-Werte eingeben. Auf allen Blättern mit Eingabefeldern finden Sie Schaltflächen, mit deren Hilfe Sie die Default-Werte wieder herstellen können.   \nQuellen: Alle Quellenangaben sind im Blatt Quellen dokumentiert.\nFAQs: Auf dem Blatt FAQs finden Sie Antworten auf häufig gestellte Fragen. Wir werden dieses Blatt laufend ergänzen. Wenn Sie dort etwas vermissen, dann schicken Sie Ihre Frage bitte an das Umweltbundesamt. Die Mail-Adressen finden Sie auf dem Blatt Titel. "]
["Wichtiger Hinweis: Das Tool arbeitet mit VBA-Makros. Nach Öffnen des Tools wird evtl. eine gelbe Statusleiste angezeigt (s. unten). Klicken Sie in der Statusleiste auf „Inhalt aktivieren“. Die Makros werden aktiviert und können ausgeführt werden. Sofern die Makro-Ausführung bei Ihrem System gesperrt ist, wenden Sie sich bitte an Ihren Systemadministrator."]
[]
["Legende"]
[]
[null,null,"Eingabe erforderlich / möglich"]
[]
[null,null,"vom UBA vorgeschlagene Default-Werte, die Sie ändern können"]
[]
[null,null,"vorgegebene Werte, die Sie nicht ändern können (Ergebnisse Ökobilanz)"]
[]
[null,null,"keine Eingabe möglich / Ausgabe berechneter Werte"]
[]
[null,null,"Fehler in der Ausgabe / fehlende Eingabe"]
[]
["Abkürzungen"]
["APC","Arbeitsplatzcomputer "]
["GWP","Global Warming Potential (Treibhauseffekt)"]
["THG ","Treibhausgasemissionen"]
["Szen.","Szenario"]
[]
["Wir freuen uns über Ihre Rückmeldung! Wenn Sie uns von Ihren Erfahrungen mit diesem Tool berichten möchten, Fragen oder Verbesserungsvorschläge haben oder Fehler bemerken, dann wenden Sie sich bitte ans Umweltbundesamt. Die Mailadressen finden Sie auf dem Titel-Blatt. "]
["Impressum"]
["Dieses Berechnungswerkzeug entstand im Auftrag des Umweltbundesamtes im Vorhaben \"Nutzerorientiertes Informations- und Berechnungsmodul zum Ufoplanvorhaben Öko-APC\" (Projektnummer78 711) und stellt eine Ergänzung zum Forschungsvorhaben „Ökologische und ökonomische Aspekte beim Vergleich von Arbeitsplatzcomputern für den Einsatz in Behörden unter Einbeziehung des Nutzerverhaltens“ (Öko-APC, FKZ 3712 95 301, vgl. Quelle [1]) dar. \nDie konzeptionelle und technische Realisierung erfolgte durch das Öko-Institut e.V., Freiburg, 2018.\n"]
["Diese Excel-Datei auf der UBA-Webseite (www.umweltbundesamt.de) zum Download verfügbar."]

{"sheet":"Konstante_Werte","index":3,"n_rows":69,"n_cols":14,"rows_kept":69,"cut":false,"hidden":false,"merged":[[7,4,7,5],[10,8,10,9],[67,11,67,13],[68,11,68,13],[62,4,62,6],[63,4,63,6],[64,4,64,6],[65,4,65,6],[66,4,66,6],[67,4,67,6],[68,4,68,6],[63,11,63,13],[64,11,64,13],[65,11,65,13],[66,11,66,13],[62,11,62,13],[48,4,48,6],[49,4,49,6],[50,4,50,6],[52,11,52,13],[2,2,5,4],[9,2,11,6],[15,4,15,6],[16,4,16,6],[17,4,17,6],[18,4,18,6],[47,4,47,6],[50,11,50,13],[47,11,47,13],[48,11,48,13],[49,11,49,13],[14,4,14,6]]}
[]
[null,null,"Hinweis:"]
[null,null,"Bei Aktivierung des Expertenmodus werden alle versteckten Berechnungsblätter und das Default-Werte-Blatt eingeblendet, bei Deaktivierung des Expertenmodus werden diese ausgeblendet."]
[]
[]
[]
[]
[null,"Eingaben zur Nutzung und den Kosten",null,null,"Zurück zum Inhaltsverzeichnis"]
[]
[null,"Beschreibung","Geben Sie hier Ihre Beschreibung ein! Beispiel: Daten für Musterbehörde Standort Musterdorf; Daten aus dem Jahr 2018"]
[null,null,null,null,null,null,null,null,"Default-Werte (Standard-Werte)"]
[]
[]
[null,"Allgemeine Angaben"]
[null,null,"Name der Organisation:",null,"Musterbehörde"]
[null,null,"Betrachtungszeitraum: [Jahr]",null,{"$f":"L16","v":10},null,null,null,null,"Betrachtungszeitraum: [Jahr]",null,{"$f":"'Default-Werte'!$C$5","v":10}]
[null,null,"GWP-Strommix: [kg CO2e/kWh]",null,{"$f":"L17","v":0.622},null,null,null,null,"GWP-Strommix: [kg CO2e/kWh]",null,{"$f":"'Default-Werte'!$C$6","v":0.622}]
[null,null,"Strompreis: [€/kWh]",null,{"$f":"L18","v":0.21199999999999999},null,null,null,null,"Strompreis: [€/kWh]",null,{"$f":"'Default-Werte'!C151","v":0.21199999999999999}]
[null,null,"Reale Preissteigerungsrate Strom: [%/Jahr]",null,{"$f":"L19","v":5.7596822244290191E-3},null,null,null,null,"Reale Preissteigerungsrate Strom: [%/Jahr]",null,{"$f":"'Default-Werte'!$C$154","v":5.7596822244290191E-3}]
[]
[null,"Nutzungsprofile"]
[null,"Anzahl der Stunden pro Arbeitstag je Betriebszustand",null,null,"Idle-Mode","Sleep-Mode","Off-Mode"]
[null,null,"Hohe Nutzungsintensität [h/d]",null,7.5,2.5,{"$f":"24-E23-F23","v":14}]
[null,null,"Mittlere Nutzungsintensität [h/d]",null,6,4,{"$f":"24-E24-F24","v":14}]
[null,null,"Geringe Nutzungsintensität [h/d]",null,4.5,5.5,{"$f":"24-E25-F25","v":14}]
[null,null,null,null,null,null,null,null,"Standardnutzungsprofile"]
[null,"Anzahl Stunden pro Arbeitstag je Betriebszust.: Desktop",null,null,"Idle-Mode","Sleep-Mode","Off-Mode",null,"Anzahl Stunden pro Arbeitstag je Betriebszust.: Desktop",null,null,"Idle-Mode","Sleep-Mode","Off-Mode"]
[null,null,"Hohe Nutzungsintensität [h/d]",null,{"$f":"L28","v":7.5},{"$f":"M28","v":2.5},{"$f":"24-E28-F28","v":14},null,null,"Hohe Nutzungsintensität [h/d]",null,{"$f":"'Default-Werte'!C131","v":7.5},{"$f":"'Default-Werte'!D131","v":2.5},{"$f":"'Default-Werte'!E131","v":14}]
[null,null,"Mittlere Nutzungsintensität [h/d]",null,{"$f":"L29","v":6},{"$f":"M29","v":4},{"$f":"24-E29-F29","v":14},null,null,"Mittlere Nutzungsintensität [h/d]",null,{"$f":"'Default-Werte'!C132","v":6},{"$f":"'Default-Werte'!D132","v":4},{"$f":"'Default-Werte'!E132","v":14}]
[null,null,"Geringe Nutzungsintensität [h/d]",null,4.5,5.5,{"$f":"24-E30-F30","v":14},null,null,"Geringe Nutzungsintensität [h/d]",null,{"$f":"'Default-Werte'!C133","v":4.5},{"$f":"'Default-Werte'!D133","v":5.5},{"$f":"'Default-Werte'!E133","v":14}]
[]
[null,"Anzahl Stunden pro Arbeitstag je Betriebszust.: Notebook",null,null,{"$f":"L32","v":"Idle-Mode"},{"$f":"M32","v":"Sleep-Mode"},{"$f":"N32","v":"Off-Mode"},null,"Anzahl Stunden pro Arbeitstag je Betriebszust.: Notebook",null,null,"Idle-Mode","Sleep-Mode","Off-Mode"]
[null,null,"Hohe Nutzungsintensität [h/d]",null,{"$f":"L33","v":7.5},{"$f":"M33","v":2.5},{"$f":"24-E33-F33","v":14},null,null,"Hohe Nutzungsintensität [h/d]",null,{"$f":"'Default-Werte'!C136","v":7.5},{"$f":"'Default-Werte'!D136","v":2.5},{"$f":"'Default-Werte'!E136","v":14}]
[null,null,"Mittlere Nutzungsintensität [h/d]",null,{"$f":"L34","v":6},{"$f":"M34","v":4},{"$f":"24-E34-F34","v":14},null,null,"Mittlere Nutzungsintensität [h/d]",null,{"$f":"'Default-Werte'!C137","v":6},{"$f":"'Default-Werte'!D137","v":4},{"$f":"'Default-Werte'!E137","v":14}]
[null,null,"Geringe Nutzungsintensität [h/d]",null,4.5,5.5,{"$f":"24-E35-F35","v":14},null,null,"Geringe Nutzungsintensität [h/d]",null,{"$f":"'Default-Werte'!C138","v":4.5},{"$f":"'Default-Werte'!D138","v":5.5},{"$f":"'Default-Werte'!E138","v":14}]
[]
[null,"Anzahl Stunden pro Arbeitstag je Betriebszust.: Mini-PC",null,null,"Idle-Mode","Sleep-Mode","Off-Mode",null,"Anzahl Stunden pro Arbeitstag je Betriebszust.: Mini-PC",null,null,"Idle-Mode","Sleep-Mode","Off-Mode"]
[null,null,"Hohe Nutzungsintensität [h/d]",null,{"$f":"L38","v":7.5},{"$f":"M38","v":2.5},{"$f":"24-E38-F38","v":14},null,null,"Hohe Nutzungsintensität [h/d]",null,{"$f":"'Default-Werte'!C141","v":7.5},{"$f":"'Default-Werte'!D141","v":2.5},{"$f":"'Default-Werte'!E141","v":14}]
[null,null,"Mittlere Nutzungsintensität [h/d]",null,{"$f":"L39","v":6},{"$f":"M39","v":4},{"$f":"24-E39-F39","v":14},null,null,"Mittlere Nutzungsintensität [h/d]",null,{"$f":"'Default-Werte'!C142","v":6},{"$f":"'Default-Werte'!D142","v":4},{"$f":"'Default-Werte'!E142","v":14}]
[null,null,"Geringe Nutzungsintensität [h/d]",null,4.5,5.5,{"$f":"24-E40-F40","v":14},null,null,"Geringe Nutzungsintensität [h/d]",null,{"$f":"'Default-Werte'!C143","v":4.5},{"$f":"'Default-Werte'!D143","v":5.5},{"$f":"'Default-Werte'!E143","v":14}]
[]
[null,"Anzahl Stunden pro Arbeitstag je Betriebszust.: Monitor",null,null,"Idle-Mode","Sleep-Mode","Off-Mode",null,"Anzahl Stunden pro Arbeitstag je Betriebszust.: Monitor",null,null,"Idle-Mode","Sleep-Mode","Off-Mode"]
[null,null,"Hohe Nutzungsintensität [h/d]",null,{"$f":"L43","v":7.5},{"$f":"M43","v":2.5},{"$f":"24-E43-F43","v":14},null,null,"Hohe Nutzungsintensität [h/d]",null,{"$f":"'Default-Werte'!C146","v":7.5},{"$f":"'Default-Werte'!D146","v":2.5},{"$f":"'Default-Werte'!E146","v":14}]
[null,null,"Mittlere Nutzungsintensität [h/d]",null,{"$f":"L44","v":6},{"$f":"M44","v":4},{"$f":"24-E44-F44","v":14},null,null,"Mittlere Nutzungsintensität [h/d]",null,{"$f":"'Default-Werte'!C147","v":6},{"$f":"'Default-Werte'!D147","v":4},{"$f":"'Default-Werte'!E147","v":14}]
[null,null,"Geringe Nutzungsintensität [h/d]",null,4.5,5.5,{"$f":"24-E45-F45","v":14},null,null,"Geringe Nutzungsintensität [h/d]",null,{"$f":"'Default-Werte'!C148","v":4.5},{"$f":"'Default-Werte'!D148","v":5.5},{"$f":"'Default-Werte'!E148","v":14}]
[]
[null,"Anteil Nutzer nach Nutzungsintensität",null,null,null,null,null,null,"Anteil Nutzer nach Nutzungsintensität"]
[null,null,"Hohe Nutzungsintensität [%]",null,{"$f":"L48","v":0.25},null,null,null,null,{"$f":"C48","v":"Hohe Nutzungsintensität [%]"},null,{"$f":"'Default-Werte'!$C$112","v":0.25}]
[null,null,"Mittlere Nutzungsintensität [%]",null,{"$f":"L49","v":0.5},null,null,null,null,{"$f":"C49","v":"Mittlere Nutzungsintensität [%]"},null,{"$f":"'Default-Werte'!$C$113","v":0.5}]
[null,null,"Geringe Nutzungsintensität [%]",null,0.25,null,null,null,null,"Geringe Nutzungsintensität [%]",null,{"$f":"'Default-Werte'!$C$114","v":0.25}]
[null,null,"Summe",null,{"$f":"SUM(E48:G50)","v":1},{"$f":"SUM(E48:G50)","v":1},null,null,null,"Summe",null,{"$f":"SUM(L48:N50)","v":1},{"$f":"SUM(L48:N50)","v":1}]
[]
[null,"Personalkosten",null,null,null,null,null,null,"Personalkosten",null,null,"Oberste Bundesbehörden (OB)"]
[null,null,null,null,"Höherer Dienst","Gehobener Dienst ","Mittlerer Dienst",null,null,null,null,"Höherer Dienst","Gehobener Dienst ","Mittlerer Dienst"]
[null,null,"Tagesbruttopersonalkosten [€/d]",null,{"$f":"L55","v":533.97},{"$f":"M55","v":408.91},285.08999999999997,null,null,"Tagesbruttopersonalkosten [€/d]",null,{"$f":"'Default-Werte'!C167","v":533.97},{"$f":"'Default-Werte'!D167","v":408.91},{"$f":"'Default-Werte'!E167","v":285.08999999999997}]
[null,null,"Tagessach- und -gemeinkosten [€/d]",null,{"$f":"L56","v":344.53},297,249.95,null,null,"Tagessach- und -gemeinkosten [€/d]",null,{"$f":"'Default-Werte'!C168","v":344.53},{"$f":"'Default-Werte'!D168","v":297},{"$f":"'Default-Werte'!E168","v":249.95}]
[]
[null,"Personalaufwand für Beschaffung, Roll-Out, Instandsetzung und Entsorgung je Gerät",null,null,null,null,null,null,"Personalaufwand für Beschaffung, Roll-Out, Instandsetzung und Entsorgung je Gerät"]
[null,null,null,null,"Höherer Dienst","Gehobener Dienst ","Mittlerer Dienst",null,null,null,null,"Höherer Dienst","Gehobener Dienst ","Mittlerer Dienst"]
[null,null,"Personalaufwand [d/Stück]",null,{"$f":"L60","v":1.1619999999999998E-2},{"$f":"M60","v":8.7660000000000002E-2},0.18442,null,null,"Personalaufwand [d/Stück]",null,{"$f":"'Default-Werte'!C184","v":1.1619999999999998E-2},{"$f":"'Default-Werte'!D184","v":8.7660000000000002E-2},{"$f":"'Default-Werte'!E184","v":0.18442}]
[]
[null,"Anschaffungskosten je Gerät bzw. Ersatzteil",null,null,null,null,null,null,"Anschaffungskosten je Gerät bzw. Ersatzteil"]
[null,null,"Desktop-PC [€/Stück]",null,{"$f":"L63","v":312},null,null,null,null,"Desktop-PC [€/Stück]",null,{"$f":"'Default-Werte'!$C$157","v":312}]
[null,null,"Notebook [€/Stück]",null,{"$f":"L64","v":431},null,null,null,null,"Notebook [€/Stück]",null,{"$f":"'Default-Werte'!$C$158","v":431}]
[null,null,"Mini-PC [€/Stück]",null,325,null,null,null,null,"Mini-PC [€/Stück]",null,{"$f":"'Default-Werte'!$C$159","v":325}]
[null,null,"Monitor [€/Stück]",null,189,null,null,null,null,"Monitor [€/Stück]",null,{"$f":"'Default-Werte'!$C$160","v":189}]
[null,null,"SSD [€/Stück]",null,89,null,null,null,null,"SSD [€/Stück]",null,{"$f":"'Default-Werte'!$C$161","v":89}]
[null,null,"RAM [€/Stück]",null,60,null,null,null,null,"RAM [€/Stück]",null,{"$f":"'Default-Werte'!$C$162","v":60}]
[null,null,"Akku [€/Stück]",null,75,null,null,null,null,"Akku [€/Stück]",null,{"$f":"'Default-Werte'!$C$163","v":75}]

{"sheet":"Variable_Werte","index":4,"n_rows":55,"n_cols":17,"rows_kept":55,"cut":false,"hidden":false,"merged":[[4,11,4,14],[30,1,30,7],[30,11,30,17],[1,6,1,7],[3,2,4,7],[5,11,5,14],[20,4,20,6],[19,4,19,6],[7,4,7,6],[8,4,8,6],[9,4,9,6],[10,4,10,6],[22,4,22,6],[12,5,12,6],[21,4,21,6],[21,14,21,16],[22,14,22,16],[13,5,13,6],[14,5,14,6],[15,5,15,6],[19,14,19,16],[20,14,20,16],[16,5,16,6]]}
[null,"Eingaben zum Mengengerüst, den Energieverbrauchswerten und zum Komponentenaustausch"]
[null,null,null,null,null,null,"Zurück zum Inhaltsverzeichnis"]
[null,"Bezeichnung:","Basisszenario"]
[null,"Beschreibung","Beispiel: Daten für Musterbehörde Standort Musterdorf; Daten aus dem Jahr 2018; Ausstattung wie von XYZ vorgeschlagen"]
[null,null,null,null,null,null,null,null,null,null,null,"Default-Werte (Standard-Werte)"]
[]
[null,"Modellbezeichnungen"]
[null,null,"Desktop-PC",null,"Beispiel: Firma XY Modell A1"]
[null,null,"Notebook",null,"  "]
[null,null,"Mini-PC",null,"  "]
[null,null,"Monitor",null,"  "]
[]
[null,"Anzahl aller Geräte [Stück]",null,null,"Anzahl der Geräte","Anzahl der zugeordneten Monitore"]
[null,null,"APC-Desktop-PC",null,100,120]
[null,null,"APC-Notebook",null,50,50]
[null,null,"APC-Mini-PC",null,70,80]
[null,null,"Summe ",null,{"$f":"SUM(E14:E16)","v":220},{"$f":"SUM(F14:G16)","v":250}]
[]
[null,"Nutzungsdauer [Jahre]",null,null,null,null,null,null,null,null,null,"Nutzungsdauer [Jahre]"]
[null,null,"Desktop-PC",null,{"$f":"O20","v":6},null,null,null,null,null,null,null,"Desktop-PC",null,{"$f":"'Default-Werte'!$C$106","v":6}]
[null,null,"Notebook",null,{"$f":"O21","v":6},null,null,null,null,null,null,null,"Notebook",null,{"$f":"'Default-Werte'!$C$107","v":6}]
[null,null,"Mini-PC",null,6,null,null,null,null,null,null,null,"Mini-PC",null,6]
[null,null,"Monitor",null,6,null,null,null,null,null,null,null,"Monitor",null,{"$f":"'Default-Werte'!$C$109","v":6}]
[]
[null,"Anzahl der Austauschvorgänge von Komponenten je Gerät während der Nutzungsphase",null,null,null,null,null,null,null,null,null,{"$f":"B25","v":"Anzahl der Austauschvorgänge von Komponenten je Gerät während der Nutzungsphase"}]
[null,null,null,null,"Ersatz HDD durch SSD","RAM hinzufügen","Wechsel des Akkus",null,null,null,null,null,null,null,"Ersatz HDD durch SSD","RAM hinzufügen","Wechsel des Akkus"]
[null,null,"Desktop-PC",null,{"$f":"O27","v":1},{"$f":"P27","v":1},{"$f":"Q27","v":"-"},null,null,null,null,null,"Desktop-PC",null,{"$f":"'Default-Werte'!C100","v":1},{"$f":"'Default-Werte'!D100","v":1},{"$f":"'Default-Werte'!E100","v":"-"}]
[null,null,"Notebook",null,{"$f":"O28","v":1},1,{"$f":"Q28","v":1},null,null,null,null,null,"Notebook",null,{"$f":"'Default-Werte'!C101","v":1},{"$f":"'Default-Werte'!D101","v":1},1]
[null,null,"Mini-PC",null,1,1,"-",null,null,null,null,null,"Mini-PC",null,{"$f":"'Default-Werte'!C102","v":1},{"$f":"'Default-Werte'!D102","v":1},{"$f":"'Default-Werte'!E102","v":"-"}]
[]
[null,"Prozentualer Anteil der Geräte, bei denen während der Nutzungsphase folgende Komponenten nachgerüstet bzw. ausgetauscht werden [%]",null,null,null,null,null,null,null,null,null,{"$f":"B31","v":"Prozentualer Anteil der Geräte, bei denen während der Nutzungsphase folgende Komponenten nachgerüstet bzw. ausgetauscht werden [%]"}]
[null,null,null,null,"Ersatz HDD durch SSD","RAM hinzufügen","Wechsel des Akkus",null,null,null,null,null,null,null,"Ersatz HDD durch SSD","RAM hinzufügen","Wechsel des Akkus"]
[null,null,"Desktop-PC",null,{"$f":"O33","v":0},{"$f":"P33","v":0},{"$f":"Q33","v":"-"},null,null,null,null,null,"Desktop-PC",null,{"$f":"'Default-Werte'!C$93","v":0},{"$f":"'Default-Werte'!D$93","v":0},{"$f":"'Default-Werte'!E$93","v":"-"}]
[null,null,"Notebook",null,{"$f":"O34","v":0},{"$f":"P34","v":0},{"$f":"Q34","v":0.5},null,null,null,null,null,"Notebook",null,{"$f":"'Default-Werte'!C$94","v":0},{"$f":"'Default-Werte'!D$94","v":0},0.5]
[null,null,"Mini-PC",null,0,0,"-",null,null,null,null,null,"Mini-PC",null,{"$f":"'Default-Werte'!C$95","v":0},{"$f":"'Default-Werte'!D$95","v":0},{"$f":"'Default-Werte'!E$95","v":"-"}]
[]
[null,"Leistungsaufnahme: ",null,null,"Idle-Mode/Short-Idle-Mode","Sleep-Mode","Off-Mode",null,null,null,null,"Leistungsaufnahme: ",null,null,"Idle-Mode","Sleep-Mode","Off-Mode"]
[null,null,"Desktop [W]",null,{"$f":"O38","v":32.39},{"$f":"P38","v":2.08},0.79,null,null,null,null,null,"Desktop [W]",null,{"$f":"'Default-Werte'!C118","v":32.39},{"$f":"'Default-Werte'!D118","v":2.08},{"$f":"'Default-Werte'!E118","v":0.79}]
[]
[]
[null,"Leistungsaufnahme: ",null,null,"Idle-Mode/Short-Idle-Mode","Sleep-Mode","Off-Mode",null,null,null,null,"Leistungsaufnahme: ",null,null,"Idle-Mode","Sleep-Mode","Off-Mode"]
[null,null,"Notebook [W]",null,{"$f":"O42","v":9.0399999999999991},{"$f":"P42","v":0.73499999999999999},0.46,null,null,null,null,null,"Notebook [W]",null,{"$f":"'Default-Werte'!C121","v":9.0399999999999991},{"$f":"'Default-Werte'!D121","v":0.73499999999999999},{"$f":"'Default-Werte'!E121","v":0.46}]
[]
[]
[null,"Leistungsaufnahme: ",null,null,"Idle-Mode/Short-Idle-Mode","Sleep-Mode","Off-Mode",null,null,null,null,"Leistungsaufnahme: ",null,null,"Idle-Mode","Sleep-Mode","Off-Mode"]
[null,null,"Mini-PC [W]",null,{"$f":"O46","v":16.27},{"$f":"P46","v":1.72},0.91,null,null,null,null,null,"Mini-PC [W]",null,{"$f":"'Default-Werte'!C124","v":16.27},{"$f":"'Default-Werte'!D124","v":1.72},{"$f":"'Default-Werte'!E124","v":0.91}]
[]
[]
[null,"Leistungsaufnahme: ",null,null,"Idle-Mode/Short-Idle-Mode","Sleep-Mode","Off-Mode",null,null,null,null,"Leistungsaufnahme: ",null,null,"Idle-Mode","Sleep-Mode","Off-Mode"]
[null,null,"Monitor [W]",null,{"$f":"O50","v":18.82},{"$f":"P50","v":0.5},0.3,null,null,null,null,null,"Monitor [W]",null,{"$f":"'Default-Werte'!C127","v":18.82},{"$f":"'Default-Werte'!D127","v":0.5},{"$f":"'Default-Werte'!E127","v":0.3}]
[]
[]
[]
[]
[null,null,null,null," "]

{"sheet":"Szen1_Variablen","index":5,"n_rows":55,"n_cols":17,"rows_kept":55,"cut":false,"hidden":true,"merged":[[4,11,4,14],[5,11,5,14],[3,2,4,7],[30,1,30,7],[30,11,30,17],[9,4,9,6],[10,4,10,6],[1,6,1,7],[22,4,22,6],[22,14,22,16],[19,4,19,6],[19,14,19,16],[20,4,20,6],[20,14,20,16],[21,4,21,6],[21,14,21,16],[12,5,12,6],[13,5,13,6],[14,5,14,6],[15,5,15,6],[16,5,16,6],[7,4,7,6],[8,4,8,6]]}
[null,"Alternativszenario in dem variable Eingabedaten geändert werden können"]
[null,null,null,null,null,null,"Zurück zum Inhaltsverzeichnis"]
[null,"Bezeichnung:","Szenario 1"]
[null,"Beschreibung","Beschreiben Sie hier Ihr Szenario 1! Hinweis: Die Werte in den neuen Szenarien wurden aus dem Basisszenario übernommen (Blatt Variable_Werte). Sie können sie nach Ihren Vorstellungen verändern. "]
[null,null,null,null,null,null,null,null,null,null,null,"Default-Werte (Standard-Werte)"]
[]
[null,{"$f":"Variable_Werte!B7","v":"Modellbezeichnungen"}]
[null,null,"Desktop-PC",null,{"$f":"IF(Variable_Werte!E8<>\"\",Variable_Werte!E8,\"-\")","v":"Beispiel: Firma XY Modell A1"}]
[null,null,"Notebook",null,{"$f":"IF(Variable_Werte!E9<>\"\",Variable_Werte!E9,\"-\")","v":"  "}]
[null,null,"Mini-PC",null,{"$f":"IF(Variable_Werte!E10<>\"\",Variable_Werte!E10,\"-\")","v":"  "}]
[null,null,"Monitor",null,{"$f":"IF(Variable_Werte!E11<>\"\",Variable_Werte!E11,\"-\")","v":"  "}]
[]
[null,"Anzahl der Geräte [Stück]",null,null,"Anzahl der Geräte [Stück]","Anzahl der zugeordneten Monitore"]
[null,null,"APC-Desktop-PC",null,{"$f":"Variable_Werte!E14","v":100},{"$f":"Variable_Werte!F14","v":120}]
[null,null,"APC-Notebook",null,{"$f":"Variable_Werte!E15","v":50},{"$f":"Variable_Werte!F15","v":50}]
[null,null,"APC-Mini-PC",null,{"$f":"Variable_Werte!E16","v":70},{"$f":"Variable_Werte!F16","v":80}]
[null,null,"Summe ",null,{"$f":"IF(SUM(E14:E16)<>Variable_Werte!$E$17,\"Summe muss \"&(Variable_Werte!$E$17)&\" ergeben\",SUM(E14:E16))","v":220},{"$f":"SUM(F14:G16)","v":250}]
[]
[null,{"$f":"Variable_Werte!B19","v":"Nutzungsdauer [Jahre]"},null,null,null,null,null,null,null,null,null,{"$f":"Variable_Werte!L19","v":"Nutzungsdauer [Jahre]"}]
[null,null,"Desktop-PC",null,{"$f":"Variable_Werte!E20","v":6},null,null,null,null,null,null,null,"Desktop-PC",null,{"$f":"'Default-Werte'!$C$106","v":6}]
[null,null,"Notebook",null,{"$f":"Variable_Werte!E21","v":6},null,null,null,null,null,null,null,"Notebook",null,{"$f":"'Default-Werte'!$C$107","v":6}]
[null,null,"Mini-PC",null,{"$f":"Variable_Werte!E22","v":6},null,null,null,null,null,null,null,"Mini-PC",null,{"$f":"'Default-Werte'!$C$108","v":6}]
[null,null,"Monitor",null,{"$f":"Variable_Werte!E23","v":6},null,null,null,null,null,null,null,"Monitor",null,{"$f":"'Default-Werte'!$C$109","v":6}]
[]
[null,{"$f":"Variable_Werte!B25","v":"Anzahl der Austauschvorgänge von Komponenten je Gerät während der Nutzungsphase"},null,null,null,null,null,null,null,null,null,{"$f":"Variable_Werte!L25","v":"Anzahl der Austauschvorgänge von Komponenten je Gerät während der Nutzungsphase"}]
[null,null,null,null,"Ersatz HDD durch SSD","RAM hinzufügen","Wechsel des Akkus",null,null,null,null,null,null,null,"Ersatz HDD durch SSD","RAM hinzufügen","Wechsel des Akkus"]
[null,null,"Desktop-PC",null,{"$f":"Variable_Werte!E27","v":1},{"$f":"Variable_Werte!F27","v":1},{"$f":"Variable_Werte!G27","v":"-"},null,null,null,null,null,"Desktop-PC",null,{"$f":"'Default-Werte'!C100","v":1},{"$f":"'Default-Werte'!D100","v":1},{"$f":"'Default-Werte'!E100","v":"-"}]
[null,null,"Notebook",null,{"$f":"Variable_Werte!E28","v":1},{"$f":"Variable_Werte!F28","v":1},{"$f":"Variable_Werte!G28","v":1},null,null,null,null,null,"Notebook",null,{"$f":"'Default-Werte'!C101","v":1},{"$f":"'Default-Werte'!D101","v":1},1]
[null,null,"Mini-PC",null,{"$f":"Variable_Werte!E29","v":1},{"$f":"Variable_Werte!F29","v":1},{"$f":"Variable_Werte!G29","v":"-"},null,null,null,null,null,"Mini-PC",null,{"$f":"'Default-Werte'!C102","v":1},{"$f":"'Default-Werte'!D102","v":1},{"$f":"'Default-Werte'!E102","v":"-"}]
[]
[null,{"$f":"Variable_Werte!B31","v":"Prozentualer Anteil der Geräte, bei denen während der Nutzungsphase folgende Komponenten nachgerüstet bzw. ausgetauscht werden [%]"},null,null,null,null,null,null,null,null,null,{"$f":"Variable_Werte!L31","v":"Prozentualer Anteil der Geräte, bei denen während der Nutzungsphase folgende Komponenten nachgerüstet bzw. ausgetauscht werden [%]"}]
[null,null,null,null,"Ersatz HDD durch SSD","RAM hinzufügen","Wechsel des Akkus",null,null,null,null,null,null,null,"Ersatz HDD durch SSD","RAM hinzufügen","Wechsel des Akkus"]
[null,null,"Desktop-PC",null,{"$f":"Variable_Werte!E33","v":0},{"$f":"Variable_Werte!F33","v":0},{"$f":"Variable_Werte!G33","v":"-"},null,null,null,null,null,"Desktop-PC",null,{"$f":"'Default-Werte'!C$95","v":0},{"$f":"'Default-Werte'!D$93","v":0},{"$f":"'Default-Werte'!E$93","v":"-"}]
[null,null,"Notebook",null,{"$f":"Variable_Werte!E34","v":0},{"$f":"Variable_Werte!F34","v":0},{"$f":"Variable_Werte!G34","v":0.5},null,null,null,null,null,"Notebook",null,{"$f":"'Default-Werte'!C$95","v":0},{"$f":"'Default-Werte'!D$94","v":0},0.5]
[null,null,"Mini-PC",null,{"$f":"Variable_Werte!E35","v":0},{"$f":"Variable_Werte!F35","v":0},{"$f":"Variable_Werte!G35","v":"-"},null,null,null,null,null,"Mini-PC",null,{"$f":"'Default-Werte'!C$95","v":0},{"$f":"'Default-Werte'!D$95","v":0},{"$f":"'Default-Werte'!E$95","v":"-"}]
[]
[null,"Leistungsaufnahme: ",null,null,"Idle-Mode/Short-Idle-Mode","Sleep-Mode","Off-Mode",null,null,null,null,"Leistungsaufnahme: ",null,null,"Idle-Mode","Sleep-Mode","Off-Mode"]
[null,null,"Desktop [W]",null,{"$f":"Variable_Werte!E38","v":32.39},{"$f":"Variable_Werte!F38","v":2.08},{"$f":"Variable_Werte!G38","v":0.79},null,null,null,null,null,"Desktop [W]",null,{"$f":"'Default-Werte'!C118","v":32.39},{"$f":"'Default-Werte'!D118","v":2.08},{"$f":"'Default-Werte'!E118","v":0.79}]
[]
[]
[null,"Leistungsaufnahme: ",null,null,"Idle-Mode/Short-Idle-Mode","Sleep-Mode","Off-Mode",null,null,null,null,"Leistungsaufnahme: ",null,null,"Idle-Mode","Sleep-Mode","Off-Mode"]
[null,null,"Notebook [W]",null,{"$f":"Variable_Werte!E42","v":9.0399999999999991},{"$f":"Variable_Werte!F42","v":0.73499999999999999},{"$f":"Variable_Werte!G42","v":0.46},null,null,null,null,null,"Notebook [W]",null,{"$f":"'Default-Werte'!C121","v":9.0399999999999991},{"$f":"'Default-Werte'!D121","v":0.73499999999999999},{"$f":"'Default-Werte'!E121","v":0.46}]
[]
[]
[null,"Leistungsaufnahme: ",null,null,"Idle-Mode/Short-Idle-Mode","Sleep-Mode","Off-Mode",null,null,null,null,"Leistungsaufnahme: ",null,null,"Idle-Mode","Sleep-Mode","Off-Mode"]
[null,null,"Mini-PC [W]",null,{"$f":"Variable_Werte!E46","v":16.27},{"$f":"Variable_Werte!F46","v":1.72},{"$f":"Variable_Werte!G46","v":0.91},null,null,null,null,null,"Mini-PC [W]",null,{"$f":"'Default-Werte'!C124","v":16.27},{"$f":"'Default-Werte'!D124","v":1.72},{"$f":"'Default-Werte'!E124","v":0.91}]
[]
[]
[null,"Leistungsaufnahme: ",null,null,"Idle-Mode/Short-Idle-Mode","Sleep-Mode","Off-Mode",null,null,null,null,"Leistungsaufnahme: ",null,null,"Idle-Mode","Sleep-Mode","Off-Mode"]
[null,null,"Monitor [W]",null,{"$f":"Variable_Werte!E50","v":18.82},{"$f":"Variable_Werte!F50","v":0.5},{"$f":"Variable_Werte!G50","v":0.3},null,null,null,null,null,"Monitor [W]",null,{"$f":"'Default-Werte'!C127","v":18.82},{"$f":"'Default-Werte'!D127","v":0.5},{"$f":"'Default-Werte'!E127","v":0.3}]
[]
[null,null,null,null," "]
[]
[]
[null,null,null,null," "]

{"sheet":"Szen2_Variablen","index":6,"n_rows":55,"n_cols":17,"rows_kept":55,"cut":false,"hidden":true,"merged":[[4,11,4,14],[5,11,5,14],[3,2,4,7],[30,1,30,7],[30,11,30,17],[9,4,9,6],[10,4,10,6],[1,6,1,7],[22,4,22,6],[22,14,22,16],[19,4,19,6],[19,14,19,16],[20,4,20,6],[20,14,20,16],[21,4,21,6],[21,14,21,16],[12,5,12,6],[13,5,13,6],[14,5,14,6],[15,5,15,6],[16,5,16,6],[7,4,7,6],[8,4,8,6]]}
[null,"Alternativszenario in dem variable Eingabedaten geändert werden können"]
[null,null,null,null,null,null,"Zurück zum Inhaltsverzeichnis"]
[null,"Bezeichnung:","Szenario 2"]
[null,"Beschreibung","Beschreiben Sie hier Ihr Szenario 2! Hinweis: Die Werte in den neuen Szenarien wurden aus dem Basisszenario (Blatt Variable_Werte) übernommen. Sie können sie nach Ihren Vorstellungen verändern. "]
[null,null,null,null,null,null,null,null,null,null,null,"Default-Werte (Standard-Werte)"]
[]
[null,{"$f":"Variable_Werte!B7","v":"Modellbezeichnungen"}]
[null,null,"Desktop-PC",null,{"$f":"IF(Variable_Werte!E8<>\"\",Variable_Werte!E8,\"-\")","v":"Beispiel: Firma XY Modell A1"}]
[null,null,"Notebook",null,{"$f":"IF(Variable_Werte!E9<>\"\",Variable_Werte!E9,\"-\")","v":"  "}]
[null,null,"Mini-PC",null,{"$f":"IF(Variable_Werte!E10<>\"\",Variable_Werte!E10,\"-\")","v":"  "}]
[null,null,"Monitor",null,{"$f":"IF(Variable_Werte!E11<>\"\",Variable_Werte!E11,\"-\")","v":"  "}]
[]
[null,"Anzahl der Geräte [Stück]",null,null,"Anzahl der Geräte [Stück]","Anzahl der zugeordneten Monitore"]
[null,null,"APC-Desktop-PC",null,{"$f":"Variable_Werte!E14","v":100},{"$f":"Variable_Werte!F14","v":120}]
[null,null,"APC-Notebook",null,{"$f":"Variable_Werte!E15","v":50},{"$f":"Variable_Werte!F15","v":50}]
[null,null,"APC-Mini-PC",null,{"$f":"Variable_Werte!E16","v":70},{"$f":"Variable_Werte!F16","v":80}]
[null,null,"Summe ",null,{"$f":"IF(SUM(E14:E16)<>Variable_Werte!$E$17,\"Summe muss \"&(Variable_Werte!$E$17)&\" ergeben\", SUM(E14:E16))","v":220},{"$f":"SUM(F14:G16)","v":250}]
[]
[null,{"$f":"Variable_Werte!B19","v":"Nutzungsdauer [Jahre]"},null,null,null,null,null,null,null,null,null,{"$f":"Variable_Werte!L19","v":"Nutzungsdauer [Jahre]"}]
[null,null,"Desktop-PC",null,{"$f":"Variable_Werte!E20","v":6},null,null,null,null,null,null,null,"Desktop-PC",null,{"$f":"'Default-Werte'!$C$106","v":6}]
[null,null,"Notebook",null,{"$f":"Variable_Werte!E21","v":6},null,null,null,null,null,null,null,"Notebook",null,{"$f":"'Default-Werte'!$C$107","v":6}]
[null,null,"Mini-PC",null,{"$f":"Variable_Werte!E22","v":6},null,null,null,null,null,null,null,"Mini-PC",null,{"$f":"'Default-Werte'!$C$108","v":6}]
[null,null,"Monitor",null,{"$f":"Variable_Werte!E23","v":6},null,null,null,null,null,null,null,"Monitor",null,{"$f":"'Default-Werte'!$C$109","v":6}]
[]
[null,{"$f":"Variable_Werte!B25","v":"Anzahl der Austauschvorgänge von Komponenten je Gerät während der Nutzungsphase"},null,null,null,null,null,null,null,null,null,{"$f":"Variable_Werte!L25","v":"Anzahl der Austauschvorgänge von Komponenten je Gerät während der Nutzungsphase"}]
[null,null,null,null,"Ersatz HDD durch SSD","RAM hinzufügen","Wechsel des Akkus",null,null,null,null,null,null,null,"Ersatz HDD durch SSD","RAM hinzufügen","Wechsel des Akkus"]
[null,null,"Desktop-PC",null,{"$f":"Variable_Werte!E27","v":1},{"$f":"Variable_Werte!F27","v":1},{"$f":"Variable_Werte!G27","v":"-"},null,null,null,null,null,"Desktop-PC",null,{"$f":"'Default-Werte'!C100","v":1},{"$f":"'Default-Werte'!D100","v":1},{"$f":"'Default-Werte'!E100","v":"-"}]
[null,null,"Notebook",null,{"$f":"Variable_Werte!E28","v":1},{"$f":"Variable_Werte!F28","v":1},{"$f":"Variable_Werte!G28","v":1},null,null,null,null,null,"Notebook",null,{"$f":"'Default-Werte'!C101","v":1},{"$f":"'Default-Werte'!D101","v":1},1]
[null,null,"Mini-PC",null,{"$f":"Variable_Werte!E29","v":1},{"$f":"Variable_Werte!F29","v":1},{"$f":"Variable_Werte!G29","v":"-"},null,null,null,null,null,"Mini-PC",null,{"$f":"'Default-Werte'!C102","v":1},{"$f":"'Default-Werte'!D102","v":1},{"$f":"'Default-Werte'!E102","v":"-"}]
[]
[null,{"$f":"Variable_Werte!B31","v":"Prozentualer Anteil der Geräte, bei denen während der Nutzungsphase folgende Komponenten nachgerüstet bzw. ausgetauscht werden [%]"},null,null,null,null,null,null,null,null,null,{"$f":"Variable_Werte!L31","v":"Prozentualer Anteil der Geräte, bei denen während der Nutzungsphase folgende Komponenten nachgerüstet bzw. ausgetauscht werden [%]"}]
[null,null,null,null,"Ersatz HDD durch SSD","RAM hinzufügen","Wechsel des Akkus",null,null,null,null,null,null,null,"Ersatz HDD durch SSD","RAM hinzufügen","Wechsel des Akkus"]
[null,null,"Desktop-PC",null,{"$f":"Variable_Werte!E33","v":0},{"$f":"Variable_Werte!F33","v":0},{"$f":"Variable_Werte!G33","v":"-"},null,null,null,null,null,"Desktop-PC",null,{"$f":"'Default-Werte'!C$93","v":0},{"$f":"'Default-Werte'!D$93","v":0},{"$f":"'Default-Werte'!E$93","v":"-"}]
[null,null,"Notebook",null,{"$f":"Variable_Werte!E34","v":0},{"$f":"Variable_Werte!F34","v":0},{"$f":"Variable_Werte!G34","v":0.5},null,null,null,null,null,"Notebook",null,{"$f":"'Default-Werte'!C$94","v":0},{"$f":"'Default-Werte'!D$94","v":0},0.5]
[null,null,"Mini-PC",null,{"$f":"Variable_Werte!E35","v":0},{"$f":"Variable_Werte!F35","v":0},{"$f":"Variable_Werte!G35","v":"-"},null,null,null,null,null,"Mini-PC",null,{"$f":"'Default-Werte'!C$95","v":0},{"$f":"'Default-Werte'!D$95","v":0},{"$f":"'Default-Werte'!E$95","v":"-"}]
[]
[null,"Leistungsaufnahme: ",null,null,"Idle-Mode/Short-Idle-Mode","Sleep-Mode","Off-Mode",null,null,null,null,"Leistungsaufnahme: ",null,null,"Idle-Mode","Sleep-Mode","Off-Mode"]
[null,null,"Desktop [W]",null,{"$f":"Variable_Werte!E38","v":32.39},{"$f":"Variable_Werte!F38","v":2.08},{"$f":"Variable_Werte!G38","v":0.79},null,null,null,null,null,"Desktop [W]",null,{"$f":"'Default-Werte'!C118","v":32.39},{"$f":"'Default-Werte'!D118","v":2.08},{"$f":"'Default-Werte'!E118","v":0.79}]
[]
[]
[null,"Leistungsaufnahme: ",null,null,"Idle-Mode/Short-Idle-Mode","Sleep-Mode","Off-Mode",null,null,null,null,"Leistungsaufnahme: ",null,null,"Idle-Mode","Sleep-Mode","Off-Mode"]
[null,null,"Notebook [W]",null,{"$f":"Variable_Werte!E42","v":9.0399999999999991},{"$f":"Variable_Werte!F42","v":0.73499999999999999},{"$f":"Variable_Werte!G42","v":0.46},null,null,null,null,null,"Notebook [W]",null,{"$f":"'Default-Werte'!C121","v":9.0399999999999991},{"$f":"'Default-Werte'!D121","v":0.73499999999999999},{"$f":"'Default-Werte'!E121","v":0.46}]
[]
[]
[null,"Leistungsaufnahme: ",null,null,"Idle-Mode/Short-Idle-Mode","Sleep-Mode","Off-Mode",null,null,null,null,"Leistungsaufnahme: ",null,null,"Idle-Mode","Sleep-Mode","Off-Mode"]
[null,null,"Mini-PC [W]",null,{"$f":"Variable_Werte!E46","v":16.27},{"$f":"Variable_Werte!F46","v":1.72},{"$f":"Variable_Werte!G46","v":0.91},null,null,null,null,null,"Mini-PC [W]",null,{"$f":"'Default-Werte'!C124","v":16.27},{"$f":"'Default-Werte'!D124","v":1.72},{"$f":"'Default-Werte'!E124","v":0.91}]
[]
[]
[null,"Leistungsaufnahme: ",null,null,"Idle-Mode/Short-Idle-Mode","Sleep-Mode","Off-Mode",null,null,null,null,"Leistungsaufnahme: ",null,null,"Idle-Mode","Sleep-Mode","Off-Mode"]
[null,null,"Monitor [W]",null,{"$f":"Variable_Werte!E50","v":18.82},{"$f":"Variable_Werte!F50","v":0.5},{"$f":"Variable_Werte!G50","v":0.3},null,null,null,null,null,"Monitor [W]",null,{"$f":"'Default-Werte'!C127","v":18.82},{"$f":"'Default-Werte'!D127","v":0.5},{"$f":"'Default-Werte'!E127","v":0.3}]
[]
[]
[]
[]
[null,null,null,null," "]

{"sheet":"Szen3_Variablen","index":7,"n_rows":55,"n_cols":17,"rows_kept":55,"cut":false,"hidden":true,"merged":[[4,11,4,14],[5,11,5,14],[3,2,4,7],[30,1,30,7],[30,11,30,17],[9,4,9,6],[10,4,10,6],[1,6,1,7],[22,4,22,6],[22,14,22,16],[19,4,19,6],[19,14,19,16],[20,4,20,6],[20,14,20,16],[21,4,21,6],[21,14,21,16],[12,5,12,6],[13,5,13,6],[14,5,14,6],[15,5,15,6],[16,5,16,6],[7,4,7,6],[8,4,8,6]]}
[null,"Alternativszenario in dem variable Eingabedaten geändert werden können"]
[null,null,null,null,null,null,"Zurück zum Inhaltsverzeichnis"]
[null,"Bezeichnung:","Szenario 3"]
[null,"Beschreibung","Beschreiben Sie hier Ihr Szenario 3! Hinweis: Die Werte in den neuen Szenarien wurden aus dem Basisszenario (Blatt Variable_Werte) übernommen. Sie können sie nach Ihren Vorstellungen verändern. "]
[null,null,null,null,null,null,null,null,null,null,null,"Default-Werte (Standard-Werte)"]
[]
[null,{"$f":"Variable_Werte!B7","v":"Modellbezeichnungen"}]
[null,null,"Desktop-PC",null,{"$f":"IF(Variable_Werte!E8<>\"\",Variable_Werte!E8,\"-\")","v":"Beispiel: Firma XY Modell A1"}]
[null,null,"Notebook",null,{"$f":"IF(Variable_Werte!E9<>\"\",Variable_Werte!E9,\"-\")","v":"  "}]
[null,null,"Mini-PC",null,{"$f":"IF(Variable_Werte!E10<>\"\",Variable_Werte!E10,\"-\")","v":"  "}]
[null,null,"Monitor",null,{"$f":"IF(Variable_Werte!E11<>\"\",Variable_Werte!E11,\"-\")","v":"  "}]
[]
[null,"Anzahl der Geräte [Stück]",null,null,"Anzahl der Geräte [Stück]","Anzahl der zugeordneten Monitore"]
[null,null,"APC-Desktop-PC",null,{"$f":"Variable_Werte!E14","v":100},{"$f":"Variable_Werte!F14","v":120}]
[null,null,"APC-Notebook",null,{"$f":"Variable_Werte!E15","v":50},{"$f":"Variable_Werte!F15","v":50}]
[null,null,"APC-Mini-PC",null,{"$f":"Variable_Werte!E16","v":70},{"$f":"Variable_Werte!F16","v":80}]
[null,null,"Summe ",null,{"$f":"IF(SUM(E14:E16)<>Variable_Werte!$E$17,\"Summe muss \"&(Variable_Werte!$E$17)&\" ergeben\", SUM(E14:E16))","v":220},{"$f":"SUM(F14:G16)","v":250}]
[]
[null,{"$f":"Variable_Werte!B19","v":"Nutzungsdauer [Jahre]"},null,null,null,null,null,null,null,null,null,{"$f":"Variable_Werte!L19","v":"Nutzungsdauer [Jahre]"}]
[null,null,"Desktop-PC",null,{"$f":"Variable_Werte!E20","v":6},null,null,null,null,null,null,null,"Desktop-PC",null,{"$f":"'Default-Werte'!$C$106","v":6}]
[null,null,"Notebook",null,{"$f":"Variable_Werte!E21","v":6},null,null,null,null,null,null,null,"Notebook",null,{"$f":"'Default-Werte'!$C$107","v":6}]
[null,null,"Mini-PC",null,{"$f":"Variable_Werte!E22","v":6},null,null,null,null,null,null,null,"Mini-PC",null,{"$f":"'Default-Werte'!$C$108","v":6}]
[null,null,"Monitor",null,{"$f":"Variable_Werte!E23","v":6},null,null,null,null,null,null,null,"Monitor",null,{"$f":"'Default-Werte'!$C$109","v":6}]
[]
[null,{"$f":"Variable_Werte!B25","v":"Anzahl der Austauschvorgänge von Komponenten je Gerät während der Nutzungsphase"},null,null,null,null,null,null,null,null,null,{"$f":"Variable_Werte!L25","v":"Anzahl der Austauschvorgänge von Komponenten je Gerät während der Nutzungsphase"}]
[null,null,null,null,"Ersatz HDD durch SSD","RAM hinzufügen","Wechsel des Akkus",null,null,null,null,null,null,null,"Ersatz HDD durch SSD","RAM hinzufügen","Wechsel des Akkus"]
[null,null,"Desktop-PC",null,{"$f":"Variable_Werte!E27","v":1},{"$f":"Variable_Werte!F27","v":1},{"$f":"Variable_Werte!G27","v":"-"},null,null,null,null,null,"Desktop-PC",null,{"$f":"'Default-Werte'!C100","v":1},{"$f":"'Default-Werte'!D100","v":1},{"$f":"'Default-Werte'!E100","v":"-"}]
[null,null,"Notebook",null,{"$f":"Variable_Werte!E28","v":1},{"$f":"Variable_Werte!F28","v":1},{"$f":"Variable_Werte!G28","v":1},null,null,null,null,null,"Notebook",null,{"$f":"'Default-Werte'!C101","v":1},{"$f":"'Default-Werte'!D101","v":1},1]
[null,null,"Mini-PC",null,{"$f":"Variable_Werte!E29","v":1},{"$f":"Variable_Werte!F29","v":1},{"$f":"Variable_Werte!G29","v":"-"},null,null,null,null,null,"Mini-PC",null,{"$f":"'Default-Werte'!C102","v":1},{"$f":"'Default-Werte'!D102","v":1},{"$f":"'Default-Werte'!E102","v":"-"}]
[]
[null,{"$f":"Variable_Werte!B31","v":"Prozentualer Anteil der Geräte, bei denen während der Nutzungsphase folgende Komponenten nachgerüstet bzw. ausgetauscht werden [%]"},null,null,null,null,null,null,null,null,null,{"$f":"Variable_Werte!L31","v":"Prozentualer Anteil der Geräte, bei denen während der Nutzungsphase folgende Komponenten nachgerüstet bzw. ausgetauscht werden [%]"}]
[null,null,null,null,"Ersatz HDD durch SSD","RAM hinzufügen","Wechsel des Akkus",null,null,null,null,null,null,null,"Ersatz HDD durch SSD","RAM hinzufügen","Wechsel des Akkus"]
[null,null,"Desktop-PC",null,{"$f":"Variable_Werte!E33","v":0},{"$f":"Variable_Werte!F33","v":0},{"$f":"Variable_Werte!G33","v":"-"},null,null,null,null,null,"Desktop-PC",null,{"$f":"'Default-Werte'!C$93","v":0},{"$f":"'Default-Werte'!D$93","v":0},{"$f":"'Default-Werte'!E$93","v":"-"}]
[null,null,"Notebook",null,{"$f":"Variable_Werte!E34","v":0},{"$f":"Variable_Werte!F34","v":0},{"$f":"Variable_Werte!G34","v":0.5},null,null,null,null,null,"Notebook",null,{"$f":"'Default-Werte'!C$94","v":0},{"$f":"'Default-Werte'!D$94","v":0},0.5]
[null,null,"Mini-PC",null,{"$f":"Variable_Werte!E35","v":0},{"$f":"Variable_Werte!F35","v":0},{"$f":"Variable_Werte!G35","v":"-"},null,null,null,null,null,"Mini-PC",null,{"$f":"'Default-Werte'!C$95","v":0},{"$f":"'Default-Werte'!D$95","v":0},{"$f":"'Default-Werte'!E$95","v":"-"}]
[]
[null,"Leistungsaufnahme: ",null,null,"Idle-Mode/Short-Idle-Mode","Sleep-Mode","Off-Mode",null,null,null,null,"Leistungsaufnahme: ",null,null,"Idle-Mode","Sleep-Mode","Off-Mode"]
[null,null,"Desktop [W]",null,{"$f":"Variable_Werte!E38","v":32.39},{"$f":"Variable_Werte!F38","v":2.08},{"$f":"Variable_Werte!G38","v":0.79},null,null,null,null,null,"Desktop [W]",null,{"$f":"'Default-Werte'!C118","v":32.39},{"$f":"'Default-Werte'!D118","v":2.08},{"$f":"'Default-Werte'!E118","v":0.79}]
[]
[]
[null,"Leistungsaufnahme: ",null,null,"Idle-Mode/Short-Idle-Mode","Sleep-Mode","Off-Mode",null,null,null,null,"Leistungsaufnahme: ",null,null,"Idle-Mode","Sleep-Mode","Off-Mode"]
[null,null,"Notebook [W]",null,{"$f":"Variable_Werte!E42","v":9.0399999999999991},{"$f":"Variable_Werte!F42","v":0.73499999999999999},{"$f":"Variable_Werte!G42","v":0.46},null,null,null,null,null,"Notebook [W]",null,{"$f":"'Default-Werte'!C121","v":9.0399999999999991},{"$f":"'Default-Werte'!D121","v":0.73499999999999999},{"$f":"'Default-Werte'!E121","v":0.46}]
[]
[]
[null,"Leistungsaufnahme: ",null,null,"Idle-Mode/Short-Idle-Mode","Sleep-Mode","Off-Mode",null,null,null,null,"Leistungsaufnahme: ",null,null,"Idle-Mode","Sleep-Mode","Off-Mode"]
[null,null,"Mini-PC [W]",null,{"$f":"Variable_Werte!E46","v":16.27},{"$f":"Variable_Werte!F46","v":1.72},{"$f":"Variable_Werte!G46","v":0.91},null,null,null,null,null,"Mini-PC [W]",null,{"$f":"'Default-Werte'!C124","v":16.27},{"$f":"'Default-Werte'!D124","v":1.72},{"$f":"'Default-Werte'!E124","v":0.91}]
[]
[]
[null,"Leistungsaufnahme: ",null,null,"Idle-Mode/Short-Idle-Mode","Sleep-Mode","Off-Mode",null,null,null,null,"Leistungsaufnahme: ",null,null,"Idle-Mode","Sleep-Mode","Off-Mode"]
[null,null,"Monitor [W]",null,{"$f":"Variable_Werte!E50","v":18.82},{"$f":"Variable_Werte!F50","v":0.5},{"$f":"Variable_Werte!G50","v":0.3},null,null,null,null,null,"Monitor [W]",null,{"$f":"'Default-Werte'!C127","v":18.82},{"$f":"'Default-Werte'!D127","v":0.5},{"$f":"'Default-Werte'!E127","v":0.3}]
[]
[]
[]
[]
[null,null,null,null," "]

{"sheet":"UBA-Empfehlung","index":8,"n_rows":50,"n_cols":15,"rows_kept":50,"cut":false,"hidden":false,"merged":[[26,11,26,14],[22,4,22,6],[20,4,20,6],[21,4,21,6],[30,1,30,7],[28,10,28,16],[13,5,13,6],[12,5,12,6],[19,4,19,6],[1,6,1,7],[14,5,14,6],[15,5,15,6],[3,2,4,6],[8,4,8,6],[9,4,9,6],[10,4,10,6],[7,4,7,6],[16,5,16,6]]}
[null,"UBA-Empfehlung mit verlängerter Nutzungsdauer"]
[null,null,null,null,null,null,"Zurück zum Inhaltsverzeichnis"]
[null,"Bezeichnung:","UBA-Empfehlung ",null,"(Nutzungsdauer auf 6 verlängert, falls nicht bereits 6 oder mehr Jahre angesetzt wurden)"]
[null,"Beschreibung","Das UBA-Szenario wird automatisch aus Ihren Angaben in den Tabellenblättern Konstante_Werte und Variable_Werte erstellt. Es unterscheidet sich von Ihrem Basiszenario dadurch, dass die Nutzungsdauer auf 6 Jahre je Gerät verlängert wird, sofern Ihre Angaben im Basisszenario (Tabellenblatt Variable_Werte) darunter liegen. "]
[null,null,null,null,null,null,null,null,null,null,"Berechnung der neuen Nutzungsdauer für die UBA-Empfehlung"]
[]
[null,{"$f":"Variable_Werte!B7","v":"Modellbezeichnungen"}]
[null,null,"Desktop-PC",null,{"$f":"IF(Variable_Werte!E8<>\"\",Variable_Werte!E8,\"-\")","v":"Beispiel: Firma XY Modell A1"}]
[null,null,"Notebook",null,{"$f":"IF(Variable_Werte!E9<>\"\",Variable_Werte!E9,\"-\")","v":"  "}]
[null,null,"Mini-PC",null,{"$f":"IF(Variable_Werte!E10<>\"\",Variable_Werte!E10,\"-\")","v":"  "}]
[null,null,"Monitor",null,{"$f":"IF(Variable_Werte!E11<>\"\",Variable_Werte!E11,\"-\")","v":"  "}]
[]
[null,{"$f":"Variable_Werte!B13","v":"Anzahl aller Geräte [Stück]"},null,null,{"$f":"Variable_Werte!E13","v":"Anzahl der Geräte"},{"$f":"Variable_Werte!F13","v":"Anzahl der zugeordneten Monitore"}]
[null,null,"APC-Desktop-PC",null,{"$f":"Variable_Werte!E14","v":100},{"$f":"Variable_Werte!F14","v":120}]
[null,null,"APC-Notebook",null,{"$f":"Variable_Werte!E15","v":50},{"$f":"Variable_Werte!F15","v":50},null,null,null,null,null,"Nutzungsdauer für UBA-Empfehlung"]
[null,null,"APC-Mini-PC",null,{"$f":"Variable_Werte!E16","v":70},{"$f":"Variable_Werte!F16","v":80},null,null,null,null,"Vom Nutzer eingegebene Nutzungsdauer [Jahre]","Desktop-PC","Notebook","Mini-PC","Monitor"]
[null,null,"Summe ",null,{"$f":"SUM(E14:E16)","v":220},{"$f":"SUM(F14:G16)","v":250},null,null,null,null,1,6,6,6,6]
[null,null,null,null,null,null,null,null,null,null,2,6,6,6,6]
[null,"Geänderte Nutzungsdauer auf Basis der UBA-Empfehlung: Nutzungsdauer [Jahre]",null,null,null,null,null,null,null,null,3,6,6,6,6]
[null,null,"Desktop-PC",null,{"$f":"IF(Variable_Werte!$E$20=0,\"0\",IF(Variable_Werte!$E$20>10,Variable_Werte!$E$20,VLOOKUP(Variable_Werte!E20,$K$17:$O$26,2)))","v":6},null,null,null,null,null,4,6,6,6,6]
[null,null,"Notebook",null,{"$f":"IF(Variable_Werte!$E$21=0,\"0\",IF(Variable_Werte!$E$21>10,Variable_Werte!$E$21,VLOOKUP(Variable_Werte!E21,'UBA-Empfehlung'!$K$17:$O$26,3)))","v":6},null,null,null,null,null,5,6,6,6,6]
[null,null,"Mini-PC",null,{"$f":"IF(Variable_Werte!$E$22=0,\"0\",(IF(Variable_Werte!$E$22>10,Variable_Werte!$E$22,VLOOKUP(Variable_Werte!E22,'UBA-Empfehlung'!$K$17:$O$26,4))))","v":6},null,null,null,null,null,6,6,6,6,6]
[null,null,"Monitor",null,{"$f":"IF(Variable_Werte!$E$23=0,\"-\",IF(Variable_Werte!$E$23>10,Variable_Werte!$E$23,VLOOKUP(Variable_Werte!E23,'UBA-Empfehlung'!$K$17:$O$26,5)))","v":6},null,null,null,null,null,7,7,7,7,7]
[null,null,null,null,null,null,null,null,null,null,8,8,8,8,8]
[null,{"$f":"Variable_Werte!B25","v":"Anzahl der Austauschvorgänge von Komponenten je Gerät während der Nutzungsphase"},null,null,null,null,null,null,null,null,9,9,9,9,9]
[null,null,null,null,"Ersatz HDD durch SSD","RAM hinzufügen","Wechsel des Akkus",null,null,null,10,{"$f":"K26","v":10},{"$f":"K26","v":10},{"$f":"K26","v":10},10]
[null,null,"Desktop-PC",null,{"$f":"Variable_Werte!E27","v":1},{"$f":"Variable_Werte!F27","v":1},{"$f":"Variable_Werte!G27","v":"-"},null,null,null,">10","gleich wie beim Basis-Szenario"]
[null,null,"Notebook",null,{"$f":"Variable_Werte!E28","v":1},{"$f":"Variable_Werte!F28","v":1},{"$f":"Variable_Werte!G28","v":1},null,null,null,"Zum Vergleich"]
[null,null,"Mini-PC",null,{"$f":"Variable_Werte!E29","v":1},{"$f":"Variable_Werte!F29","v":1},{"$f":"Variable_Werte!G29","v":"-"},null,null,null,"Nutzungsdauer (Jahre), die durch Nutzer im Basisszenario (BS) angegeben wurden"]
[null,null,null,null,null,null,null,null,null,null,{"$f":"Variable_Werte!C20","v":"Desktop-PC"},{"$f":"Variable_Werte!E20","v":6}]
[null,{"$f":"Variable_Werte!B31","v":"Prozentualer Anteil der Geräte, bei denen während der Nutzungsphase folgende Komponenten nachgerüstet bzw. ausgetauscht werden [%]"},null,null,null,null,null,null,null,null,{"$f":"Variable_Werte!C21","v":"Notebook"},{"$f":"Variable_Werte!E21","v":6}]
[null,null,null,null,"Ersatz HDD durch SSD","RAM hinzufügen","Wechsel des Akkus",null,null,null,{"$f":"Variable_Werte!C22","v":"Mini-PC"},{"$f":"Variable_Werte!E22","v":6}]
[null,null,"Desktop-PC",null,{"$f":"Variable_Werte!E33","v":0},{"$f":"Variable_Werte!F33","v":0},{"$f":"Variable_Werte!G33","v":"-"},null,null,null,{"$f":"Variable_Werte!C23","v":"Monitor"},{"$f":"Variable_Werte!E23","v":6}]
[null,null,"Notebook",null,{"$f":"Variable_Werte!E34","v":0},{"$f":"Variable_Werte!F34","v":0},{"$f":"Variable_Werte!G34","v":0.5}]
[null,null,"Mini-PC",null,{"$f":"Variable_Werte!E35","v":0},{"$f":"Variable_Werte!F35","v":0},{"$f":"Variable_Werte!G35","v":"-"}]
[]
[null,"Leistungsaufnahme: ",null,null,"Idle-Mode/Short-Idle-Mode","Sleep-Mode","Off-Mode"]
[null,null,"Desktop [W]",null,{"$f":"Variable_Werte!E38","v":32.39},{"$f":"Variable_Werte!F38","v":2.08},{"$f":"Variable_Werte!G38","v":0.79}]
[]
[]
[null,"Leistungsaufnahme: ",null,null,"Idle-Mode/Short-Idle-Mode","Sleep-Mode","Off-Mode"]
[null,null,"Notebook [W]",null,{"$f":"Variable_Werte!E42","v":9.0399999999999991},{"$f":"Variable_Werte!F42","v":0.73499999999999999},{"$f":"Variable_Werte!G42","v":0.46}]
[]
[]
[null,"Leistungsaufnahme: ",null,null,"Idle-Mode/Short-Idle-Mode","Sleep-Mode","Off-Mode"]
[null,null,"Mini-PC [W]",null,{"$f":"Variable_Werte!E46","v":16.27},{"$f":"Variable_Werte!F46","v":1.72},{"$f":"Variable_Werte!G46","v":0.91}]
[]
[]
[null,"Leistungsaufnahme: ",null,null,"Idle-Mode/Short-Idle-Mode","Sleep-Mode","Off-Mode"]
[null,null,"Monitor [W]",null,{"$f":"Variable_Werte!E50","v":18.82},{"$f":"Variable_Werte!F50","v":0.5},{"$f":"Variable_Werte!G50","v":0.3}]

{"sheet":"Berechnung_BasisS","index":9,"n_rows":192,"n_cols":15,"rows_kept":192,"cut":false,"hidden":true,"merged":[[160,14,161,14],[177,3,177,7],[177,10,178,10],[177,11,178,11],[177,12,178,13],[177,14,178,14],[160,3,160,7],[160,8,160,9],[160,10,161,10],[160,11,161,11],[160,12,161,13],[177,8,177,9],[143,3,143,7],[143,10,144,10],[143,11,144,11],[143,12,144,13],[143,14,144,14],[143,8,143,9],[108,3,108,4],[46,3,46,6],[41,3,41,5],[47,3,47,6],[42,3,42,5],[48,3,48,6],[43,3,43,5],[49,3,49,6],[44,3,44,5],[70,3,71,12],[105,3,105,4],[106,3,106,4],[107,3,107,4],[40,3,40,5],[31,8,31,11],[1,3,1,4],[1,5,1,7],[4,2,4,3],[5,2,5,3],[31,2,31,5]]}
[null,"Berechnung der CO2-Äquivalente und der Kosten"]
[null,null,null,null,null,"Zurück zum Inhaltsverzeichnis"]
[null,{"$f":"Variable_Werte!B3","v":"Bezeichnung:"},null,{"$f":"Variable_Werte!C3","v":"Basisszenario"}]
[null,"1. Feste Daten"]
[null,null,{"$f":"'Default-Werte'!B4","v":"Anzahl von Arbeitstagen/Jahr"},null,203,"d/a"]
[null,null,{"$f":"'Default-Werte'!B5","v":"Betrachtungszeitraum [Jahr]"},null,{"$f":"IF(Konstante_Werte!E16<>\"0\", Konstante_Werte!E16, Konstante_Werte!L16)","v":10},"Jahre"]
[]
[null,null,{"$f":"Konstante_Werte!C18","v":"Strompreis: [€/kWh]"},null,null,null,{"$f":"Konstante_Werte!E18","v":0.21199999999999999}]
[null,null,{"$f":"Konstante_Werte!C19","v":"Reale Preissteigerungsrate Strom: [%/Jahr]"},null,null,null,{"$f":"Konstante_Werte!E19","v":5.7596822244290191E-3}]
[]
[null,null,"Durchschnittlicher Verwaltungsaufwand eines Beschaffungszyklus",null,null,null,null,{"$f":"Konstante_Werte!E59","v":"Höherer Dienst"},{"$f":"Konstante_Werte!F59","v":"Gehobener Dienst "},{"$f":"Konstante_Werte!G59","v":"Mittlerer Dienst"},"Summe"]
[null,null,{"$f":"Konstante_Werte!C60","v":"Personalaufwand [d/Stück]"},null,null,null,null,{"$f":"Konstante_Werte!$E$60","v":1.1619999999999998E-2},{"$f":"Konstante_Werte!F60","v":8.7660000000000002E-2},{"$f":"Konstante_Werte!G60","v":0.18442},{"$f":"SUM(H12:J12)","v":0.28370000000000001}]
[null,null,"Personalkosten pro Gerät [EUR/Stck]",null,null,null,null,{"$f":"$H$12*Konstante_Werte!E55","v":6.2047313999999991},{"$f":"$I$12*Konstante_Werte!F55","v":35.8450506},{"$f":"$J$12*Konstante_Werte!G55","v":52.576297799999999},{"$f":"SUM(H13:J13)","v":94.626079799999999}]
[null,null,"Sach- und Gemeinkosten pro Gerät [EUR/Stck]",null,null,null,null,{"$f":"$H$12*Konstante_Werte!E56","v":4.0034385999999991},{"$f":"$I$12*Konstante_Werte!F56","v":26.035019999999999},{"$f":"$J$12*Konstante_Werte!G56","v":46.095779},{"$f":"SUM(H14:J14)","v":76.134237600000006}]
[]
[null,null,{"$f":"Konstante_Werte!B47","v":"Anteil Nutzer nach Nutzungsintensität"},{"$f":"Konstante_Werte!C48","v":"Hohe Nutzungsintensität [%]"},{"$f":"Konstante_Werte!C49","v":"Mittlere Nutzungsintensität [%]"},{"$f":"Konstante_Werte!C50","v":"Geringe Nutzungsintensität [%]"}]
[null,null,"Geräte ",{"$f":"Konstante_Werte!E48","v":0.25},{"$f":"Konstante_Werte!E49","v":0.5},{"$f":"Konstante_Werte!E50","v":0.25}]
[]
[null,"2. Variable Daten"]
[null,null,{"$f":"Variable_Werte!B13","v":"Anzahl aller Geräte [Stück]"},{"$f":"Variable_Werte!E13","v":"Anzahl der Geräte"},{"$f":"Variable_Werte!F13","v":"Anzahl der zugeordneten Monitore"}]
[null,null,{"$f":"Variable_Werte!C14","v":"APC-Desktop-PC"},{"$f":"Variable_Werte!E14","v":100},{"$f":"Variable_Werte!F14","v":120}]
[null,null,{"$f":"Variable_Werte!C15","v":"APC-Notebook"},{"$f":"Variable_Werte!E15","v":50},{"$f":"Variable_Werte!F15","v":50}]
[null,null,{"$f":"Variable_Werte!C16","v":"APC-Mini-PC"},{"$f":"Variable_Werte!E16","v":70},{"$f":"Variable_Werte!F16","v":80}]
[null,null,{"$f":"Variable_Werte!C17","v":"Summe "},{"$f":"Variable_Werte!E17","v":220},{"$f":"SUM(E21:E23)","v":250}]
[]
[null,null,{"$f":"Variable_Werte!$B$19","v":"Nutzungsdauer [Jahre]"}]
[null,null,{"$f":"Variable_Werte!C20","v":"Desktop-PC"},{"$f":"Variable_Werte!E20","v":6}]
[null,null,{"$f":"Variable_Werte!C21","v":"Notebook"},{"$f":"Variable_Werte!E21","v":6}]
[null,null,{"$f":"Variable_Werte!C22","v":"Mini-PC"},{"$f":"Variable_Werte!E22","v":6}]
[null,null,{"$f":"Variable_Werte!C23","v":"Monitor"},{"$f":"Variable_Werte!E23","v":6}]
[]
[null,null,{"$f":"Variable_Werte!B31","v":"Prozentualer Anteil der Geräte, bei denen während der Nutzungsphase folgende Komponenten nachgerüstet bzw. ausgetauscht werden [%]"},null,null,null,null,null,{"$f":"Variable_Werte!B25","v":"Anzahl der Austauschvorgänge von Komponenten je Gerät während der Nutzungsphase"}]
[null,null,null,{"$f":"Variable_Werte!E32","v":"Ersatz HDD durch SSD"},{"$f":"Variable_Werte!F32","v":"RAM hinzufügen"},{"$f":"Variable_Werte!G32","v":"Wechsel des Akkus"},null,null,null,{"$f":"Variable_Werte!E26","v":"Ersatz HDD durch SSD"},{"$f":"Variable_Werte!F26","v":"RAM hinzufügen"},{"$f":"Variable_Werte!G26","v":"Wechsel des Akkus"}]
[null,null,{"$f":"Variable_Werte!C33","v":"Desktop-PC"},{"$f":"Variable_Werte!E33","v":0},{"$f":"Variable_Werte!F33","v":0},{"$f":"Variable_Werte!G33","v":"-"},null,null,{"$f":"Variable_Werte!C27","v":"Desktop-PC"},{"$f":"Variable_Werte!E27","v":1},{"$f":"Variable_Werte!F27","v":1},{"$f":"Variable_Werte!G27","v":"-"}]
[null,null,{"$f":"Variable_Werte!C34","v":"Notebook"},{"$f":"Variable_Werte!E34","v":0},{"$f":"Variable_Werte!F34","v":0},{"$f":"Variable_Werte!G34","v":0.5},null,null,{"$f":"Variable_Werte!C28","v":"Notebook"},{"$f":"Variable_Werte!E28","v":1},{"$f":"Variable_Werte!F28","v":1},{"$f":"Variable_Werte!G28","v":1}]
[null,null,{"$f":"Variable_Werte!C35","v":"Mini-PC"},{"$f":"Variable_Werte!E35","v":0},{"$f":"Variable_Werte!F35","v":0},{"$f":"Variable_Werte!G35","v":"-"},null,null,{"$f":"Variable_Werte!C29","v":"Mini-PC"},{"$f":"Variable_Werte!E29","v":1},{"$f":"Variable_Werte!F29","v":1},{"$f":"Variable_Werte!G29","v":"-"}]
[]
[null,"3. Ergebnisse"]
[null,"3.1 Stromverbrauch während der Nutzung"]
[null,null,"Stromverbrauch pro Gerät während der Nutzung [kWh/Gerät/Betrachtungsraum]"]
[null,null,"IT-Gerät","kWh/Gerät/Betrachtungsraum"]
[null,null,"Desktop-PC",{"$f":"$D$125","v":415.33979493344253}]
[null,null,"Notebook",{"$f":"$E$125","v":131.45326399640874}]
[null,null,"Mini-PC",{"$f":"$F$125","v":244.40998035011251}]
[null,null,"Monitor",{"$f":"$G$125","v":226.618291286035}]
[]
[null,null,"Arbeitsplatztyp","kWh/Betrachtungsraum"]
[null,null,"APC mit Desktop-PC",{"$f":"D42*$D21+$D$45*$E21","v":68728.174447668454}]
[null,null,"APC mit Notebook",{"$f":"D43*$D22+$D$45*$E22","v":17903.577764122187}]
[null,null,"APC mit Mini-PC",{"$f":"D44*$D23+$D$45*$E23","v":35238.161927390676}]
[]
[null,"3.2 GWP-Ergebnisse bezogen auf alle Geräte des Typs über den Betrachtungszeitraum"]
[null,null,"kg CO2e / Betrachtungszeitraum","APC mit Desktop \n(incl. zugehöriger Monitore)","APC mit Notebook \n(incl. zugehöriger Monitore)","APC mit Mini-PC \n(incl. zugehöriger Monitore)","Summe",null,"GWP der Lebensphasen in % bezogen auf den Arbeitsplatztyp / Betrachtungszeitraum","APC mit Desktop \n(incl. zugehöriger Monitore)","APC mit Notebook \n(incl. zugehöriger Monitore)","APC mit Mini-PC \n(incl. zugehöriger Monitore)","% (Summe)"]
[null,null,"Herstellung",{"$f":"IF(OR($D$21>0,$E$21>0),('Default-Werte'!$D$24+$D$34*$J$34*'Default-Werte'!$C$26+$E$34*$K$34*'Default-Werte'!$C$12)*$J$91*$D$21+'Default-Werte'!$D$25*$E$21*$J$94,0)","v":75456.666666666657},{"$f":"IF(OR($D$22>0,$E$22>0),('Default-Werte'!$D$47+'Default-Werte'!$C$39*$D$35*$J$35+'Default-Werte'!$C$30*$E$35*$K$35+'Default-Werte'!$C$38*$F$35*$L$35)*$J$92*$D$22+'Default-Werte'!$D$48*$J$94*$E$22,0)","v":28554.166666666672},{"$f":"IF(OR($D$23>0,$E$23>0),('Default-Werte'!$D$67+'Default-Werte'!$C$60*$D$36*$J$36+'Default-Werte'!$C$53*$E$36*$K$36)*$J$93*$D$23+$E$23*$J$94*'Default-Werte'!$D$68,0)","v":33985},{"$f":"SUM(D54:F54)","v":137995.83333333331},null,"Herstellung",{"$f":"IF($D$58=0,0,D54/$D$58)","v":0.61493739598179264},{"$f":"IF($E$58=0,0,E54/$E$58)","v":0.70007965543303174},{"$f":"IF($F$58=0,0,F54/$F$58)","v":0.58708732596832192},{"$f":"G54/$G$58","v":0.62334160174481446}]
[null,null,"Distribution",{"$f":"IF(OR($D$21>0,$E$21>0),('Default-Werte'!$C$72+$D$34*$J$34*'Default-Werte'!$C$78+$E$34*$K$34*'Default-Werte'!$C$77)*$J$91*$D$21+$J$94*$E$21*'Default-Werte'!$C$75,0)","v":3528},{"$f":"IF(OR($D$22>0,$E$22>0),('Default-Werte'!$C$73+'Default-Werte'!$C$78*$D$35*$J$35+'Default-Werte'!$C$77*$E$35*$K$35+'Default-Werte'!$C$76*$F$35*$L$35)*$J$92*$D$22+$J$94*$E$22*'Default-Werte'!$C$75,0)","v":865.29166666666674},{"$f":"IF(OR($D$23>0,$E$23>0),('Default-Werte'!$C$74+'Default-Werte'!$C$78*$D$36*$J$36+'Default-Werte'!$C$77*$E$36*$K$36)*$J$93*$D$23+$J$94*$E$23*'Default-Werte'!$C$75,0)","v":1678.5},{"$f":"SUM(D55:F55)","v":6071.791666666667},null,"Distribution",{"$f":"IF($D$58=0,0,D55/$D$58)","v":2.8751589870880834E-2},{"$f":"IF($E$58=0,0,E55/$E$58)","v":2.1214875535353523E-2},{"$f":"IF($F$58=0,0,F55/$F$58)","v":2.8995912215325239E-2},{"$f":"G55/$G$58","v":2.7426917549158977E-2}]
[null,null,"Nutzung",{"$f":"IF(OR($D$21>0,$E$21>0),$D$48*Konstante_Werte!$E$17,0)","v":42748.924506449781},{"$f":"IF(OR($D$22>0,$E$22>0),$D$49*Konstante_Werte!$E$17,0)","v":11136.025369284},{"$f":"IF(OR($D$23>0,$E$23>0),$D$50*Konstante_Werte!$E$17,0)","v":21918.136718837002},{"$f":"SUM(D56:F56)","v":75803.086594570777},null,"Nutzung",{"$f":"IF($D$58=0,0,D56/$D$58)","v":0.34838422472525254},0.27302862291277424,0.37863352292099761,0.34241046467630515]
[null,null,"Entsorgung",{"$f":"IF(OR($D$21>0,$E$21>0),('Default-Werte'!$C$82+$D$34*$J$34*'Default-Werte'!$C$88+$E$34*$K$34*'Default-Werte'!$C$87)*$J$91*$D$21+$J$94*$E$21*'Default-Werte'!$C$85,0)","v":972.66666666666663},{"$f":"IF(OR($D$22>0,$E$22>0),('Default-Werte'!$C$83+'Default-Werte'!$C$88*$D$35*$J$35+'Default-Werte'!$C$87*$E$35*$K$35+'Default-Werte'!$C$86*$F$35*$L$35)*$J$92*$D$22+$J$94*$E$22*'Default-Werte'!$C$85,0)","v":231.54166666666669},{"$f":"IF(OR($D$23>0,$E$23>0),('Default-Werte'!$C$84+'Default-Werte'!$C$88*$D$36*$J$36+'Default-Werte'!$C$87*$E$36*$K$36)*$J$93*$D$23+$J$94*$E$23*'Default-Werte'!$C$85,0)","v":305.83333333333337},{"$f":"SUM(D57:F57)","v":1510.0416666666665},null,"Entsorgung",{"$f":"IF($D$58=0,0,D57/$D$58)","v":7.9267894220739106E-3},5.6768461188404454E-3,5.2832388953551607E-3,6.8210160297212542E-3]
[null,null,"Summe",{"$f":"SUM(D54:D57)","v":122706.25783978311},{"$f":"SUM(E54:E57)","v":40787.025369284005},{"$f":"SUM(F54:F57)","v":57887.470052170342},{"$f":"SUM(D58:F58)","v":221380.75326123746},null,"Summe",{"$f":"SUM(J54:J57)","v":1},{"$f":"SUM(K54:K57)","v":0.99999999999999989},{"$f":"SUM(L54:L57)","v":1},{"$f":"SUM(M54:M57)","v":0.99999999999999978}]
[]
[null,"3.3 Kosten-Ergebnisse bezogen auf Betrachtungszeitraum und je Haushaltsjahr"]
[null,null,"Lebenszykluskosten-Ergebnisse bezogen auf Betrachtungszeitraum"]
[null,null,"Kosten in EURO / Betrachtungszeitraum","APC mit Desktop","APC mit Notebook","APC mit Mini-PC","Summe",null,"Kosten in % / Betrachtungszeitraum","APC mit Desktop","APC mit Notebook","APC mit Mini-PC","% (Summe)"]
[null,null,"Anschaffungskosten",{"$f":"IF(OR($D$21>0,$E$21>0),(Konstante_Werte!$E$63+$D$34*$J$34*Konstante_Werte!$E$67+$E$34*$K$34*Konstante_Werte!$E$68)*$J$91*$D$21+Konstante_Werte!$E$66*$J$94*$E$21,0)","v":89800},{"$f":"IF(OR($D$22>0,$E$22>0),(Konstante_Werte!$E$64+Konstante_Werte!$E$67*$D$35*$J$35+Konstante_Werte!$E$68*$E$35*$K$35+Konstante_Werte!$E$69*$F$35*$L$35)*$J$92*$D$22+Konstante_Werte!$E$66*$J$94*$E$22,0)","v":54791.666666666672},{"$f":"IF(OR($D$23>0,$E$23>0),(Konstante_Werte!$E$65+Konstante_Werte!$E$67*$D$36*$J$36+Konstante_Werte!$E$68*$E$36*$K$36)*$J$93*$D$23+Konstante_Werte!$E$66*$J$94*$E$23,0)","v":63116.666666666672},{"$f":"SUM(D63:F63)","v":207708.33333333337},null,{"$f":"C63","v":"Anschaffungskosten"},{"$f":"IF($D$67=0,0,D63/$D$67)","v":0.53664676383001952},{"$f":"IF($E$67=0,0,E63/$E$67)","v":0.62878314476680031},{"$f":"IF($F$67=0,0,F63/$F$67)","v":0.55629895681568731},{"$f":"G63/$G$67","v":0.56452792540612851}]
[null,null,"Energiekosten",{"$f":"IF(OR($D$21>0,$E$21>0),D141*$D$21+$G$141*$E21,0)","v":14923.281972357818},{"$f":"IF(OR($D$22>0,$E$22>0),(E141*$D$22+$G$141*$E$22),0)","v":3887.4907042885206},{"$f":"IF(OR($D$23>0,$E$23>0),(F141*$D$23+$G$141*$E$23),0)","v":7651.4330673873246},{"$f":"SUM(D64:F64)","v":26462.205744033665},null,{"$f":"C64","v":"Energiekosten"},{"$f":"IF($D$67=0,0,D64/$D$67)","v":8.9181859423036677E-2},{"$f":"IF($E$67=0,0,E64/$E$67)","v":4.4612416066206646E-2},{"$f":"IF($F$67=0,0,F64/$F$67)","v":6.7438355957738949E-2},{"$f":"G64/$G$67","v":7.1921303640599205E-2}]
[null,null,"Bruttopersonalkosten",{"$f":"IF(OR($D$21>0,$E$21>0),($K$13)*($J$91*$D$21+$E$21*$J$94),0)","v":34696.22926},{"$f":"IF(OR($D$22>0,$E$22>0),($K$13)*($J$92*$D$22+$E$22*$J$94),0)","v":15771.013300000002},{"$f":"IF(OR($D$23>0,$E$23>0),($K$13)*($J$93*$D$23+$E$23*$J$94),0)","v":23656.519949999998},{"$f":"SUM(D65:F65)","v":74123.76251},null,"Bruttopersonalkosten",0.20734542482720972,0.18098641531132531,0.2085043153431396,0.20146006277905809]
[null,null,"Sach-und Gemeinkosten",{"$f":"IF(OR($D$21>0,$E$21>0),($K$14)*($J$91*$D$21+$E$21*$J$94),0)","v":27915.887120000003},{"$f":"IF(OR($D$22>0,$E$22>0),($K$14)*($J$92*$D$22+$E$22*$J$94),0)","v":12689.039600000002},{"$f":"IF(OR($D$23>0,$E$23>0),($K$14)*($J$93*$D$23+$E$23*$J$94),0)","v":19033.559400000002},{"$f":"SUM(D66:F66)","v":59638.486120000001},null,"Sach-und Gemeinkosten",0.16682595191973412,0.14561802385566774,0.16775837188343418,0.16209070817421439]
[null,null,"Summe",{"$f":"SUM(D63:D66)","v":167335.39835235782},{"$f":"SUM(E63:E66)","v":87139.210270955198},{"$f":"SUM(F63:F66)","v":113458.17908405399},{"$f":"SUM(D67:F67)","v":367932.78770736698},null,"Summe",{"$f":"SUM(J63:J66)","v":1},{"$f":"SUM(K63:K66)","v":1},{"$f":"SUM(L63:L66)","v":1},{"$f":"SUM(M63:M66)","v":1.0000000000000002}]
[]
[null,null,"Kosten je Haushaltsjahr"]
[null,null,"Haushaltplan: erforderliche Haushaltsmittel (in €) je Haushaltsjahr im Betrachtungszeitraum"]
[null,null,"Hinweis: ","Die Summe kann höher sein als die  Lebenszykluskosten. Bei den Lebenszykluskosten wird die letzte Beschaffung einer Komponente nur anteilig einbezogen, sofern der Betrachtungszeitraum kein ganzzahliges Vielfaches der angenommenen Nutzungsdauer der Komponente ist."]
[]
[null,null,"Kosten in EURO / Betrachtungszeitraum","APC mit Desktop","APC mit Notebook","APC mit Mini-PC","Summe",null,"Kosten: Anteil der Ausstattung in % innerhalb eines Jahres","APC mit Desktop","APC mit Notebook","APC mit Mini-PC","Summe"]
[null,null,{"$f":"C146","v":1},{"$f":"IF(C74<=$F$89,M146,\"-\")","v":93076.998458400005},{"$f":"IF(C74<=$F$89,M163,\"-\")","v":48500.573400000001},{"$f":"IF(C74<=$F$89,M180,\"-\")","v":64319.6385716},{"$f":"IF(C74<=$F$89,(IF(SUM(D74:F74)>=0,SUM(D74:F74),0)),\"-\")","v":205897.21043000001},null,{"$f":"C74","v":1},{"$f":"IF(C74<=$F$89,(IF(G74=0,0,D74/$G$74)),\"-\")","v":0.45205565565466416},{"$f":"IF(C74<=$F$89,(IF(G74=0,0,E74/$G$74)),\"-\")","v":0.23555721468353261},{"$f":"IF(C74<=$F$89,(IF(G74=0,0,F74/$G$74)),\"-\")","v":0.31238712966180326},{"$f":"IF(C74<=$F$89,SUM(J74:L74),\"-\")","v":1}]
[null,null,2,1639.115349423158,426.98688505263158,840.40370000842108,2906.5059344842102,null,{"$f":"C75","v":2},{"$f":"IF(C75<=$F$89,(IF(G75=0,0,D75/$G$74)),\"-\")","v":7.9608429176869153E-3},2.0737866441264711E-3,{"$f":"IF(C75<=$F$89,(IF(G75=0,0,F75/$G$74)),\"-\")","v":4.0816662753871439E-3},{"$f":"IF(C75<=$F$89,SUM(J75:L75),\"-\")","v":1.4116295837200532E-2}]
[null,null,3,1648.5561329650193,2304.4461938245336,845.2441582607039,4798.2464850502565,null,3,8.0066948431313876E-3,1.1192216684295432E-2,4.1051753760795425E-3,2.3304086903506362E-2]
[null,null,4,{"$f":"IF(C77<=$F$89,M149,\"-\")","v":1658.0512924200311},431.91966743345341,850.11249601434054,2940.0834558678253,null,4,8.0528108610957976E-3,2.0977441439416467E-3,4.1288198817213111E-3,1.4279374886758756E-2]
[null,null,5,1667.6011409761745,434.40738746435125,855.00887384639941,2957.0174022869251,null,5,8.0991924926691414E-3,2.1098264835989079E-3,4.152600572201931E-3,1.436161954846998E-2]
[null,null,6,1677.2059936252924,436.90943597209019,859.9334532588216,2974.0488828562038,null,6,8.1458412677013967E-3,2.1219784136931211E-3,4.1765182319027962E-3,1.4444337913297314E-2]
[null,null,7,92687.271468058898,48399.050152301024,64119.818586514099,205206.14020687403,null,7,0.45016283258276729,0.23506413734903667,0.31141664548346693,0.99664361541527091]
[null,null,8,1247.143655463412,324.8788957085165,639.43281530633635,2211.4553664782648,null,8,6.0571177863889035E-3,1.5778693408717518E-3,3.1055924165797662E-3,1.0740579543840421E-2]
[null,null,9,1254.3268066070943,2201.7500949092209,643.11574512637299,4099.1926466426885,null,9,6.0920048600344428E-3,1.069344305496437E-2,3.1234796420178627E-3,1.9908927557016676E-2]
[null,null,10,1261.5513304187341,328.63207162270021,646.81988745182775,2237.0032894932619,null,10,6.1270928721379181E-3,1.5960977370037125E-3,3.141469892190359E-3,1.086466050133199E-2]
[null,null,11,"-","-","-",{"$f":"IF(C84<=$F$89,(IF(SUM(D84:F84)>=0,SUM(D84:F84),0)),\"-\")","v":"-"},null,11,"-",{"$f":"IF(C84<=$F$89,(IF(G84=0,0,E84/$G$74)),\"-\")","v":"-"},"-","-"]
[null,null,12,"-","-","-",{"$f":"IF(C85<=$F$89,(IF(SUM(D85:F85)>=0,SUM(D85:F85),0)),\"-\")","v":"-"},null,12,"-","-","-","-"]
[]
[null,"4.Berechnungsweg: Stromverbrauch und Energiekosten"]
[null,null,"Berechnung des Stromverbrauchs innerhalb des Betrachtungszeitraums"]
[null,null,"Betrachtungszeitraum",null,null,{"$f":"E6","v":10},"Jahre"]
[null,null,{"$f":"C26","v":"Nutzungsdauer [Jahre]"},null,null,null,null,null,"IT-Gerät","Anzahl Beschaffungszyklen im Betrachtungszeitraum","Einheit"]
[null,null,null,"Desktop-PC",null,{"$f":"D27","v":6},"Jahre",null,"Desktop-PC",{"$f":"IF(D21<>0,$E$6/D27, \"0\")","v":1.6666666666666667},"Zahl Beschaffungszyklen "]
[null,null,null,"Notebook",null,{"$f":"D28","v":6},"Jahre",null,"Notebook",{"$f":"IF(D22<>0,$E$6/D28, \"0\")","v":1.6666666666666667},"Zahl Beschaffungszyklen "]
[null,null,null,"Mini-PC",null,{"$f":"D29","v":6},"Jahre",null,"Mini-PC",{"$f":"IF(D23<>0,$E$6/D29, \"0\")","v":1.6666666666666667},"Zahl Beschaffungszyklen "]
[null,null,null,"Monitor",null,{"$f":"D30","v":6},"Jahre",null,"Monitor",{"$f":"IF(D30<>0,$E$6/D30, \"0\")","v":1.6666666666666667},"Zahl Beschaffungszyklen "]
[null,null,"Energieeffizienzsteigerung von 5% pro Jahr",null,null,0.05]
[]
[null,null,"Stromverbrauch","Wh je Gerät und Kalendertag",null,null,null,null,"Stromverbrauch","kWh je Gerät und Jahr im ersten Jahr"]
[null,null,"IT-Gerät","Hohe Nutzungsintensität ","Mittlere Nutzungsintensität ","Geringe Nutzungsintensität ",null,null,"IT-Gerät","Hohe Nutzungsintensität ","Mittlere Nutzungsintensität ","Geringe Nutzungsintensität "]
[null,null,"Desktop-PC",{"$f":"IF($D$21>0,SUMPRODUCT(Konstante_Werte!$E$28:$G$28,Variable_Werte!$E$38:$G$38),0)","v":259.185},{"$f":"IF($D$21>0,SUMPRODUCT(Konstante_Werte!$E$29:$G$29,Variable_Werte!$E$38:$G$38),0)","v":213.72},{"$f":"IF($D$21>0,SUMPRODUCT(Konstante_Werte!$E$30:$G$30,Variable_Werte!$E$38:$G$38),0)","v":168.255},null,null,"Desktop-PC",{"$f":"IF($D$21>0,(D$99*$E$5+Variable_Werte!$G$38*24*(365-$E$5))/1000,0)","v":55.686074999999995},{"$f":"IF($D$21>0,(E$99*$E$5+Variable_Werte!$G$38*24*(365-$E$5))/1000,0)","v":46.456679999999992},{"$f":"IF($D$21>0,(F$99*$E$5+Variable_Werte!$G$38*24*(365-$E$5))/1000,0)","v":37.227284999999995}]
[null,null,"Notebook",{"$f":"IF($D$22>0,SUMPRODUCT(Konstante_Werte!$E$33:$G$33,Variable_Werte!$E$42:$G$42),0)","v":76.077500000000001},{"$f":"IF($D$22>0,SUMPRODUCT(Konstante_Werte!$E$34:$G$34,Variable_Werte!$E$42:$G$42),0)","v":63.61999999999999},{"$f":"IF($D$22>0,SUMPRODUCT(Konstante_Werte!$E$35:$G$35,Variable_Werte!$E$42:$G$42),0)","v":51.162499999999987},null,null,"Notebook",{"$f":"IF($D$22>0,(D$100*$E$5+Variable_Werte!$G$42*24*(365-$E$5))/1000,0)","v":17.232212500000003},{"$f":"IF($D$22>0,(E$100*$E$5+Variable_Werte!$G$42*24*(365-$E$5))/1000,0)","v":14.703339999999999},{"$f":"IF($D$22>0,(F$100*$E$5+Variable_Werte!$G$42*24*(365-$E$5))/1000,0)","v":12.174467499999997}]
[null,null,"Mini-PC",{"$f":"IF($D$23>0,SUMPRODUCT(Konstante_Werte!$E$38:$G$38,Variable_Werte!$E$46:$G$46),0)","v":139.065},{"$f":"IF($D$23>0,SUMPRODUCT(Konstante_Werte!$E$39:$G$39,Variable_Werte!$E$46:$G$46),0)","v":117.24},{"$f":"IF($D$23>0,SUMPRODUCT(Konstante_Werte!$E$40:$G$40,Variable_Werte!$E$46:$G$46),0)","v":95.414999999999992},null,null,"Mini-PC",{"$f":"IF($D$23>0,(D$101*$E$5+Variable_Werte!$G$46*24*(365-$E$5))/1000,0)","v":31.768275000000003},{"$f":"IF($D$23>0,(E$101*$E$5+Variable_Werte!$G$46*24*(365-$E$5))/1000,0)","v":27.337799999999994},{"$f":"IF($D$23>0,(F$101*$E$5+Variable_Werte!$G$46*24*(365-$E$5))/1000,0)","v":22.907324999999997}]
[null,null,"Monitor",{"$f":"IF($E$24>0,SUMPRODUCT(Konstante_Werte!$E$43:$G$43,Variable_Werte!$E$50:$G$50),0)","v":146.6},{"$f":"IF($E$24>0,SUMPRODUCT(Konstante_Werte!$E$44:$G$44,Variable_Werte!$E$50:$G$50),0)","v":119.12},{"$f":"IF($E$24>0,SUMPRODUCT(Konstante_Werte!$E$45:$G$45,Variable_Werte!$E$50:$G$50),0)","v":91.64},null,null,"Monitor",{"$f":"IF($E$24>0,(D$102*$E$5+Variable_Werte!$G$50*24*(365-$E$5))/1000,0)","v":30.926200000000001},{"$f":"IF($E$24>0,(E$102*$E$5+Variable_Werte!$G$50*24*(365-$E$5))/1000,0)","v":25.347760000000001},{"$f":"IF($E$24>0,(F$102*$E$5+Variable_Werte!$G$50*24*(365-$E$5))/1000,0)","v":19.769320000000004}]
[]
[null,null,"Stromverbrauch im ersten Jahr je Geräteklasse unter Berücksichtigung der Nutzungsprofile "]
[null,null,"IT-Gerät","kWh je Gerät und Jahr im ersten Jahr"]
[null,null,"Desktop-PC",{"$f":"IF($D$21>0,SUMPRODUCT(J99:L99,$D$17:$F$17),0)","v":46.456679999999992}]
[null,null,"Notebook",{"$f":"IF($D$22>0,SUMPRODUCT(J100:L100,$D$17:$F$17),0)","v":14.703339999999999}]
[null,null,"Mini-PC",{"$f":"IF($D$23>0,SUMPRODUCT(J101:L101,$D$17:$F$17),0)","v":27.337799999999998}]
[null,null,"Monitor",{"$f":"IF($E$24>0,SUMPRODUCT(J102:L102,$D$17:$F$17),0)","v":25.347760000000005}]
[]
[null,null,"kWh je Gerät und Jahr; Energieeffizienzsteigerung von 5% pro Jahr der ggf neubeschafften Geräte wird berücksichtigt"]
[null,null,"Jahr (max: 12 Jahre)","Desktop","Notebook","Mini-PC","Monitor","Einheit"]
[null,null,1,{"$f":"D106","v":46.456679999999992},{"$f":"D107","v":14.703339999999999},{"$f":"D108","v":27.337799999999998},{"$f":"D109","v":25.347760000000005},"kWh/a/Gerät"]
[null,null,{"$f":"C113+1","v":2},{"$f":"IF($D$113<>0,IF(MOD(C113,$F$91)=0,$D$113*(1-$F$95)^C113,D113),0)","v":46.456679999999992},{"$f":"IF($E$113<>0,IF(MOD(C113,$F$92)=0,$E$113*(1-$F$95)^C113,E113),0)","v":14.703339999999999},{"$f":"IF($F$113<>0,IF(MOD(C113,$F$93)=0,$F$113*(1-$F$95)^C113,F113),0)","v":27.337799999999998},{"$f":"IF($G$113<>0,IF(MOD(C113,$F$94)=0,$G$113*(1-$F$95)^C113,G113),0)","v":25.347760000000005},"kWh/a/Gerät"]
[null,null,{"$f":"C114+1","v":3},{"$f":"IF($D$113<>0,IF(MOD(C114,$F$91)=0,$D$113*(1-$F$95)^C114,D114),0)","v":46.456679999999992},{"$f":"IF($E$113<>0,IF(MOD(C114,$F$92)=0,$E$113*(1-$F$95)^C114,E114),0)","v":14.703339999999999},{"$f":"IF($F$113<>0,IF(MOD(C114,$F$93)=0,$F$113*(1-$F$95)^C114,F114),0)","v":27.337799999999998},{"$f":"IF($G$113<>0,IF(MOD(C114,$F$94)=0,$G$113*(1-$F$95)^C114,G114),0)","v":25.347760000000005},"kWh/a/Gerät"]
[null,null,4,46.456679999999992,14.703339999999999,27.337799999999998,25.347760000000005,"kWh/a/Gerät"]
[null,null,5,46.456679999999992,14.703339999999999,27.337799999999998,25.347760000000005,"kWh/a/Gerät"]
[null,null,6,46.456679999999992,14.703339999999999,27.337799999999998,25.347760000000005,"kWh/a/Gerät"]
[null,null,7,34.149928733360618,10.808305999102185,20.095795087528121,18.632932821508749,"kWh/a/Gerät"]
[null,null,8,34.149928733360618,10.808305999102185,20.095795087528121,18.632932821508749,"kWh/a/Gerät"]
[null,null,9,34.149928733360618,10.808305999102185,20.095795087528121,18.632932821508749,"kWh/a/Gerät"]
[null,null,10,34.149928733360618,10.808305999102185,20.095795087528121,18.632932821508749,"kWh/a/Gerät"]
[null,null,11,34.149928733360618,10.808305999102185,20.095795087528121,18.632932821508749,"kWh/a/Gerät"]
[null,null,12,34.149928733360618,10.808305999102185,20.095795087528121,{"$f":"IF($G$113<>0,IF(MOD(C123,$F$94)=0,$G$113*(1-$F$95)^C123,G123),0)","v":18.632932821508749},"kWh/a/Gerät"]
[null,null,{"$f":"\"Summe über Betrachtungszeitraum von \" &$F$89 & \" Jahren\"","v":"Summe über Betrachtungszeitraum von 10 Jahren"},{"$f":"SUM(D113:OFFSET(D113,$F$89-1,0))","v":415.33979493344253},{"$f":"SUM(E113:OFFSET(E113,$F$89-1,0))","v":131.45326399640874},{"$f":"SUM(F113:OFFSET(F113,$F$89-1,0))","v":244.40998035011251},{"$f":"SUM(G113:OFFSET(G113,$F$89-1,0))","v":226.618291286035},"kWh/Betrachtungszeitraum/Gerät"]
[]
[null,null,"Berechnung der Energiekosten innerhalb des Betrachtungszeitraums"]
[null,null,"Jahr (max: 12 Jahre)","Desktop","Notebook","Mini-PC","Monitor","Einheit"]
[null,null,1,{"$f":"IF($D$21>0,D113*$G8,0)","v":9.8488161599999984},{"$f":"IF($D$22>0,E113*$G8,0)","v":3.1171080799999995},{"$f":"IF($D$23>0,F113*$G8,0)","v":5.7956135999999994},{"$f":"IF($E$24>0,G113*$G8,0)","v":5.3737251200000005},"Euro/a/Gerät"]
[null,null,{"$f":"C129+1","v":2},{"$f":"IF($D$21>0,D114*$G$8*(1+$G$9)^C129,0)","v":9.9055422113684202},{"$f":"IF($D$22>0,E114*$G$8*(1+$G$9)^C129,0)","v":3.1350616319999998},{"$f":"IF($D$23>0,F114*$G$8*(1+$G$9)^C129,0)","v":5.8289944926315789},{"$f":"IF($E$24>0,G114*$G$8*(1+$G$9)^C129,0)","v":5.4046760690526323},"Euro/a/Gerät"]
[null,null,{"$f":"C130+1","v":3},{"$f":"IF($D$21>0,D115*$G$8*(1+$G$9)^C130,0)","v":9.96259498676657},{"$f":"IF($D$22>0,E115*$G$8*(1+$G$9)^C130,0)","v":3.1531185907543193},{"$f":"IF($D$23>0,F115*$G$8*(1+$G$9)^C130,0)","v":5.862567648597083},{"$f":"IF($E$24>0,G115*$G$8*(1+$G$9)^C130,0)","v":5.4358052857363521},"Euro/a/Gerät"]
[null,null,4,10.019976368021034,3.1712795518530039,5.8963341752722203,5.4671137968160641,"Euro/a/Gerät"]
[null,null,5,10.077688247797125,3.1895451143165068,5.9302951864108291,5.498602634970517,"Euro/a/Gerät"]
[null,null,6,10.135732529661299,3.2079158806154497,5.9644518021816166,5.5302728388263542,"Euro/a/Gerät"]
[null,null,7,7.4936084224286921,2.371694930886854,4.4096730186201665,4.0886733151336072,"Euro/a/Gerät"]
[null,null,8,7.5367692256561858,2.3853551400220514,4.4350713339210568,4.1122227741482789,"Euro/a/Gerät"]
[null,null,9,7.5801786213948228,2.3990940276209871,4.4606159354471178,4.1359078705634342,"Euro/a/Gerät"]
[null,null,10,7.6238380414584679,2.4129120468466096,4.486307665760517,4.1597293856073945,"Euro/a/Gerät"]
[null,null,11,7.6677489259077829,2.4268096534719428,4.5121473722763179,4.1836881050081125,"Euro/a/Gerät"]
[null,null,12,7.7119127230977176,2.4407873058951175,4.5381359072904219,4.2077848190190821,"Euro/a/Gerät"]
[null,null,{"$f":"C125","v":"Summe über Betrachtungszeitraum von 10 Jahren"},{"$f":"SUM(D129:OFFSET(D129,$F$89-1,0))","v":90.184744814552616},{"$f":"SUM(E129:OFFSET(E129,$F$89-1,0))","v":28.54308499491578},{"$f":"SUM(F129:OFFSET(F129,$F$89-1,0))","v":53.069924858842185},{"$f":"SUM(G129:OFFSET(G129,$F$89-1,0))","v":49.206729090854637},"Euro/Betrachtungszeitraum/Gerät"]
[]
[null,null,"APC mit Desktop (für alle Geräte)"]
[null,null,"In EURO ","Anschaffungskosten",null,null,null,null,"Energiekosten",null,"Bruttopersonal-kosten","Sach-und Gemeinkosten","Summe",null,"Anteil"]
[null,null,"Jahr (max: 12 Jahre)","Desktop","Monitor","Ersatz HDD durch SSD","RAM hinzufügen","Wechsel des Akkus","Desktop","Monitor"]
[null,null,1,{"$f":"IF($D$21>0,(IF(MOD(($C146-1),$D$27)<>0,0,Konstante_Werte!$E$63*$D$21)),0)","v":31200},{"$f":"IF($E$21>0,(IF(MOD(($C146-1),$D$30)<>0,0,Konstante_Werte!$E$66*$E$21)),0)","v":22680},{"$f":"IF($D$21>0,(IF($D$27=1,$D$21*$D$34*$J$34*Konstante_Werte!$E$67, IF(AND($D$27<>1,$D$27/($J$34+1)<1),Konstante_Werte!$E$67*$D$34*$D$21*$J$34/$D$27,IF(MOD($C146,$D$27)=0,0,IF(INT(MOD(($C146-$D$27*INT(($C146-1)/$D$27)),($D$27/($J$34+1))))<>0,0,Konstante_Werte!$E$67*$D$34*$D$21))))),0)","v":0},{"$f":"IF($D$21>0,(IF($D$27=1,$D$21*$E$34*$K$34*Konstante_Werte!$E$68, IF(AND($D$27<>1,$D$27/($K$34+1)<1),Konstante_Werte!$E$68*$E$34*$D$21*$K$34/$D$27,IF(MOD($C146,$D$27)=0,0,IF(INT(MOD(($C146-$D$27*INT(($C146-1)/$D$27)),($D$27/($K$34+1))))<>0,0,Konstante_Werte!$E$68*$E$34*$D$21))))),0)","v":0},"-",{"$f":"IF($D$21>0, D129*$D$21,0)","v":984.88161599999989},{"$f":"G129*$E$21","v":644.84701440000003},{"$f":"IF($D$21>0,(IF(MOD(($C146-1),$D$27)<>0,0,$K$13*$D$21)),0)+IF($E$21>0,(IF(MOD(($C146-1),$D$30)<>0,0,$K$13*$E$21)),0)","v":20817.737556},{"$f":"IF($D$21>0,(IF(MOD(($C146-1),$D$27)<>0,0,$K$14*$D$21)),0)+IF($E$21>0,(IF(MOD(($C146-1),$D$30)<>0,0,$K$14*$E$21)),0)","v":16749.532272},{"$f":"SUM(D146:L146)","v":93076.998458400005},"Euro/a",{"$f":"IF($M$158<>0,(IF(C146<=$F$89,M146/$M$158,\"-\")),0)","v":0.47051877172757783}]
[null,null,{"$f":"C146+1","v":2},{"$f":"IF($D$21>0,(IF(MOD(($C147-1),$D$27)<>0,0,Konstante_Werte!$E$63*$D$21)),0)","v":0},{"$f":"IF($E$21>0,(IF(MOD(($C147-1),$D$30)<>0,0,Konstante_Werte!$E$66*$E$21)),0)","v":0},{"$f":"IF($D$21>0,(IF($D$27=1,$D$21*$D$34*$J$34*Konstante_Werte!$E$67, IF(AND($D$27<>1,$D$27/($J$34+1)<1),Konstante_Werte!$E$67*$D$34*$D$21*$J$34/$D$27,IF(MOD($C147,$D$27)=0,0,IF(INT(MOD(($C147-$D$27*INT(($C147-1)/$D$27)),($D$27/($J$34+1))))<>0,0,Konstante_Werte!$E$67*$D$34*$D$21))))),0)","v":0},{"$f":"IF($D$21>0,(IF($D$27=1,$D$21*$E$34*$K$34*Konstante_Werte!$E$68, IF(AND($D$27<>1,$D$27/($K$34+1)<1),Konstante_Werte!$E$68*$E$34*$D$21*$K$34/$D$27,IF(MOD($C147,$D$27)=0,0,IF(INT(MOD(($C147-$D$27*INT(($C147-1)/$D$27)),($D$27/($K$34+1))))<>0,0,Konstante_Werte!$E$68*$E$34*$D$21))))),0)","v":0},"-",990.55422113684199,{"$f":"G130*$E$21","v":648.56112828631592},{"$f":"IF($D$21>0,(IF(MOD(($C147-1),$D$27)<>0,0,$K$13*$D$21)),0)+IF($E$21>0,(IF(MOD(($C147-1),$D$30)<>0,0,$K$13*$E$21)),0)","v":0},0,{"$f":"SUM(D147:L147)","v":1639.115349423158},"Euro/a",8.2859842249328741E-3]
[null,null,{"$f":"C147+1","v":3},{"$f":"IF($D$21>0,(IF(MOD(($C148-1),$D$27)<>0,0,Konstante_Werte!$E$63*$D$21)),0)","v":0},{"$f":"IF($E$21>0,(IF(MOD(($C148-1),$D$30)<>0,0,Konstante_Werte!$E$66*$E$21)),0)","v":0},{"$f":"IF($D$21>0,(IF($D$27=1,$D$21*$D$34*$J$34*Konstante_Werte!$E$67, IF(AND($D$27<>1,$D$27/($J$34+1)<1),Konstante_Werte!$E$67*$D$34*$D$21*$J$34/$D$27,IF(MOD($C148,$D$27)=0,0,IF(INT(MOD(($C148-$D$27*INT(($C148-1)/$D$27)),($D$27/($J$34+1))))<>0,0,Konstante_Werte!$E$67*$D$34*$D$21))))),0)","v":0},{"$f":"IF($D$21>0,(IF($D$27=1,$D$21*$E$34*$K$34*Konstante_Werte!$E$68, IF(AND($D$27<>1,$D$27/($K$34+1)<1),Konstante_Werte!$E$68*$E$34*$D$21*$K$34/$D$27,IF(MOD($C148,$D$27)=0,0,IF(INT(MOD(($C148-$D$27*INT(($C148-1)/$D$27)),($D$27/($K$34+1))))<>0,0,Konstante_Werte!$E$68*$E$34*$D$21))))),0)","v":0},"-",996.25949867665702,652.29663428836227,0,0,1648.5561329650193,"Euro/a",8.3337088609851187E-3]
[null,null,4,{"$f":"IF($D$21>0,(IF(MOD(($C149-1),$D$27)<>0,0,Konstante_Werte!$E$63*$D$21)),0)","v":0},{"$f":"IF($E$21>0,(IF(MOD(($C149-1),$D$30)<>0,0,Konstante_Werte!$E$66*$E$21)),0)","v":0},{"$f":"IF($D$21>0,(IF($D$27=1,$D$21*$D$34*$J$34*Konstante_Werte!$E$67, IF(AND($D$27<>1,$D$27/($J$34+1)<1),Konstante_Werte!$E$67*$D$34*$D$21*$J$34/$D$27,IF(MOD($C149,$D$27)=0,0,IF(INT(MOD(($C149-$D$27*INT(($C149-1)/$D$27)),($D$27/($J$34+1))))<>0,0,Konstante_Werte!$E$67*$D$34*$D$21))))),0)","v":0},{"$f":"IF($D$21>0,(IF($D$27=1,$D$21*$E$34*$K$34*Konstante_Werte!$E$68, IF(AND($D$27<>1,$D$27/($K$34+1)<1),Konstante_Werte!$E$68*$E$34*$D$21*$K$34/$D$27,IF(MOD($C149,$D$27)=0,0,IF(INT(MOD(($C149-$D$27*INT(($C149-1)/$D$27)),($D$27/($K$34+1))))<>0,0,Konstante_Werte!$E$68*$E$34*$D$21))))),0)","v":0},"-",1001.9976368021034,656.05365561792769,0,0,1658.0512924200311,"Euro/a",8.3817083757752996E-3]
[null,null,5,{"$f":"IF($D$21>0,(IF(MOD(($C150-1),$D$27)<>0,0,Konstante_Werte!$E$63*$D$21)),0)","v":0},{"$f":"IF($E$21>0,(IF(MOD(($C150-1),$D$30)<>0,0,Konstante_Werte!$E$66*$E$21)),0)","v":0},{"$f":"IF($D$21>0,(IF($D$27=1,$D$21*$D$34*$J$34*Konstante_Werte!$E$67, IF(AND($D$27<>1,$D$27/($J$34+1)<1),Konstante_Werte!$E$67*$D$34*$D$21*$J$34/$D$27,IF(MOD($C150,$D$27)=0,0,IF(INT(MOD(($C150-$D$27*INT(($C150-1)/$D$27)),($D$27/($J$34+1))))<>0,0,Konstante_Werte!$E$67*$D$34*$D$21))))),0)","v":0},{"$f":"IF($D$21>0,(IF($D$27=1,$D$21*$E$34*$K$34*Konstante_Werte!$E$68, IF(AND($D$27<>1,$D$27/($K$34+1)<1),Konstante_Werte!$E$68*$E$34*$D$21*$K$34/$D$27,IF(MOD($C150,$D$27)=0,0,IF(INT(MOD(($C150-$D$27*INT(($C150-1)/$D$27)),($D$27/($K$34+1))))<>0,0,Konstante_Werte!$E$68*$E$34*$D$21))))),0)","v":0},"-",1007.7688247797125,659.83231619646199,0,0,1667.6011409761745,"Euro/a",8.4299843525176017E-3]
[null,null,6,{"$f":"IF($D$21>0,(IF(MOD(($C151-1),$D$27)<>0,0,Konstante_Werte!$E$63*$D$21)),0)","v":0},{"$f":"IF($E$21>0,(IF(MOD(($C151-1),$D$30)<>0,0,Konstante_Werte!$E$66*$E$21)),0)","v":0},{"$f":"IF($D$21>0,(IF($D$27=1,$D$21*$D$34*$J$34*Konstante_Werte!$E$67, IF(AND($D$27<>1,$D$27/($J$34+1)<1),Konstante_Werte!$E$67*$D$34*$D$21*$J$34/$D$27,IF(MOD($C151,$D$27)=0,0,IF(INT(MOD(($C151-$D$27*INT(($C151-1)/$D$27)),($D$27/($J$34+1))))<>0,0,Konstante_Werte!$E$67*$D$34*$D$21))))),0)","v":0},{"$f":"IF($D$21>0,(IF($D$27=1,$D$21*$E$34*$K$34*Konstante_Werte!$E$68, IF(AND($D$27<>1,$D$27/($K$34+1)<1),Konstante_Werte!$E$68*$E$34*$D$21*$K$34/$D$27,IF(MOD($C151,$D$27)=0,0,IF(INT(MOD(($C151-$D$27*INT(($C151-1)/$D$27)),($D$27/($K$34+1))))<>0,0,Konstante_Werte!$E$68*$E$34*$D$21))))),0)","v":0},"-",1013.5732529661299,663.63274065916255,0,0,1677.2059936252924,"Euro/a",8.4785383835450107E-3]
[null,null,7,{"$f":"IF($D$21>0,(IF(MOD(($C152-1),$D$27)<>0,0,Konstante_Werte!$E$63*$D$21)),0)","v":31200},{"$f":"IF($E$21>0,(IF(MOD(($C152-1),$D$30)<>0,0,Konstante_Werte!$E$66*$E$21)),0)","v":22680},{"$f":"IF($D$21>0,(IF($D$27=1,$D$21*$D$34*$J$34*Konstante_Werte!$E$67, IF(AND($D$27<>1,$D$27/($J$34+1)<1),Konstante_Werte!$E$67*$D$34*$D$21*$J$34/$D$27,IF(MOD($C152,$D$27)=0,0,IF(INT(MOD(($C152-$D$27*INT(($C152-1)/$D$27)),($D$27/($J$34+1))))<>0,0,Konstante_Werte!$E$67*$D$34*$D$21))))),0)","v":0},{"$f":"IF($D$21>0,(IF($D$27=1,$D$21*$E$34*$K$34*Konstante_Werte!$E$68, IF(AND($D$27<>1,$D$27/($K$34+1)<1),Konstante_Werte!$E$68*$E$34*$D$21*$K$34/$D$27,IF(MOD($C152,$D$27)=0,0,IF(INT(MOD(($C152-$D$27*INT(($C152-1)/$D$27)),($D$27/($K$34+1))))<>0,0,Konstante_Werte!$E$68*$E$34*$D$21))))),0)","v":0},"-",749.36084224286924,490.64079781603289,20817.737556,16749.532272,92687.271468058898,"Euro/a",0.46854864089137188]
[null,null,8,{"$f":"IF($D$21>0,(IF(MOD(($C153-1),$D$27)<>0,0,Konstante_Werte!$E$63*$D$21)),0)","v":0},{"$f":"IF($E$21>0,(IF(MOD(($C153-1),$D$30)<>0,0,Konstante_Werte!$E$66*$E$21)),0)","v":0},{"$f":"IF($D$21>0,(IF($D$27=1,$D$21*$D$34*$J$34*Konstante_Werte!$E$67, IF(AND($D$27<>1,$D$27/($J$34+1)<1),Konstante_Werte!$E$67*$D$34*$D$21*$J$34/$D$27,IF(MOD($C153,$D$27)=0,0,IF(INT(MOD(($C153-$D$27*INT(($C153-1)/$D$27)),($D$27/($J$34+1))))<>0,0,Konstante_Werte!$E$67*$D$34*$D$21))))),0)","v":0},{"$f":"IF($D$21>0,(IF($D$27=1,$D$21*$E$34*$K$34*Konstante_Werte!$E$68, IF(AND($D$27<>1,$D$27/($K$34+1)<1),Konstante_Werte!$E$68*$E$34*$D$21*$K$34/$D$27,IF(MOD($C153,$D$27)=0,0,IF(INT(MOD(($C153-$D$27*INT(($C153-1)/$D$27)),($D$27/($K$34+1))))<>0,0,Konstante_Werte!$E$68*$E$34*$D$21))))),0)","v":0},"-",753.67692256561861,493.46673289779346,0,0,1247.143655463412,"Euro/a",6.3045060611699195E-3]
[null,null,9,{"$f":"IF($D$21>0,(IF(MOD(($C154-1),$D$27)<>0,0,Konstante_Werte!$E$63*$D$21)),0)","v":0},{"$f":"IF($E$21>0,(IF(MOD(($C154-1),$D$30)<>0,0,Konstante_Werte!$E$66*$E$21)),0)","v":0},{"$f":"IF($D$21>0,(IF($D$27=1,$D$21*$D$34*$J$34*Konstante_Werte!$E$67, IF(AND($D$27<>1,$D$27/($J$34+1)<1),Konstante_Werte!$E$67*$D$34*$D$21*$J$34/$D$27,IF(MOD($C154,$D$27)=0,0,IF(INT(MOD(($C154-$D$27*INT(($C154-1)/$D$27)),($D$27/($J$34+1))))<>0,0,Konstante_Werte!$E$67*$D$34*$D$21))))),0)","v":0},{"$f":"IF($D$21>0,(IF($D$27=1,$D$21*$E$34*$K$34*Konstante_Werte!$E$68, IF(AND($D$27<>1,$D$27/($K$34+1)<1),Konstante_Werte!$E$68*$E$34*$D$21*$K$34/$D$27,IF(MOD($C154,$D$27)=0,0,IF(INT(MOD(($C154-$D$27*INT(($C154-1)/$D$27)),($D$27/($K$34+1))))<>0,0,Konstante_Werte!$E$68*$E$34*$D$21))))),0)","v":0},"-",758.0178621394823,496.30894446761209,0,0,1254.3268066070943,"Euro/a",6.3408180126642462E-3]
[null,null,10,{"$f":"IF($D$21>0,(IF(MOD(($C155-1),$D$27)<>0,0,Konstante_Werte!$E$63*$D$21)),0)","v":0},{"$f":"IF($E$21>0,(IF(MOD(($C155-1),$D$30)<>0,0,Konstante_Werte!$E$66*$E$21)),0)","v":0},{"$f":"IF($D$21>0,(IF($D$27=1,$D$21*$D$34*$J$34*Konstante_Werte!$E$67, IF(AND($D$27<>1,$D$27/($J$34+1)<1),Konstante_Werte!$E$67*$D$34*$D$21*$J$34/$D$27,IF(MOD($C155,$D$27)=0,0,IF(INT(MOD(($C155-$D$27*INT(($C155-1)/$D$27)),($D$27/($J$34+1))))<>0,0,Konstante_Werte!$E$67*$D$34*$D$21))))),0)","v":0},{"$f":"IF($D$21>0,(IF($D$27=1,$D$21*$E$34*$K$34*Konstante_Werte!$E$68, IF(AND($D$27<>1,$D$27/($K$34+1)<1),Konstante_Werte!$E$68*$E$34*$D$21*$K$34/$D$27,IF(MOD($C155,$D$27)=0,0,IF(INT(MOD(($C155-$D$27*INT(($C155-1)/$D$27)),($D$27/($K$34+1))))<>0,0,Konstante_Werte!$E$68*$E$34*$D$21))))),0)","v":0},"-",762.38380414584674,499.16752627288736,0,0,1261.5513304187341,"Euro/a",6.3773391094601286E-3]
[null,null,11,{"$f":"IF($D$21>0,(IF(MOD(($C156-1),$D$27)<>0,0,Konstante_Werte!$E$63*$D$21)),0)","v":0},{"$f":"IF($E$21>0,(IF(MOD(($C156-1),$D$30)<>0,0,Konstante_Werte!$E$66*$E$21)),0)","v":0},{"$f":"IF($D$21>0,(IF($D$27=1,$D$21*$D$34*$J$34*Konstante_Werte!$E$67, IF(AND($D$27<>1,$D$27/($J$34+1)<1),Konstante_Werte!$E$67*$D$34*$D$21*$J$34/$D$27,IF(MOD($C156,$D$27)=0,0,IF(INT(MOD(($C156-$D$27*INT(($C156-1)/$D$27)),($D$27/($J$34+1))))<>0,0,Konstante_Werte!$E$67*$D$34*$D$21))))),0)","v":0},{"$f":"IF($D$21>0,(IF($D$27=1,$D$21*$E$34*$K$34*Konstante_Werte!$E$68, IF(AND($D$27<>1,$D$27/($K$34+1)<1),Konstante_Werte!$E$68*$E$34*$D$21*$K$34/$D$27,IF(MOD($C156,$D$27)=0,0,IF(INT(MOD(($C156-$D$27*INT(($C156-1)/$D$27)),($D$27/($K$34+1))))<>0,0,Konstante_Werte!$E$68*$E$34*$D$21))))),0)","v":0},"-",766.77489259077834,502.04257260097347,0,0,1268.8174651917518,"Euro/a","-"]
[null,null,12,{"$f":"IF($D$21>0,(IF(MOD(($C157-1),$D$27)<>0,0,Konstante_Werte!$E$63*$D$21)),0)","v":0},{"$f":"IF($E$21>0,(IF(MOD(($C157-1),$D$30)<>0,0,Konstante_Werte!$E$66*$E$21)),0)","v":0},{"$f":"IF($D$21>0,(IF($D$27=1,$D$21*$D$34*$J$34*Konstante_Werte!$E$67, IF(AND($D$27<>1,$D$27/($J$34+1)<1),Konstante_Werte!$E$67*$D$34*$D$21*$J$34/$D$27,IF(MOD($C157,$D$27)=0,0,IF(INT(MOD(($C157-$D$27*INT(($C157-1)/$D$27)),($D$27/($J$34+1))))<>0,0,Konstante_Werte!$E$67*$D$34*$D$21))))),0)","v":0},{"$f":"IF($D$21>0,(IF($D$27=1,$D$21*$E$34*$K$34*Konstante_Werte!$E$68, IF(AND($D$27<>1,$D$27/($K$34+1)<1),Konstante_Werte!$E$68*$E$34*$D$21*$K$34/$D$27,IF(MOD($C157,$D$27)=0,0,IF(INT(MOD(($C157-$D$27*INT(($C157-1)/$D$27)),($D$27/($K$34+1))))<>0,0,Konstante_Werte!$E$68*$E$34*$D$21))))),0)","v":0},"-",771.19127230977176,504.93417828228985,0,0,1276.1254505920615,"Euro/a","-"]
[null,null,"Summe über Betrachtungszeitraum",{"$f":"SUM(D146:OFFSET(D146,$F$89-1,0))","v":62400},{"$f":"SUM(E146:OFFSET(E146,$F$89-1,0))","v":45360},{"$f":"SUM(F146:OFFSET(F146,$F$89-1,0))","v":0},{"$f":"SUM(G146:OFFSET(G146,$F$89-1,0))","v":0},"-",{"$f":"SUM(I146:OFFSET(I146,$F$89-1,0))","v":9018.4744814552632},{"$f":"SUM(J146:OFFSET(J146,$F$89-1,0))","v":5904.8074909025572},{"$f":"SUM(K146:OFFSET(K146,$F$89-1,0))","v":41635.475112},{"$f":"SUM(L146:OFFSET(L146,$F$89-1,0))","v":33499.064544000001},{"$f":"SUM(M146:OFFSET(M146,$F$89-1,0))","v":197817.82162835784},"Euro/Betrachtungszeitraum","-"]
[]
[null,null,"APC mit Notebook (für alle Geräte)"]
[null,null,"In EURO ","Anschaffungskosten",null,null,null,null,"Energiekosten",null,"Bruttopersonal-kosten","Sach-und Gemeinkosten","Summe",null,"Anteil"]
[null,null,"Jahr (max: 12 Jahre)","Notebook","Monitor","Ersatz HDD durch SSD","RAM hinzufügen","Wechsel des Akkus",{"$f":"E128","v":"Notebook"},{"$f":"G128","v":"Monitor"}]
[null,null,1,{"$f":"IF($D$22>0,(IF(MOD(($C146-1),$D$28)<>0,0,Konstante_Werte!$E$64*$D$22)),0)","v":21550},{"$f":"IF($E$22>0,(IF(MOD(($C163-1),$D$30)<>0,0,Konstante_Werte!$E$66*$E$22)),0)","v":9450},{"$f":"IF($D$22>0,(IF($D$28=1,$D$22*$D$35*$J$35*Konstante_Werte!$E$67, IF(AND($D$28<>1,$D$28/($J$35+1)<1),Konstante_Werte!$E$67*$D$35*$D$22*$J$35/$D$28,IF(MOD($C163,$D$28)=0,0,IF(INT(MOD(($C163-$D$28*INT(($C163-1)/$D$28)),($D$28/($J$35+1))))<>0,0,Konstante_Werte!$E$67*$D$35*$D$22))))),0)","v":0},{"$f":"IF($D$22>0,(IF($D$28=1,$D$22*$E$35*$K$35*Konstante_Werte!$E$68, IF(AND($D$28<>1,$D$28/($K$35+1)<1),Konstante_Werte!$E$68*$E$35*$D$22*$K$35/$D$28,IF(MOD($C163,$D$28)=0,0,IF(INT(MOD(($C163-$D$28*INT(($C163-1)/$D$28)),($D$28/($K$35+1))))<>0,0,Konstante_Werte!$E$68*$E$35*$D$22))))),0)","v":0},{"$f":"IF($D$22>0,(IF($D$28=1,$D$22*$F$35*$L$35*Konstante_Werte!$E$69, IF(AND($D$28<>1,$D$28/($L$35+1)<1),Konstante_Werte!$E$69*$F$35*$D$22*$L$35/$D$28,IF(MOD($C163,$D$28)=0,0,IF(INT(MOD(($C163-$D$28*INT(($C163-1)/$D$28)),($D$28/($L$35+1))))<>0,0,Konstante_Werte!$E$69*$F$35*$D$22))))),0)","v":0},{"$f":"IF($D$22>0, E129*$D$22,\"0\")","v":155.85540399999996},{"$f":"G129*$E$22","v":268.68625600000001},{"$f":"IF($D$22>0,(IF(MOD(($C163-1),$D$28)<>0,0,$K$13*$D$22)),0)+IF($E$22>0,(IF(MOD(($C163-1),$D$30)<>0,0,$K$13*$E$22)),0)","v":9462.6079800000007},{"$f":"IF($D$22>0,(IF(MOD(($C163-1),$D$28)<>0,0,$K$14*$D$22)),0)+IF($E$22>0,(IF(MOD(($C163-1),$D$30)<>0,0,$K$14*$E$22)),0)","v":7613.4237600000006},{"$f":"SUM(D163:L163)","v":48500.573400000001},"Euro/a",{"$f":"IF($M$175<>0,(IF(C163<=$F$89,M163/$M$175,\"-\")),0)","v":0.4672972514544429}]
[null,null,{"$f":"C163+1","v":2},{"$f":"IF($D$22>0,(IF(MOD(($C147-1),$D$28)<>0,0,Konstante_Werte!$E$64*$D$22)),0)","v":0},{"$f":"IF($E$22>0,(IF(MOD(($C164-1),$D$30)<>0,0,Konstante_Werte!$E$66*$E$22)),0)","v":0},{"$f":"IF($D$22>0,(IF($D$28=1,$D$22*$D$35*$J$35*Konstante_Werte!$E$67, IF(AND($D$28<>1,$D$28/($J$35+1)<1),Konstante_Werte!$E$67*$D$35*$D$22*$J$35/$D$28,IF(MOD($C164,$D$28)=0,0,IF(INT(MOD(($C164-$D$28*INT(($C164-1)/$D$28)),($D$28/($J$35+1))))<>0,0,Konstante_Werte!$E$67*$D$35*$D$22))))),0)","v":0},{"$f":"IF($D$22>0,(IF($D$28=1,$D$22*$E$35*$K$35*Konstante_Werte!$E$68, IF(AND($D$28<>1,$D$28/($K$35+1)<1),Konstante_Werte!$E$68*$E$35*$D$22*$K$35/$D$28,IF(MOD($C164,$D$28)=0,0,IF(INT(MOD(($C164-$D$28*INT(($C164-1)/$D$28)),($D$28/($K$35+1))))<>0,0,Konstante_Werte!$E$68*$E$35*$D$22))))),0)","v":0},{"$f":"IF($D$22>0,(IF($D$28=1,$D$22*$F$35*$L$35*Konstante_Werte!$E$69, IF(AND($D$28<>1,$D$28/($L$35+1)<1),Konstante_Werte!$E$69*$F$35*$D$22*$L$35/$D$28,IF(MOD($C164,$D$28)=0,0,IF(INT(MOD(($C164-$D$28*INT(($C164-1)/$D$28)),($D$28/($L$35+1))))<>0,0,Konstante_Werte!$E$69*$F$35*$D$22))))),0)","v":0},156.7530816,270.23380345263161,0,0,{"$f":"SUM(D164:L164)","v":426.98688505263158},"Euro/a",4.1139678111968237E-3]
[null,null,{"$f":"C164+1","v":3},{"$f":"IF($D$22>0,(IF(MOD(($C148-1),$D$28)<>0,0,Konstante_Werte!$E$64*$D$22)),0)","v":0},{"$f":"IF($E$22>0,(IF(MOD(($C165-1),$D$30)<>0,0,Konstante_Werte!$E$66*$E$22)),0)","v":0},{"$f":"IF($D$22>0,(IF($D$28=1,$D$22*$D$35*$J$35*Konstante_Werte!$E$67, IF(AND($D$28<>1,$D$28/($J$35+1)<1),Konstante_Werte!$E$67*$D$35*$D$22*$J$35/$D$28,IF(MOD($C165,$D$28)=0,0,IF(INT(MOD(($C165-$D$28*INT(($C165-1)/$D$28)),($D$28/($J$35+1))))<>0,0,Konstante_Werte!$E$67*$D$35*$D$22))))),0)","v":0},{"$f":"IF($D$22>0,(IF($D$28=1,$D$22*$E$35*$K$35*Konstante_Werte!$E$68, IF(AND($D$28<>1,$D$28/($K$35+1)<1),Konstante_Werte!$E$68*$E$35*$D$22*$K$35/$D$28,IF(MOD($C165,$D$28)=0,0,IF(INT(MOD(($C165-$D$28*INT(($C165-1)/$D$28)),($D$28/($K$35+1))))<>0,0,Konstante_Werte!$E$68*$E$35*$D$22))))),0)","v":0},{"$f":"IF($D$22>0,(IF($D$28=1,$D$22*$F$35*$L$35*Konstante_Werte!$E$69, IF(AND($D$28<>1,$D$28/($L$35+1)<1),Konstante_Werte!$E$69*$F$35*$D$22*$L$35/$D$28,IF(MOD($C165,$D$28)=0,0,IF(INT(MOD(($C165-$D$28*INT(($C165-1)/$D$28)),($D$28/($L$35+1))))<>0,0,Konstante_Werte!$E$69*$F$35*$D$22))))),0)","v":1875},157.65592953771596,271.7902642868176,0,0,2304.4461938245336,"Euro/a",2.2203064768278737E-2]
[null,null,4,{"$f":"IF($D$22>0,(IF(MOD(($C149-1),$D$28)<>0,0,Konstante_Werte!$E$64*$D$22)),0)","v":0},{"$f":"IF($E$22>0,(IF(MOD(($C166-1),$D$30)<>0,0,Konstante_Werte!$E$66*$E$22)),0)","v":0},{"$f":"IF($D$22>0,(IF($D$28=1,$D$22*$D$35*$J$35*Konstante_Werte!$E$67, IF(AND($D$28<>1,$D$28/($J$35+1)<1),Konstante_Werte!$E$67*$D$35*$D$22*$J$35/$D$28,IF(MOD($C166,$D$28)=0,0,IF(INT(MOD(($C166-$D$28*INT(($C166-1)/$D$28)),($D$28/($J$35+1))))<>0,0,Konstante_Werte!$E$67*$D$35*$D$22))))),0)","v":0},{"$f":"IF($D$22>0,(IF($D$28=1,$D$22*$E$35*$K$35*Konstante_Werte!$E$68, IF(AND($D$28<>1,$D$28/($K$35+1)<1),Konstante_Werte!$E$68*$E$35*$D$22*$K$35/$D$28,IF(MOD($C166,$D$28)=0,0,IF(INT(MOD(($C166-$D$28*INT(($C166-1)/$D$28)),($D$28/($K$35+1))))<>0,0,Konstante_Werte!$E$68*$E$35*$D$22))))),0)","v":0},{"$f":"IF($D$22>0,(IF($D$28=1,$D$22*$F$35*$L$35*Konstante_Werte!$E$69, IF(AND($D$28<>1,$D$28/($L$35+1)<1),Konstante_Werte!$E$69*$F$35*$D$22*$L$35/$D$28,IF(MOD($C166,$D$28)=0,0,IF(INT(MOD(($C166-$D$28*INT(($C166-1)/$D$28)),($D$28/($L$35+1))))<>0,0,Konstante_Werte!$E$69*$F$35*$D$22))))),0)","v":0},158.56397759265019,273.35568984080322,0,0,431.91966743345341,"Euro/a",4.1614945822634301E-3]
[null,null,5,{"$f":"IF($D$22>0,(IF(MOD(($C150-1),$D$28)<>0,0,Konstante_Werte!$E$64*$D$22)),0)","v":0},{"$f":"IF($E$22>0,(IF(MOD(($C167-1),$D$30)<>0,0,Konstante_Werte!$E$66*$E$22)),0)","v":0},{"$f":"IF($D$22>0,(IF($D$28=1,$D$22*$D$35*$J$35*Konstante_Werte!$E$67, IF(AND($D$28<>1,$D$28/($J$35+1)<1),Konstante_Werte!$E$67*$D$35*$D$22*$J$35/$D$28,IF(MOD($C167,$D$28)=0,0,IF(INT(MOD(($C167-$D$28*INT(($C167-1)/$D$28)),($D$28/($J$35+1))))<>0,0,Konstante_Werte!$E$67*$D$35*$D$22))))),0)","v":0},{"$f":"IF($D$22>0,(IF($D$28=1,$D$22*$E$35*$K$35*Konstante_Werte!$E$68, IF(AND($D$28<>1,$D$28/($K$35+1)<1),Konstante_Werte!$E$68*$E$35*$D$22*$K$35/$D$28,IF(MOD($C167,$D$28)=0,0,IF(INT(MOD(($C167-$D$28*INT(($C167-1)/$D$28)),($D$28/($K$35+1))))<>0,0,Konstante_Werte!$E$68*$E$35*$D$22))))),0)","v":0},{"$f":"IF($D$22>0,(IF($D$28=1,$D$22*$F$35*$L$35*Konstante_Werte!$E$69, IF(AND($D$28<>1,$D$28/($L$35+1)<1),Konstante_Werte!$E$69*$F$35*$D$22*$L$35/$D$28,IF(MOD($C167,$D$28)=0,0,IF(INT(MOD(($C167-$D$28*INT(($C167-1)/$D$28)),($D$28/($L$35+1))))<>0,0,Konstante_Werte!$E$69*$F$35*$D$22))))),0)","v":0},159.47725571582535,274.93013174852587,0,0,434.40738746435125,"Euro/a",4.1854634686359507E-3]
[null,null,6,{"$f":"IF($D$22>0,(IF(MOD(($C151-1),$D$28)<>0,0,Konstante_Werte!$E$64*$D$22)),0)","v":0},{"$f":"IF($E$22>0,(IF(MOD(($C168-1),$D$30)<>0,0,Konstante_Werte!$E$66*$E$22)),0)","v":0},{"$f":"IF($D$22>0,(IF($D$28=1,$D$22*$D$35*$J$35*Konstante_Werte!$E$67, IF(AND($D$28<>1,$D$28/($J$35+1)<1),Konstante_Werte!$E$67*$D$35*$D$22*$J$35/$D$28,IF(MOD($C168,$D$28)=0,0,IF(INT(MOD(($C168-$D$28*INT(($C168-1)/$D$28)),($D$28/($J$35+1))))<>0,0,Konstante_Werte!$E$67*$D$35*$D$22))))),0)","v":0},{"$f":"IF($D$22>0,(IF($D$28=1,$D$22*$E$35*$K$35*Konstante_Werte!$E$68, IF(AND($D$28<>1,$D$28/($K$35+1)<1),Konstante_Werte!$E$68*$E$35*$D$22*$K$35/$D$28,IF(MOD($C168,$D$28)=0,0,IF(INT(MOD(($C168-$D$28*INT(($C168-1)/$D$28)),($D$28/($K$35+1))))<>0,0,Konstante_Werte!$E$68*$E$35*$D$22))))),0)","v":0},{"$f":"IF($D$22>0,(IF($D$28=1,$D$22*$F$35*$L$35*Konstante_Werte!$E$69, IF(AND($D$28<>1,$D$28/($L$35+1)<1),Konstante_Werte!$E$69*$F$35*$D$22*$L$35/$D$28,IF(MOD($C168,$D$28)=0,0,IF(INT(MOD(($C168-$D$28*INT(($C168-1)/$D$28)),($D$28/($L$35+1))))<>0,0,Konstante_Werte!$E$69*$F$35*$D$22))))),0)","v":0},160.39579403077249,276.5136419413177,0,0,436.90943597209019,"Euro/a",4.2095704081772491E-3]
[null,null,7,{"$f":"IF($D$22>0,(IF(MOD(($C152-1),$D$28)<>0,0,Konstante_Werte!$E$64*$D$22)),0)","v":21550},{"$f":"IF($E$22>0,(IF(MOD(($C169-1),$D$30)<>0,0,Konstante_Werte!$E$66*$E$22)),0)","v":9450},{"$f":"IF($D$22>0,(IF($D$28=1,$D$22*$D$35*$J$35*Konstante_Werte!$E$67, IF(AND($D$28<>1,$D$28/($J$35+1)<1),Konstante_Werte!$E$67*$D$35*$D$22*$J$35/$D$28,IF(MOD($C169,$D$28)=0,0,IF(INT(MOD(($C169-$D$28*INT(($C169-1)/$D$28)),($D$28/($J$35+1))))<>0,0,Konstante_Werte!$E$67*$D$35*$D$22))))),0)","v":0},{"$f":"IF($D$22>0,(IF($D$28=1,$D$22*$E$35*$K$35*Konstante_Werte!$E$68, IF(AND($D$28<>1,$D$28/($K$35+1)<1),Konstante_Werte!$E$68*$E$35*$D$22*$K$35/$D$28,IF(MOD($C169,$D$28)=0,0,IF(INT(MOD(($C169-$D$28*INT(($C169-1)/$D$28)),($D$28/($K$35+1))))<>0,0,Konstante_Werte!$E$68*$E$35*$D$22))))),0)","v":0},{"$f":"IF($D$22>0,(IF($D$28=1,$D$22*$F$35*$L$35*Konstante_Werte!$E$69, IF(AND($D$28<>1,$D$28/($L$35+1)<1),Konstante_Werte!$E$69*$F$35*$D$22*$L$35/$D$28,IF(MOD($C169,$D$28)=0,0,IF(INT(MOD(($C169-$D$28*INT(($C169-1)/$D$28)),($D$28/($L$35+1))))<>0,0,Konstante_Werte!$E$69*$F$35*$D$22))))),0)","v":0},118.58474654434271,204.43366575668037,9462.6079800000007,7613.4237600000006,48399.050152301024,"Euro/a",0.46631908704765962]
[null,null,8,{"$f":"IF($D$22>0,(IF(MOD(($C153-1),$D$28)<>0,0,Konstante_Werte!$E$64*$D$22)),0)","v":0},{"$f":"IF($E$22>0,(IF(MOD(($C170-1),$D$30)<>0,0,Konstante_Werte!$E$66*$E$22)),0)","v":0},{"$f":"IF($D$22>0,(IF($D$28=1,$D$22*$D$35*$J$35*Konstante_Werte!$E$67, IF(AND($D$28<>1,$D$28/($J$35+1)<1),Konstante_Werte!$E$67*$D$35*$D$22*$J$35/$D$28,IF(MOD($C170,$D$28)=0,0,IF(INT(MOD(($C170-$D$28*INT(($C170-1)/$D$28)),($D$28/($J$35+1))))<>0,0,Konstante_Werte!$E$67*$D$35*$D$22))))),0)","v":0},{"$f":"IF($D$22>0,(IF($D$28=1,$D$22*$E$35*$K$35*Konstante_Werte!$E$68, IF(AND($D$28<>1,$D$28/($K$35+1)<1),Konstante_Werte!$E$68*$E$35*$D$22*$K$35/$D$28,IF(MOD($C170,$D$28)=0,0,IF(INT(MOD(($C170-$D$28*INT(($C170-1)/$D$28)),($D$28/($K$35+1))))<>0,0,Konstante_Werte!$E$68*$E$35*$D$22))))),0)","v":0},{"$f":"IF($D$22>0,(IF($D$28=1,$D$22*$F$35*$L$35*Konstante_Werte!$E$69, IF(AND($D$28<>1,$D$28/($L$35+1)<1),Konstante_Werte!$E$69*$F$35*$D$22*$L$35/$D$28,IF(MOD($C170,$D$28)=0,0,IF(INT(MOD(($C170-$D$28*INT(($C170-1)/$D$28)),($D$28/($L$35+1))))<>0,0,Konstante_Werte!$E$69*$F$35*$D$22))))),0)","v":0},119.26775700110257,205.61113870741394,0,0,324.8788957085165,"Euro/a",3.1301694882672122E-3]
[null,null,9,{"$f":"IF($D$22>0,(IF(MOD(($C154-1),$D$28)<>0,0,Konstante_Werte!$E$64*$D$22)),0)","v":0},{"$f":"IF($E$22>0,(IF(MOD(($C171-1),$D$30)<>0,0,Konstante_Werte!$E$66*$E$22)),0)","v":0},{"$f":"IF($D$22>0,(IF($D$28=1,$D$22*$D$35*$J$35*Konstante_Werte!$E$67, IF(AND($D$28<>1,$D$28/($J$35+1)<1),Konstante_Werte!$E$67*$D$35*$D$22*$J$35/$D$28,IF(MOD($C171,$D$28)=0,0,IF(INT(MOD(($C171-$D$28*INT(($C171-1)/$D$28)),($D$28/($J$35+1))))<>0,0,Konstante_Werte!$E$67*$D$35*$D$22))))),0)","v":0},{"$f":"IF($D$22>0,(IF($D$28=1,$D$22*$E$35*$K$35*Konstante_Werte!$E$68, IF(AND($D$28<>1,$D$28/($K$35+1)<1),Konstante_Werte!$E$68*$E$35*$D$22*$K$35/$D$28,IF(MOD($C171,$D$28)=0,0,IF(INT(MOD(($C171-$D$28*INT(($C171-1)/$D$28)),($D$28/($K$35+1))))<>0,0,Konstante_Werte!$E$68*$E$35*$D$22))))),0)","v":0},{"$f":"IF($D$22>0,(IF($D$28=1,$D$22*$F$35*$L$35*Konstante_Werte!$E$69, IF(AND($D$28<>1,$D$28/($L$35+1)<1),Konstante_Werte!$E$69*$F$35*$D$22*$L$35/$D$28,IF(MOD($C171,$D$28)=0,0,IF(INT(MOD(($C171-$D$28*INT(($C171-1)/$D$28)),($D$28/($L$35+1))))<>0,0,Konstante_Werte!$E$69*$F$35*$D$22))))),0)","v":1875},119.95470138104936,206.7953935281717,0,0,2201.7500949092209,"Euro/a",2.1213600079636123E-2]
[null,null,10,{"$f":"IF($D$22>0,(IF(MOD(($C155-1),$D$28)<>0,0,Konstante_Werte!$E$64*$D$22)),0)","v":0},{"$f":"IF($E$22>0,(IF(MOD(($C172-1),$D$30)<>0,0,Konstante_Werte!$E$66*$E$22)),0)","v":0},{"$f":"IF($D$22>0,(IF($D$28=1,$D$22*$D$35*$J$35*Konstante_Werte!$E$67, IF(AND($D$28<>1,$D$28/($J$35+1)<1),Konstante_Werte!$E$67*$D$35*$D$22*$J$35/$D$28,IF(MOD($C172,$D$28)=0,0,IF(INT(MOD(($C172-$D$28*INT(($C172-1)/$D$28)),($D$28/($J$35+1))))<>0,0,Konstante_Werte!$E$67*$D$35*$D$22))))),0)","v":0},{"$f":"IF($D$22>0,(IF($D$28=1,$D$22*$E$35*$K$35*Konstante_Werte!$E$68, IF(AND($D$28<>1,$D$28/($K$35+1)<1),Konstante_Werte!$E$68*$E$35*$D$22*$K$35/$D$28,IF(MOD($C172,$D$28)=0,0,IF(INT(MOD(($C172-$D$28*INT(($C172-1)/$D$28)),($D$28/($K$35+1))))<>0,0,Konstante_Werte!$E$68*$E$35*$D$22))))),0)","v":0},{"$f":"IF($D$22>0,(IF($D$28=1,$D$22*$F$35*$L$35*Konstante_Werte!$E$69, IF(AND($D$28<>1,$D$28/($L$35+1)<1),Konstante_Werte!$E$69*$F$35*$D$22*$L$35/$D$28,IF(MOD($C172,$D$28)=0,0,IF(INT(MOD(($C172-$D$28*INT(($C172-1)/$D$28)),($D$28/($L$35+1))))<>0,0,Konstante_Werte!$E$69*$F$35*$D$22))))),0)","v":0},120.64560234233048,207.98646928036973,0,0,328.63207162270021,"Euro/a",3.1663308914419435E-3]
[null,null,11,{"$f":"IF($D$22>0,(IF(MOD(($C156-1),$D$28)<>0,0,Konstante_Werte!$E$64*$D$22)),0)","v":0},{"$f":"IF($E$22>0,(IF(MOD(($C173-1),$D$30)<>0,0,Konstante_Werte!$E$66*$E$22)),0)","v":0},{"$f":"IF($D$22>0,(IF($D$28=1,$D$22*$D$35*$J$35*Konstante_Werte!$E$67, IF(AND($D$28<>1,$D$28/($J$35+1)<1),Konstante_Werte!$E$67*$D$35*$D$22*$J$35/$D$28,IF(MOD($C173,$D$28)=0,0,IF(INT(MOD(($C173-$D$28*INT(($C173-1)/$D$28)),($D$28/($J$35+1))))<>0,0,Konstante_Werte!$E$67*$D$35*$D$22))))),0)","v":0},{"$f":"IF($D$22>0,(IF($D$28=1,$D$22*$E$35*$K$35*Konstante_Werte!$E$68, IF(AND($D$28<>1,$D$28/($K$35+1)<1),Konstante_Werte!$E$68*$E$35*$D$22*$K$35/$D$28,IF(MOD($C173,$D$28)=0,0,IF(INT(MOD(($C173-$D$28*INT(($C173-1)/$D$28)),($D$28/($K$35+1))))<>0,0,Konstante_Werte!$E$68*$E$35*$D$22))))),0)","v":0},{"$f":"IF($D$22>0,(IF($D$28=1,$D$22*$F$35*$L$35*Konstante_Werte!$E$69, IF(AND($D$28<>1,$D$28/($L$35+1)<1),Konstante_Werte!$E$69*$F$35*$D$22*$L$35/$D$28,IF(MOD($C173,$D$28)=0,0,IF(INT(MOD(($C173-$D$28*INT(($C173-1)/$D$28)),($D$28/($L$35+1))))<>0,0,Konstante_Werte!$E$69*$F$35*$D$22))))),0)","v":0},121.34048267359714,209.18440525040563,0,0,330.52488792400277,"Euro/a","-"]
[null,null,12,{"$f":"IF($D$22>0,(IF(MOD(($C157-1),$D$28)<>0,0,Konstante_Werte!$E$64*$D$22)),0)","v":0},{"$f":"IF($E$22>0,(IF(MOD(($C174-1),$D$30)<>0,0,Konstante_Werte!$E$66*$E$22)),0)","v":0},{"$f":"IF($D$22>0,(IF($D$28=1,$D$22*$D$35*$J$35*Konstante_Werte!$E$67, IF(AND($D$28<>1,$D$28/($J$35+1)<1),Konstante_Werte!$E$67*$D$35*$D$22*$J$35/$D$28,IF(MOD($C174,$D$28)=0,0,IF(INT(MOD(($C174-$D$28*INT(($C174-1)/$D$28)),($D$28/($J$35+1))))<>0,0,Konstante_Werte!$E$67*$D$35*$D$22))))),0)","v":0},{"$f":"IF($D$22>0,(IF($D$28=1,$D$22*$E$35*$K$35*Konstante_Werte!$E$68, IF(AND($D$28<>1,$D$28/($K$35+1)<1),Konstante_Werte!$E$68*$E$35*$D$22*$K$35/$D$28,IF(MOD($C174,$D$28)=0,0,IF(INT(MOD(($C174-$D$28*INT(($C174-1)/$D$28)),($D$28/($K$35+1))))<>0,0,Konstante_Werte!$E$68*$E$35*$D$22))))),0)","v":0},{"$f":"IF($D$22>0,(IF($D$28=1,$D$22*$F$35*$L$35*Konstante_Werte!$E$69, IF(AND($D$28<>1,$D$28/($L$35+1)<1),Konstante_Werte!$E$69*$F$35*$D$22*$L$35/$D$28,IF(MOD($C174,$D$28)=0,0,IF(INT(MOD(($C174-$D$28*INT(($C174-1)/$D$28)),($D$28/($L$35+1))))<>0,0,Konstante_Werte!$E$69*$F$35*$D$22))))),0)","v":0},122.03936529475587,210.3892409509541,0,0,332.42860624570994,"Euro/a","-"]
[null,null,"Summe über Betrachtungszeitraum",{"$f":"SUM(D163:OFFSET(D163,$F$89-1,0))","v":43100},{"$f":"SUM(E163:OFFSET(E163,$F$89-1,0))","v":18900},{"$f":"SUM(F163:OFFSET(F163,$F$89-1,0))","v":0},{"$f":"SUM(G163:OFFSET(G163,$F$89-1,0))","v":0},{"$f":"SUM(H163:OFFSET(H163,$F$89-1,0))","v":3750},{"$f":"SUM(I163:OFFSET(I163,$F$89-1,0))","v":1427.1542497457892},{"$f":"SUM(J163:OFFSET(J163,$F$89-1,0))","v":2460.3364545427316},{"$f":"SUM(K163:OFFSET(K163,$F$89-1,0))","v":18925.215960000001},{"$f":"SUM(L163:OFFSET(L163,$F$89-1,0))","v":15226.847520000001},{"$f":"SUM(M163:OFFSET(M163,$F$89-1,0))","v":103789.55418428853},"Euro/Betrachtungszeitraum",{"$f":"SUM(O163:O174)","v":1}]
[]
[null,null,"APC mit Mini-PC (für alle Geräte)"]
[null,null,"In EURO  ","Anschaffungskosten",null,null,null,null,"Energiekosten",null,"Bruttopersonal-kosten","Sach-und Gemeinkosten","Summe",null,"Anteil"]
[null,null,"Jahr (max: 12 Jahre)","Mini-PC","Monitor","Ersatz HDD durch SSD","RAM hinzufügen","Wechsel des Akkus","Desktop","Monitor"]
[null,null,1,{"$f":"IF($D$23>0,(IF(MOD(($C146-1),$D$29)<>0,0,Konstante_Werte!$E$65*$D$23)),0)","v":22750},{"$f":"IF($E$23>0,(IF(MOD(($C180-1),$D$30)<>0,0,Konstante_Werte!$E$66*$E$23)),0)","v":15120},{"$f":"IF($D$23>0,(IF($D$29=1,$D$23*$D$36*$J$36*Konstante_Werte!$E$67, IF(AND($D$29<>1,$D$29/($J$36+1)<1),Konstante_Werte!$E$67*$D$36*$D$23*$J$36/$D$29,IF(MOD($C180,$D$29)=0,0,IF(INT(MOD(($C180-$D$29*INT(($C180-1)/$D$29)),($D$29/($J$36+1))))<>0,0,Konstante_Werte!$E$67*$D$36*$D$23))))),0)","v":0},{"$f":"IF($D$23>0,(IF($D$29=1,$D$23*$E$36*$K$36*Konstante_Werte!$E$68, IF(AND($D$29<>1,$D$29/($K$36+1)<1),Konstante_Werte!$E$68*$E$36*$D$23*$K$36/$D$29,IF(MOD($C180,$D$29)=0,0,IF(INT(MOD(($C180-$D$29*INT(($C180-1)/$D$29)),($D$29/($K$36+1))))<>0,0,Konstante_Werte!$E$68*$E$36*$D$23))))),0)","v":0},"-",{"$f":"IF($D$23>0, F129*$D$23,0)","v":405.69295199999993},{"$f":"G129*$E$23","v":429.89800960000002},{"$f":"IF($D$23>0,(IF(MOD(($C180-1),$D$29)<>0,0,$K$13*$D$23)),0)+IF($E$23>0,(IF(MOD(($C180-1),$D$30)<>0,0,$K$13*$E$23)),0)","v":14193.911970000001},{"$f":"IF($D$23>0,(IF(MOD(($C180-1),$D$29)<>0,0,$K$14*$D$23)),0)+IF($E$23>0,(IF(MOD(($C180-1),$D$30)<>0,0,$K$14*$E$23)),0)","v":11420.13564},{"$f":"SUM(D180:L180)","v":64319.6385716},"Euro/a",{"$f":"IF($M$192<>0,(IF(C180<=$F$89,M180/$M$192,\"-\")),0)","v":0.47778832231747015}]
[null,null,{"$f":"C180+1","v":2},{"$f":"IF($D$23>0,(IF(MOD(($C147-1),$D$29)<>0,0,Konstante_Werte!$E$65*$D$23)),0)","v":0},{"$f":"IF($E$23>0,(IF(MOD(($C181-1),$D$30)<>0,0,Konstante_Werte!$E$66*$E$23)),0)","v":0},{"$f":"IF($D$23>0,(IF($D$29=1,$D$23*$D$36*$J$36*Konstante_Werte!$E$67, IF(AND($D$29<>1,$D$29/($J$36+1)<1),Konstante_Werte!$E$67*$D$36*$D$23*$J$36/$D$29,IF(MOD($C181,$D$29)=0,0,IF(INT(MOD(($C181-$D$29*INT(($C181-1)/$D$29)),($D$29/($J$36+1))))<>0,0,Konstante_Werte!$E$67*$D$36*$D$23))))),0)","v":0},{"$f":"IF($D$23>0,(IF($D$29=1,$D$23*$E$36*$K$36*Konstante_Werte!$E$68, IF(AND($D$29<>1,$D$29/($K$36+1)<1),Konstante_Werte!$E$68*$E$36*$D$23*$K$36/$D$29,IF(MOD($C181,$D$29)=0,0,IF(INT(MOD(($C181-$D$29*INT(($C181-1)/$D$29)),($D$29/($K$36+1))))<>0,0,Konstante_Werte!$E$68*$E$36*$D$23))))),0)","v":0},"-",408.02961448421053,432.37408552421061,0,0,840.40370000842108,"Euro/a",6.2428067509961681E-3]
[null,null,{"$f":"C181+1","v":3},{"$f":"IF($D$23>0,(IF(MOD(($C148-1),$D$29)<>0,0,Konstante_Werte!$E$65*$D$23)),0)","v":0},{"$f":"IF($E$23>0,(IF(MOD(($C182-1),$D$30)<>0,0,Konstante_Werte!$E$66*$E$23)),0)","v":0},{"$f":"IF($D$23>0,(IF($D$29=1,$D$23*$D$36*$J$36*Konstante_Werte!$E$67, IF(AND($D$29<>1,$D$29/($J$36+1)<1),Konstante_Werte!$E$67*$D$36*$D$23*$J$36/$D$29,IF(MOD($C182,$D$29)=0,0,IF(INT(MOD(($C182-$D$29*INT(($C182-1)/$D$29)),($D$29/($J$36+1))))<>0,0,Konstante_Werte!$E$67*$D$36*$D$23))))),0)","v":0},{"$f":"IF($D$23>0,(IF($D$29=1,$D$23*$E$36*$K$36*Konstante_Werte!$E$68, IF(AND($D$29<>1,$D$29/($K$36+1)<1),Konstante_Werte!$E$68*$E$36*$D$23*$K$36/$D$29,IF(MOD($C182,$D$29)=0,0,IF(INT(MOD(($C182-$D$29*INT(($C182-1)/$D$29)),($D$29/($K$36+1))))<>0,0,Konstante_Werte!$E$68*$E$36*$D$23))))),0)","v":0},"-",410.37973540179581,434.86442285890814,0,0,845.2441582607039,"Euro/a",6.2787633340704255E-3]
[null,null,4,{"$f":"IF($D$23>0,(IF(MOD(($C149-1),$D$29)<>0,0,Konstante_Werte!$E$65*$D$23)),0)","v":0},{"$f":"IF($E$23>0,(IF(MOD(($C183-1),$D$30)<>0,0,Konstante_Werte!$E$66*$E$23)),0)","v":0},{"$f":"IF($D$23>0,(IF($D$29=1,$D$23*$D$36*$J$36*Konstante_Werte!$E$67, IF(AND($D$29<>1,$D$29/($J$36+1)<1),Konstante_Werte!$E$67*$D$36*$D$23*$J$36/$D$29,IF(MOD($C183,$D$29)=0,0,IF(INT(MOD(($C183-$D$29*INT(($C183-1)/$D$29)),($D$29/($J$36+1))))<>0,0,Konstante_Werte!$E$67*$D$36*$D$23))))),0)","v":0},{"$f":"IF($D$23>0,(IF($D$29=1,$D$23*$E$36*$K$36*Konstante_Werte!$E$68, IF(AND($D$29<>1,$D$29/($K$36+1)<1),Konstante_Werte!$E$68*$E$36*$D$23*$K$36/$D$29,IF(MOD($C183,$D$29)=0,0,IF(INT(MOD(($C183-$D$29*INT(($C183-1)/$D$29)),($D$29/($K$36+1))))<>0,0,Konstante_Werte!$E$68*$E$36*$D$23))))),0)","v":0},"-",412.74339226905539,437.36910374528514,0,0,850.11249601434054,"Euro/a",6.3149270156370677E-3]
[null,null,5,{"$f":"IF($D$23>0,(IF(MOD(($C150-1),$D$29)<>0,0,Konstante_Werte!$E$65*$D$23)),0)","v":0},{"$f":"IF($E$23>0,(IF(MOD(($C184-1),$D$30)<>0,0,Konstante_Werte!$E$66*$E$23)),0)","v":0},{"$f":"IF($D$23>0,(IF($D$29=1,$D$23*$D$36*$J$36*Konstante_Werte!$E$67, IF(AND($D$29<>1,$D$29/($J$36+1)<1),Konstante_Werte!$E$67*$D$36*$D$23*$J$36/$D$29,IF(MOD($C184,$D$29)=0,0,IF(INT(MOD(($C184-$D$29*INT(($C184-1)/$D$29)),($D$29/($J$36+1))))<>0,0,Konstante_Werte!$E$67*$D$36*$D$23))))),0)","v":0},{"$f":"IF($D$23>0,(IF($D$29=1,$D$23*$E$36*$K$36*Konstante_Werte!$E$68, IF(AND($D$29<>1,$D$29/($K$36+1)<1),Konstante_Werte!$E$68*$E$36*$D$23*$K$36/$D$29,IF(MOD($C184,$D$29)=0,0,IF(INT(MOD(($C184-$D$29*INT(($C184-1)/$D$29)),($D$29/($K$36+1))))<>0,0,Konstante_Werte!$E$68*$E$36*$D$23))))),0)","v":0},"-",415.12066304875805,439.88821079764136,0,0,855.00887384639941,"Euro/a",6.3512989885175994E-3]
[null,null,6,{"$f":"IF($D$23>0,(IF(MOD(($C151-1),$D$29)<>0,0,Konstante_Werte!$E$65*$D$23)),0)","v":0},{"$f":"IF($E$23>0,(IF(MOD(($C185-1),$D$30)<>0,0,Konstante_Werte!$E$66*$E$23)),0)","v":0},{"$f":"IF($D$23>0,(IF($D$29=1,$D$23*$D$36*$J$36*Konstante_Werte!$E$67, IF(AND($D$29<>1,$D$29/($J$36+1)<1),Konstante_Werte!$E$67*$D$36*$D$23*$J$36/$D$29,IF(MOD($C185,$D$29)=0,0,IF(INT(MOD(($C185-$D$29*INT(($C185-1)/$D$29)),($D$29/($J$36+1))))<>0,0,Konstante_Werte!$E$67*$D$36*$D$23))))),0)","v":0},{"$f":"IF($D$23>0,(IF($D$29=1,$D$23*$E$36*$K$36*Konstante_Werte!$E$68, IF(AND($D$29<>1,$D$29/($K$36+1)<1),Konstante_Werte!$E$68*$E$36*$D$23*$K$36/$D$29,IF(MOD($C185,$D$29)=0,0,IF(INT(MOD(($C185-$D$29*INT(($C185-1)/$D$29)),($D$29/($K$36+1))))<>0,0,Konstante_Werte!$E$68*$E$36*$D$23))))),0)","v":0},"-",417.51162615271318,442.42182710610837,0,0,859.9334532588216,"Euro/a",6.3878804524037987E-3]
[null,null,7,{"$f":"IF($D$23>0,(IF(MOD(($C152-1),$D$29)<>0,0,Konstante_Werte!$E$65*$D$23)),0)","v":22750},{"$f":"IF($E$23>0,(IF(MOD(($C186-1),$D$30)<>0,0,Konstante_Werte!$E$66*$E$23)),0)","v":15120},{"$f":"IF($D$23>0,(IF($D$29=1,$D$23*$D$36*$J$36*Konstante_Werte!$E$67, IF(AND($D$29<>1,$D$29/($J$36+1)<1),Konstante_Werte!$E$67*$D$36*$D$23*$J$36/$D$29,IF(MOD($C186,$D$29)=0,0,IF(INT(MOD(($C186-$D$29*INT(($C186-1)/$D$29)),($D$29/($J$36+1))))<>0,0,Konstante_Werte!$E$67*$D$36*$D$23))))),0)","v":0},{"$f":"IF($D$23>0,(IF($D$29=1,$D$23*$E$36*$K$36*Konstante_Werte!$E$68, IF(AND($D$29<>1,$D$29/($K$36+1)<1),Konstante_Werte!$E$68*$E$36*$D$23*$K$36/$D$29,IF(MOD($C186,$D$29)=0,0,IF(INT(MOD(($C186-$D$29*INT(($C186-1)/$D$29)),($D$29/($K$36+1))))<>0,0,Konstante_Werte!$E$68*$E$36*$D$23))))),0)","v":0},"-",308.67711130341166,327.09386521068859,14193.911970000001,11420.13564,64119.818586514099,"Euro/a",0.47630399097544285]
[null,null,8,{"$f":"IF($D$23>0,(IF(MOD(($C153-1),$D$29)<>0,0,Konstante_Werte!$E$65*$D$23)),0)","v":0},{"$f":"IF($E$23>0,(IF(MOD(($C187-1),$D$30)<>0,0,Konstante_Werte!$E$66*$E$23)),0)","v":0},{"$f":"IF($D$23>0,(IF($D$29=1,$D$23*$D$36*$J$36*Konstante_Werte!$E$67, IF(AND($D$29<>1,$D$29/($J$36+1)<1),Konstante_Werte!$E$67*$D$36*$D$23*$J$36/$D$29,IF(MOD($C187,$D$29)=0,0,IF(INT(MOD(($C187-$D$29*INT(($C187-1)/$D$29)),($D$29/($J$36+1))))<>0,0,Konstante_Werte!$E$67*$D$36*$D$23))))),0)","v":0},{"$f":"IF($D$23>0,(IF($D$29=1,$D$23*$E$36*$K$36*Konstante_Werte!$E$68, IF(AND($D$29<>1,$D$29/($K$36+1)<1),Konstante_Werte!$E$68*$E$36*$D$23*$K$36/$D$29,IF(MOD($C187,$D$29)=0,0,IF(INT(MOD(($C187-$D$29*INT(($C187-1)/$D$29)),($D$29/($K$36+1))))<>0,0,Konstante_Werte!$E$68*$E$36*$D$23))))),0)","v":0},"-",310.45499337447399,328.97782193186231,0,0,639.43281530633635,"Euro/a",4.7499261321230293E-3]
[null,null,9,{"$f":"IF($D$23>0,(IF(MOD(($C154-1),$D$29)<>0,0,Konstante_Werte!$E$65*$D$23)),0)","v":0},{"$f":"IF($E$23>0,(IF(MOD(($C188-1),$D$30)<>0,0,Konstante_Werte!$E$66*$E$23)),0)","v":0},{"$f":"IF($D$23>0,(IF($D$29=1,$D$23*$D$36*$J$36*Konstante_Werte!$E$67, IF(AND($D$29<>1,$D$29/($J$36+1)<1),Konstante_Werte!$E$67*$D$36*$D$23*$J$36/$D$29,IF(MOD($C188,$D$29)=0,0,IF(INT(MOD(($C188-$D$29*INT(($C188-1)/$D$29)),($D$29/($J$36+1))))<>0,0,Konstante_Werte!$E$67*$D$36*$D$23))))),0)","v":0},{"$f":"IF($D$23>0,(IF($D$29=1,$D$23*$E$36*$K$36*Konstante_Werte!$E$68, IF(AND($D$29<>1,$D$29/($K$36+1)<1),Konstante_Werte!$E$68*$E$36*$D$23*$K$36/$D$29,IF(MOD($C188,$D$29)=0,0,IF(INT(MOD(($C188-$D$29*INT(($C188-1)/$D$29)),($D$29/($K$36+1))))<>0,0,Konstante_Werte!$E$68*$E$36*$D$23))))),0)","v":0},"-",312.24311548129822,330.87262964507477,0,0,643.11574512637299,"Euro/a",4.7772841972335703E-3]
[null,null,10,{"$f":"IF($D$23>0,(IF(MOD(($C155-1),$D$29)<>0,0,Konstante_Werte!$E$65*$D$23)),0)","v":0},{"$f":"IF($E$23>0,(IF(MOD(($C189-1),$D$30)<>0,0,Konstante_Werte!$E$66*$E$23)),0)","v":0},{"$f":"IF($D$23>0,(IF($D$29=1,$D$23*$D$36*$J$36*Konstante_Werte!$E$67, IF(AND($D$29<>1,$D$29/($J$36+1)<1),Konstante_Werte!$E$67*$D$36*$D$23*$J$36/$D$29,IF(MOD($C189,$D$29)=0,0,IF(INT(MOD(($C189-$D$29*INT(($C189-1)/$D$29)),($D$29/($J$36+1))))<>0,0,Konstante_Werte!$E$67*$D$36*$D$23))))),0)","v":0},{"$f":"IF($D$23>0,(IF($D$29=1,$D$23*$E$36*$K$36*Konstante_Werte!$E$68, IF(AND($D$29<>1,$D$29/($K$36+1)<1),Konstante_Werte!$E$68*$E$36*$D$23*$K$36/$D$29,IF(MOD($C189,$D$29)=0,0,IF(INT(MOD(($C189-$D$29*INT(($C189-1)/$D$29)),($D$29/($K$36+1))))<>0,0,Konstante_Werte!$E$68*$E$36*$D$23))))),0)","v":0},"-",314.04153660323618,332.77835084859157,0,0,646.81988745182775,"Euro/a",4.8047998361054221E-3]
[null,null,11,{"$f":"IF($D$23>0,(IF(MOD(($C156-1),$D$29)<>0,0,Konstante_Werte!$E$65*$D$23)),0)","v":0},{"$f":"IF($E$23>0,(IF(MOD(($C190-1),$D$30)<>0,0,Konstante_Werte!$E$66*$E$23)),0)","v":0},{"$f":"IF($D$23>0,(IF($D$29=1,$D$23*$D$36*$J$36*Konstante_Werte!$E$67, IF(AND($D$29<>1,$D$29/($J$36+1)<1),Konstante_Werte!$E$67*$D$36*$D$23*$J$36/$D$29,IF(MOD($C190,$D$29)=0,0,IF(INT(MOD(($C190-$D$29*INT(($C190-1)/$D$29)),($D$29/($J$36+1))))<>0,0,Konstante_Werte!$E$67*$D$36*$D$23))))),0)","v":0},{"$f":"IF($D$23>0,(IF($D$29=1,$D$23*$E$36*$K$36*Konstante_Werte!$E$68, IF(AND($D$29<>1,$D$29/($K$36+1)<1),Konstante_Werte!$E$68*$E$36*$D$23*$K$36/$D$29,IF(MOD($C190,$D$29)=0,0,IF(INT(MOD(($C190-$D$29*INT(($C190-1)/$D$29)),($D$29/($K$36+1))))<>0,0,Konstante_Werte!$E$68*$E$36*$D$23))))),0)","v":0},"-",315.85031605934228,334.695048400649,0,0,650.54536445999133,"Euro/a","-"]
[null,null,12,{"$f":"IF($D$23>0,(IF(MOD(($C157-1),$D$29)<>0,0,Konstante_Werte!$E$65*$D$23)),0)","v":0},{"$f":"IF($E$23>0,(IF(MOD(($C191-1),$D$30)<>0,0,Konstante_Werte!$E$66*$E$23)),0)","v":0},{"$f":"IF($D$23>0,(IF($D$29=1,$D$23*$D$36*$J$36*Konstante_Werte!$E$67, IF(AND($D$29<>1,$D$29/($J$36+1)<1),Konstante_Werte!$E$67*$D$36*$D$23*$J$36/$D$29,IF(MOD($C191,$D$29)=0,0,IF(INT(MOD(($C191-$D$29*INT(($C191-1)/$D$29)),($D$29/($J$36+1))))<>0,0,Konstante_Werte!$E$67*$D$36*$D$23))))),0)","v":0},{"$f":"IF($D$23>0,(IF($D$29=1,$D$23*$E$36*$K$36*Konstante_Werte!$E$68, IF(AND($D$29<>1,$D$29/($K$36+1)<1),Konstante_Werte!$E$68*$E$36*$D$23*$K$36/$D$29,IF(MOD($C191,$D$29)=0,0,IF(INT(MOD(($C191-$D$29*INT(($C191-1)/$D$29)),($D$29/($K$36+1))))<>0,0,Konstante_Werte!$E$68*$E$36*$D$23))))),0)","v":0},"-",317.66951351032952,336.62278552152657,0,0,654.29229903185615,"Euro/a","-"]
[null,null,"Summe über Betrachtungszeitraum",{"$f":"SUM(D180:OFFSET(D180,$F$89-1,0))","v":45500},{"$f":"SUM(E180:OFFSET(E180,$F$89-1,0))","v":30240},{"$f":"SUM(F180:OFFSET(F180,$F$89-1,0))","v":0},{"$f":"SUM(G180:OFFSET(G180,$F$89-1,0))","v":0},"-",{"$f":"SUM(I180:OFFSET(I180,$F$89-1,0))","v":3714.894740118953},{"$f":"SUM(J180:OFFSET(J180,$F$89-1,0))","v":3936.5383272683712},{"$f":"SUM(K180:OFFSET(K180,$F$89-1,0))","v":28387.823940000002},{"$f":"SUM(L180:OFFSET(L180,$F$89-1,0))","v":22840.271280000001},{"$f":"SUM(M180:OFFSET(M180,$F$89-1,0))","v":134619.52828738731},"Euro/Betrachtungszeitraum",{"$f":"SUM(O180:O191)","v":0.99999999999999989}]

{"sheet":"Berechnung_UBA-Empfehlung","index":10,"n_rows":192,"n_cols":15,"rows_kept":192,"cut":false,"hidden":true,"merged":[[1,3,1,4],[143,3,143,7],[177,3,177,7],[49,3,49,6],[31,8,31,11],[105,3,105,4],[106,3,106,4],[107,3,107,4],[108,3,108,4],[160,3,160,7],[160,8,160,9],[143,10,144,10],[143,11,144,11],[1,5,1,7],[4,2,4,3],[5,2,5,3],[41,3,41,5],[31,2,31,5],[70,3,71,12],[42,3,42,5],[43,3,43,5],[44,3,44,5],[46,3,46,6],[47,3,47,6],[48,3,48,6],[40,3,40,5],[143,8,143,9],[177,8,177,9],[177,14,178,14],[143,14,144,14],[160,10,161,10],[160,11,161,11],[160,12,161,13],[160,14,161,14],[177,12,178,13],[143,12,144,13],[177,10,178,10],[177,11,178,11]]}
[null,"Berechnung der CO2-Äquivalente und der Kosten"]
[null,null,null,null,null,"Zurück zum Inhaltsverzeichnis"]
[null,{"$f":"'UBA-Empfehlung'!B3","v":"Bezeichnung:"},null,{"$f":"'UBA-Empfehlung'!C3","v":"UBA-Empfehlung "}]
[null,"1. Feste Daten"]
[null,null,{"$f":"'Default-Werte'!B4","v":"Anzahl von Arbeitstagen/Jahr"},null,203,"d/a"]
[null,null,{"$f":"'Default-Werte'!B5","v":"Betrachtungszeitraum [Jahr]"},null,{"$f":"IF(Konstante_Werte!E16<>\"0\", Konstante_Werte!E16, Konstante_Werte!L16)","v":10},"Jahre"]
[]
[null,null,{"$f":"Konstante_Werte!C18","v":"Strompreis: [€/kWh]"},null,null,null,{"$f":"Konstante_Werte!E18","v":0.21199999999999999}]
[null,null,{"$f":"Konstante_Werte!C19","v":"Reale Preissteigerungsrate Strom: [%/Jahr]"},null,null,null,{"$f":"Konstante_Werte!E19","v":5.7596822244290191E-3}]
[]
[null,null,"Durchschnittlicher Verwaltungsaufwand eines Beschaffungszyklus",null,null,null,null,{"$f":"Konstante_Werte!E59","v":"Höherer Dienst"},{"$f":"Konstante_Werte!F59","v":"Gehobener Dienst "},{"$f":"Konstante_Werte!G59","v":"Mittlerer Dienst"},"Summe"]
[null,null,{"$f":"Konstante_Werte!C60","v":"Personalaufwand [d/Stück]"},null,null,null,null,{"$f":"Konstante_Werte!$E$60","v":1.1619999999999998E-2},{"$f":"Konstante_Werte!F60","v":8.7660000000000002E-2},{"$f":"Konstante_Werte!G60","v":0.18442},{"$f":"SUM(H12:J12)","v":0.28370000000000001}]
[null,null,"Personalkosten pro Gerät [EUR/Stck]",null,null,null,null,{"$f":"$H$12*Konstante_Werte!E55","v":6.2047313999999991},{"$f":"$I$12*Konstante_Werte!F55","v":35.8450506},{"$f":"$J$12*Konstante_Werte!G55","v":52.576297799999999},{"$f":"SUM(H13:J13)","v":94.626079799999999}]
[null,null,"Sach- und Gemeinkosten pro Gerät [EUR/Stck]",null,null,null,null,{"$f":"$H$12*Konstante_Werte!E56","v":4.0034385999999991},{"$f":"$I$12*Konstante_Werte!F56","v":26.035019999999999},{"$f":"$J$12*Konstante_Werte!G56","v":46.095779},{"$f":"SUM(H14:J14)","v":76.134237600000006}]
[]
[null,null,{"$f":"Konstante_Werte!B47","v":"Anteil Nutzer nach Nutzungsintensität"},{"$f":"Konstante_Werte!C48","v":"Hohe Nutzungsintensität [%]"},{"$f":"Konstante_Werte!C49","v":"Mittlere Nutzungsintensität [%]"},{"$f":"Konstante_Werte!C50","v":"Geringe Nutzungsintensität [%]"}]
[null,null,"Geräte ",{"$f":"Konstante_Werte!E48","v":0.25},{"$f":"Konstante_Werte!E49","v":0.5},{"$f":"Konstante_Werte!E50","v":0.25}]
[]
[null,"2. Variable Daten"]
[null,null,{"$f":"'UBA-Empfehlung'!B13","v":"Anzahl aller Geräte [Stück]"},{"$f":"'UBA-Empfehlung'!E13","v":"Anzahl der Geräte"},{"$f":"'UBA-Empfehlung'!F13","v":"Anzahl der zugeordneten Monitore"}]
[null,null,{"$f":"'UBA-Empfehlung'!C14","v":"APC-Desktop-PC"},{"$f":"'UBA-Empfehlung'!E14","v":100},{"$f":"'UBA-Empfehlung'!F14","v":120}]
[null,null,{"$f":"'UBA-Empfehlung'!C15","v":"APC-Notebook"},{"$f":"'UBA-Empfehlung'!E15","v":50},{"$f":"'UBA-Empfehlung'!F15","v":50}]
[null,null,{"$f":"'UBA-Empfehlung'!C16","v":"APC-Mini-PC"},{"$f":"'UBA-Empfehlung'!E16","v":70},{"$f":"'UBA-Empfehlung'!F16","v":80}]
[null,null,{"$f":"'UBA-Empfehlung'!C17","v":"Summe "},{"$f":"'UBA-Empfehlung'!E17","v":220},{"$f":"SUM(E21:E23)","v":250}]
[]
[null,null,{"$f":"'UBA-Empfehlung'!B19","v":"Geänderte Nutzungsdauer auf Basis der UBA-Empfehlung: Nutzungsdauer [Jahre]"}]
[null,null,{"$f":"'UBA-Empfehlung'!C20","v":"Desktop-PC"},{"$f":"'UBA-Empfehlung'!E20","v":6}]
[null,null,{"$f":"'UBA-Empfehlung'!C21","v":"Notebook"},{"$f":"'UBA-Empfehlung'!E21","v":6}]
[null,null,{"$f":"'UBA-Empfehlung'!C22","v":"Mini-PC"},{"$f":"'UBA-Empfehlung'!E22","v":6}]
[null,null,{"$f":"'UBA-Empfehlung'!C23","v":"Monitor"},{"$f":"'UBA-Empfehlung'!E23","v":6}]
[]
[null,null,{"$f":"'UBA-Empfehlung'!B31","v":"Prozentualer Anteil der Geräte, bei denen während der Nutzungsphase folgende Komponenten nachgerüstet bzw. ausgetauscht werden [%]"},null,null,null,null,null,{"$f":"'UBA-Empfehlung'!B25","v":"Anzahl der Austauschvorgänge von Komponenten je Gerät während der Nutzungsphase"}]
[null,null,null,{"$f":"'UBA-Empfehlung'!E32","v":"Ersatz HDD durch SSD"},{"$f":"'UBA-Empfehlung'!F32","v":"RAM hinzufügen"},{"$f":"'UBA-Empfehlung'!G32","v":"Wechsel des Akkus"},null,null,null,{"$f":"'UBA-Empfehlung'!E26","v":"Ersatz HDD durch SSD"},{"$f":"'UBA-Empfehlung'!F26","v":"RAM hinzufügen"},{"$f":"'UBA-Empfehlung'!G26","v":"Wechsel des Akkus"}]
[null,null,{"$f":"'UBA-Empfehlung'!C33","v":"Desktop-PC"},{"$f":"'UBA-Empfehlung'!E33","v":0},{"$f":"'UBA-Empfehlung'!F33","v":0},{"$f":"'UBA-Empfehlung'!G33","v":"-"},null,null,{"$f":"'UBA-Empfehlung'!C27","v":"Desktop-PC"},{"$f":"'UBA-Empfehlung'!E27","v":1},{"$f":"'UBA-Empfehlung'!F27","v":1},{"$f":"'UBA-Empfehlung'!G27","v":"-"}]
[null,null,{"$f":"'UBA-Empfehlung'!C34","v":"Notebook"},{"$f":"'UBA-Empfehlung'!E34","v":0},{"$f":"'UBA-Empfehlung'!F34","v":0},{"$f":"'UBA-Empfehlung'!G34","v":0.5},null,null,{"$f":"'UBA-Empfehlung'!C28","v":"Notebook"},{"$f":"'UBA-Empfehlung'!E28","v":1},{"$f":"'UBA-Empfehlung'!F28","v":1},{"$f":"'UBA-Empfehlung'!G28","v":1}]
[null,null,{"$f":"'UBA-Empfehlung'!C35","v":"Mini-PC"},{"$f":"'UBA-Empfehlung'!E35","v":0},{"$f":"'UBA-Empfehlung'!F35","v":0},{"$f":"'UBA-Empfehlung'!G35","v":"-"},null,null,{"$f":"'UBA-Empfehlung'!C29","v":"Mini-PC"},{"$f":"'UBA-Empfehlung'!E29","v":1},{"$f":"'UBA-Empfehlung'!F29","v":1},{"$f":"'UBA-Empfehlung'!G29","v":"-"}]
[]
[null,"3. Ergebnisse"]
[null,"3.1 Stromverbrauch während der Nutzung"]
[null,null,"Stromverbrauch pro Gerät während der Nutzung [kWh/Gerät/Betrachtungsraum]"]
[null,null,"IT-Gerät","kWh/Gerät/Betrachtungsraum"]
[null,null,"Desktop-PC",{"$f":"$D$125","v":415.33979493344253}]
[null,null,"Notebook",{"$f":"$E$125","v":131.45326399640874}]
[null,null,"Mini-PC",{"$f":"$F$125","v":244.40998035011251}]
[null,null,"Monitor",{"$f":"$G$125","v":226.618291286035}]
[]
[null,null,"Arbeitsplatztyp","kWh/Betrachtungsraum ( für alle Geräte)"]
[null,null,"APC mit Desktop-PC",{"$f":"D42*$D21+$D$45*$E21","v":68728.174447668454}]
[null,null,"APC mit Notebook",{"$f":"D43*$D22+$D$45*$E22","v":17903.577764122187}]
[null,null,"APC mit Mini-PC",{"$f":"D44*$D23+$D$45*$E23","v":35238.161927390676}]
[]
[null,"3.2 GWP-Ergebnisse bezogen auf alle Geräte des Typs über den Betrachtungszeitraum"]
[null,null,"kg CO2e / Betrachtungszeitraum","APC mit Desktop","APC mit Notebook","APC mit Mini-PC","Summe",null,"GWP in % bezogen auf den Arbeitsplatztyp / Betrachtungszeitraum","APC mit Desktop","APC mit Notebook","APC mit Mini-PC","% (Summe)"]
[null,null,"Herstellung",{"$f":"IF(OR($D$21>0,$E$21>0),('Default-Werte'!$D$24+$D$34*$J$34*'Default-Werte'!$C$26+$E$34*$K$34*'Default-Werte'!$C$12)*$J$91*$D$21+'Default-Werte'!$D$25*$E$21*$J$94,0)","v":75456.666666666657},{"$f":"IF(OR($D$22>0,$E$22>0),('Default-Werte'!$D$47+'Default-Werte'!$C$39*$D$35*$J$35+'Default-Werte'!$C$30*$E$35*$K$35+'Default-Werte'!$C$38*$F$35*$L$35)*$J$92*$D$22+'Default-Werte'!$D$48*$J$94*$E$22,0)","v":28554.166666666672},{"$f":"IF(OR($D$23>0,$E$23>0),('Default-Werte'!$D$67+'Default-Werte'!$C$60*$D$36*$J$36+'Default-Werte'!$C$53*$E$36*$K$36)*$J$93*$D$23+$E$23*$J$94*'Default-Werte'!$D$68,0)","v":33985},{"$f":"SUM(D54:F54)","v":137995.83333333331},null,"Herstellung",{"$f":"IF($D$58=0,0,D54/$D$58)","v":0.61493739598179264},{"$f":"IF($E$58=0,0,E54/$E$58)","v":0.70007965543303174},{"$f":"IF($F$58=0,0,F54/$F$58)","v":0.58708732596832192},{"$f":"G54/$G$58","v":0.62334160174481446}]
[null,null,"Distribution",{"$f":"IF(OR($D$21>0,$E$21>0),('Default-Werte'!$C$72+$D$34*$J$34*'Default-Werte'!$C$78+$E$34*$K$34*'Default-Werte'!$C$77)*$J$91*$D$21+$J$94*$E$21*'Default-Werte'!$C$75,0)","v":3528},{"$f":"IF(OR($D$22>0,$E$22>0),('Default-Werte'!$C$73+'Default-Werte'!$C$78*$D$35*$J$35+'Default-Werte'!$C$77*$E$35*$K$35+'Default-Werte'!$C$76*$F$35*$L$35)*$J$92*$D$22+$J$94*$E$22*'Default-Werte'!$C$75,0)","v":865.29166666666674},{"$f":"IF(OR($D$23>0,$E$23>0),('Default-Werte'!$C$74+'Default-Werte'!$C$78*$D$36*$J$36+'Default-Werte'!$C$77*$E$36*$K$36)*$J$93*$D$23+$J$94*$E$23*'Default-Werte'!$C$75,0)","v":1678.5},{"$f":"SUM(D55:F55)","v":6071.791666666667},null,"Distribution",{"$f":"IF($D$58=0,0,D55/$D$58)","v":2.8751589870880834E-2},{"$f":"IF($E$58=0,0,E55/$E$58)","v":2.1214875535353523E-2},{"$f":"IF($F$58=0,0,F55/$F$58)","v":2.8995912215325239E-2},{"$f":"G55/$G$58","v":2.7426917549158977E-2}]
[null,null,"Nutzung",{"$f":"IF(OR($D$21>0,$E$21>0),$D$48*Konstante_Werte!$E$17,0)","v":42748.924506449781},{"$f":"IF(OR($D$22>0,$E$22>0),$D$49*Konstante_Werte!$E$17,0)","v":11136.025369284},{"$f":"IF(OR($D$23>0,$E$23>0),$D$50*Konstante_Werte!$E$17,0)","v":21918.136718837002},{"$f":"SUM(D56:F56)","v":75803.086594570777},null,"Nutzung",{"$f":"IF($D$58=0,0,D56/$D$58)","v":0.34838422472525254},0.27302862291277424,0.37863352292099761,0.34241046467630515]
[null,null,"Entsorgung",{"$f":"IF(OR($D$21>0,$E$21>0),('Default-Werte'!$C$82+$D$34*$J$34*'Default-Werte'!$C$88+$E$34*$K$34*'Default-Werte'!$C$87)*$J$91*$D$21+$J$94*$E$21*'Default-Werte'!$C$85,0)","v":972.66666666666663},{"$f":"IF(OR($D$22>0,$E$22>0),('Default-Werte'!$C$83+'Default-Werte'!$C$88*$D$35*$J$35+'Default-Werte'!$C$87*$E$35*$K$35+'Default-Werte'!$C$86*$F$35*$L$35)*$J$92*$D$22+$J$94*$E$22*'Default-Werte'!$C$85,0)","v":231.54166666666669},{"$f":"IF(OR($D$23>0,$E$23>0),('Default-Werte'!$C$84+'Default-Werte'!$C$88*$D$36*$J$36+'Default-Werte'!$C$87*$E$36*$K$36)*$J$93*$D$23+$J$94*$E$23*'Default-Werte'!$C$85,0)","v":305.83333333333337},{"$f":"SUM(D57:F57)","v":1510.0416666666665},null,"Entsorgung",{"$f":"IF($D$58=0,0,D57/$D$58)","v":7.9267894220739106E-3},5.6768461188404454E-3,5.2832388953551607E-3,6.8210160297212542E-3]
[null,null,"Summe",{"$f":"SUM(D54:D57)","v":122706.25783978311},{"$f":"SUM(E54:E57)","v":40787.025369284005},{"$f":"SUM(F54:F57)","v":57887.470052170342},{"$f":"SUM(D58:F58)","v":221380.75326123746},null,"Summe",{"$f":"SUM(J54:J57)","v":1},{"$f":"SUM(K54:K57)","v":0.99999999999999989},{"$f":"SUM(L54:L57)","v":1},{"$f":"SUM(M54:M57)","v":0.99999999999999978}]
[]
[null,"3.3 Kosten-Ergebnisse bezogen auf Betrachtungszeitraum und je Haushaltsjahr"]
[null,null,"Lebenszykluskosten-Ergebnisse bezogen auf Betrachtungszeitraum"]
[null,null,"Kosten in EURO / Betrachtungszeitraum","APC mit Desktop","APC mit Notebook","APC mit Mini-PC","Summe",null,"Kosten in % / Betrachtungszeitraum","APC mit Desktop","APC mit Notebook","APC mit Mini-PC","% (Summe)"]
[null,null,"Anschaffungskosten",{"$f":"IF(OR($D$21>0,$E$21>0),(Konstante_Werte!$E$63+$D$34*$J$34*Konstante_Werte!$E$67+$E$34*$K$34*Konstante_Werte!$E$68)*$J$91*$D$21+Konstante_Werte!$E$66*$J$94*$E$21,0)","v":89800},{"$f":"IF(OR($D$22>0,$E$22>0),(Konstante_Werte!$E$64+Konstante_Werte!$E$67*$D$35*$J$35+Konstante_Werte!$E$68*$E$35*$K$35+Konstante_Werte!$E$69*$F$35*$L$35)*$J$92*$D$22+Konstante_Werte!$E$66*$J$94*$E$22,0)","v":54791.666666666672},{"$f":"IF(OR($D$23>0,$E$23>0),(Konstante_Werte!$E$65+Konstante_Werte!$E$67*$D$36*$J$36+Konstante_Werte!$E$68*$E$36*$K$36)*$J$93*$D$23+Konstante_Werte!$E$66*$J$94*$E$23,0)","v":63116.666666666672},{"$f":"SUM(D63:F63)","v":207708.33333333337},null,{"$f":"C63","v":"Anschaffungskosten"},{"$f":"IF($D$67=0,0,D63/$D$67)","v":0.53664676383001952},{"$f":"IF($E$67=0,0,E63/$E$67)","v":0.62878314476680031},{"$f":"IF($F$67=0,0,F63/$F$67)","v":0.55629895681568731},{"$f":"G63/$G$67","v":0.56452792540612851}]
[null,null,"Energiekosten",{"$f":"IF(OR($D$21>0,$E$21>0),D141*$D$21+$G$141*$E21,0)","v":14923.281972357818},{"$f":"IF(OR($D$22>0,$E$22>0),(E141*$D$22+$G$141*$E$22),0)","v":3887.4907042885206},{"$f":"IF(OR($D$23>0,$E$23>0),(F141*$D$23+$G$141*$E$23),0)","v":7651.4330673873246},{"$f":"SUM(D64:F64)","v":26462.205744033665},null,{"$f":"C64","v":"Energiekosten"},{"$f":"IF($D$67=0,0,D64/$D$67)","v":8.9181859423036677E-2},{"$f":"IF($E$67=0,0,E64/$E$67)","v":4.4612416066206646E-2},{"$f":"IF($F$67=0,0,F64/$F$67)","v":6.7438355957738949E-2},{"$f":"G64/$G$67","v":7.1921303640599205E-2}]
[null,null,"Bruttopersonalkosten",{"$f":"IF(OR($D$21>0,$E$21>0),($K$13)*($J$91*$D$21+$E$21*$J$94),0)","v":34696.22926},{"$f":"IF(OR($D$22>0,$E$22>0),($K$13)*($J$92*$D$22+$E$22*$J$94),0)","v":15771.013300000002},{"$f":"IF(OR($D$23>0,$E$23>0),($K$13)*($J$93*$D$23+$E$23*$J$94),0)","v":23656.519949999998},{"$f":"SUM(D65:F65)","v":74123.76251},null,"Bruttopersonalkosten",0.20734542482720972,0.18098641531132531,0.2085043153431396,0.20146006277905809]
[null,null,"Sach-und Gemeinkosten",{"$f":"IF(OR($D$21>0,$E$21>0),($K$14)*($J$91*$D$21+$E$21*$J$94),0)","v":27915.887120000003},{"$f":"IF(OR($D$22>0,$E$22>0),($K$14)*($J$92*$D$22+$E$22*$J$94),0)","v":12689.039600000002},{"$f":"IF(OR($D$23>0,$E$23>0),($K$14)*($J$93*$D$23+$E$23*$J$94),0)","v":19033.559400000002},{"$f":"SUM(D66:F66)","v":59638.486120000001},null,"Sach-und Gemeinkosten",0.16682595191973412,0.14561802385566774,0.16775837188343418,0.16209070817421439]
[null,null,"Summe",{"$f":"SUM(D63:D66)","v":167335.39835235782},{"$f":"SUM(E63:E66)","v":87139.210270955198},{"$f":"SUM(F63:F66)","v":113458.17908405399},{"$f":"SUM(D67:F67)","v":367932.78770736698},null,"Summe",{"$f":"SUM(J63:J66)","v":1},{"$f":"SUM(K63:K66)","v":1},{"$f":"SUM(L63:L66)","v":1},{"$f":"SUM(M63:M66)","v":1.0000000000000002}]
[]
[null,null,"Kosten je Haushaltsjahr"]
[null,null,"Haushaltplan: erforderliche Haushaltsmittel (in €) je Haushaltsjahr im Betrachtungszeitraum"]
[null,null,"Hinweis: ","Die Summe kann höher sein als die  Lebenszykluskosten. Bei den Lebenszykluskosten wird die letzte Beschaffung einer Komponente nur anteilig einbezogen, sofern der Betrachtungszeitraum kein ganzzahliges Vielfaches der angenommenen Nutzungsdauer der Komponente ist."]
[]
[null,null,"Kosten in EURO / Betrachtungszeitraum","APC mit Desktop","APC mit Notebook","APC mit Mini-PC","Summe",null,"Kosten: Anteil der Ausstattung in % innerhalb eines Jahres","APC mit Desktop","APC mit Notebook","APC mit Mini-PC","Summe"]
[null,null,{"$f":"C146","v":1},{"$f":"IF(C74<=$F$89,M146,\"-\")","v":93076.998458400005},{"$f":"IF(C74<=$F$89,M163,\"-\")","v":48500.573400000001},{"$f":"IF(C74<=$F$89,M180,\"-\")","v":64319.6385716},{"$f":"IF(C74<=$F$89,(IF(SUM(D74:F74)>=0,SUM(D74:F74),0)),\"-\")","v":205897.21043000001},null,{"$f":"C74","v":1},{"$f":"IF(C74<=$F$89,(IF(G74=0,0,D74/$G$74)),\"-\")","v":0.45205565565466416},{"$f":"IF(C74<=$F$89,(IF(G74=0,0,E74/$G$74)),\"-\")","v":0.23555721468353261},{"$f":"IF(C74<=$F$89,(IF(G74=0,0,F74/$G$74)),\"-\")","v":0.31238712966180326},{"$f":"IF(C74<=$F$89,SUM(J74:L74),\"-\")","v":1}]
[null,null,2,1639.115349423158,426.98688505263158,840.40370000842108,2906.5059344842102,null,{"$f":"C75","v":2},{"$f":"IF(C75<=$F$89,(IF(G75=0,0,D75/$G$74)),\"-\")","v":7.9608429176869153E-3},2.0737866441264711E-3,{"$f":"IF(C75<=$F$89,(IF(G75=0,0,F75/$G$74)),\"-\")","v":4.0816662753871439E-3},{"$f":"IF(C75<=$F$89,SUM(J75:L75),\"-\")","v":1.4116295837200532E-2}]
[null,null,3,1648.5561329650193,2304.4461938245336,845.2441582607039,4798.2464850502565,null,3,8.0066948431313876E-3,1.1192216684295432E-2,4.1051753760795425E-3,2.3304086903506362E-2]
[null,null,4,1658.0512924200311,431.91966743345341,850.11249601434054,2940.0834558678253,null,4,8.0528108610957976E-3,2.0977441439416467E-3,4.1288198817213111E-3,1.4279374886758756E-2]
[null,null,5,1667.6011409761745,434.40738746435125,855.00887384639941,2957.0174022869251,null,5,8.0991924926691414E-3,2.1098264835989079E-3,4.152600572201931E-3,1.436161954846998E-2]
[null,null,6,1677.2059936252924,436.90943597209019,859.9334532588216,2974.0488828562038,null,6,8.1458412677013967E-3,2.1219784136931211E-3,4.1765182319027962E-3,1.4444337913297314E-2]
[null,null,7,92687.271468058898,48399.050152301024,64119.818586514099,205206.14020687403,null,7,0.45016283258276729,0.23506413734903667,0.31141664548346693,0.99664361541527091]
[null,null,8,1247.143655463412,324.8788957085165,639.43281530633635,2211.4553664782648,null,8,6.0571177863889035E-3,1.5778693408717518E-3,3.1055924165797662E-3,1.0740579543840421E-2]
[null,null,9,1254.3268066070943,2201.7500949092209,643.11574512637299,4099.1926466426885,null,9,6.0920048600344428E-3,1.069344305496437E-2,3.1234796420178627E-3,1.9908927557016676E-2]
[null,null,10,1261.5513304187341,328.63207162270021,646.81988745182775,2237.0032894932619,null,10,6.1270928721379181E-3,1.5960977370037125E-3,3.141469892190359E-3,1.086466050133199E-2]
[null,null,11,"-","-","-",{"$f":"IF(C84<=$F$89,(IF(SUM(D84:F84)>=0,SUM(D84:F84),0)),\"-\")","v":"-"},null,11,"-",{"$f":"IF(C84<=$F$89,(IF(G84=0,0,E84/$G$74)),\"-\")","v":"-"},"-","-"]
[null,null,12,"-","-","-",{"$f":"IF(C85<=$F$89,(IF(SUM(D85:F85)>=0,SUM(D85:F85),0)),\"-\")","v":"-"},null,12,"-","-","-","-"]
[]
[null,"4.Berechnungsweg: Stromverbrauch und Energiekosten"]
[null,null,"Berechnung des Stromverbrauchs innerhalb des Betrachtungszeitraums"]
[null,null,"Betrachtungszeitraum",null,null,{"$f":"E6","v":10},"Jahre"]
[null,null,{"$f":"C26","v":"Geänderte Nutzungsdauer auf Basis der UBA-Empfehlung: Nutzungsdauer [Jahre]"},null,null,null,null,null,"IT-Gerät","Anzahl des Beschaffungszyklus","Einheit"]
[null,null,null,"Desktop-PC",null,{"$f":"D27","v":6},"Jahre",null,"Desktop-PC",{"$f":"IF(D21<>0,$E$6/D27, \"0\")","v":1.6666666666666667},"Anzahl des Beschaffungszyklus"]
[null,null,null,"Notebook",null,{"$f":"D28","v":6},"Jahre",null,"Notebook",{"$f":"IF(D22<>0,$E$6/D28, \"0\")","v":1.6666666666666667},"Anzahl des Beschaffungszyklus"]
[null,null,null,"Mini-PC",null,{"$f":"D29","v":6},"Jahre",null,"Mini-PC",{"$f":"IF(D23<>0,$E$6/D29, \"0\")","v":1.6666666666666667},"Anzahl des Beschaffungszyklus"]
[null,null,null,"Monitor",null,{"$f":"D30","v":6},"Jahre",null,"Monitor",{"$f":"IF(D30<>0,$E$6/D30, \"0\")","v":1.6666666666666667},"Anzahl des Beschaffungszyklus"]
[null,null,"Energieeffizienzsteigerung von 5% pro Jahr",null,null,0.05]
[]
[null,null,"Stromverbrauch","Wh/Gerät/pro Kalendertag",null,null,null,null,"Stromverbrauch","kWh/Gerät/das erste Jahr"]
[null,null,"IT-Gerät","Hohe Nutzungsintensität ","Mittlere Nutzungsintensität ","Geringe Nutzungsintensität ",null,null,"IT-Gerät","Hohe Nutzungsintensität ","Mittlere Nutzungsintensität ","Geringe Nutzungsintensität "]
[null,null,"Desktop-PC",{"$f":"IF($D$21>0,SUMPRODUCT(Konstante_Werte!$E$28:$G$28,'UBA-Empfehlung'!$E$38:$G$38),0)","v":259.185},{"$f":"IF($D$21>0,SUMPRODUCT(Konstante_Werte!$E$29:$G$29,'UBA-Empfehlung'!$E$38:$G$38),0)","v":213.72},{"$f":"IF($D$21>0,SUMPRODUCT(Konstante_Werte!$E$30:$G$30,'UBA-Empfehlung'!$E$38:$G$38),0)","v":168.255},null,null,"Desktop-PC",{"$f":"IF($D$21>0,(D$99*$E$5+'UBA-Empfehlung'!$G$38*24*(365-$E$5))/1000,0)","v":55.686074999999995},{"$f":"IF($D$21>0,(E$99*$E$5+'UBA-Empfehlung'!$G$38*24*(365-$E$5))/1000,0)","v":46.456679999999992},{"$f":"IF($D$21>0,(F$99*$E$5+'UBA-Empfehlung'!$G$38*24*(365-$E$5))/1000,0)","v":37.227284999999995}]
[null,null,"Notebook",{"$f":"IF($D$22>0,SUMPRODUCT(Konstante_Werte!$E$33:$G$33,'UBA-Empfehlung'!$E$42:$G$42),0)","v":76.077500000000001},{"$f":"IF($D$22>0,SUMPRODUCT(Konstante_Werte!$E$34:$G$34,'UBA-Empfehlung'!$E$42:$G$42),0)","v":63.61999999999999},{"$f":"IF($D$22>0,SUMPRODUCT(Konstante_Werte!$E$35:$G$35,'UBA-Empfehlung'!$E$42:$G$42),0)","v":51.162499999999987},null,null,"Notebook",{"$f":"IF($D$22>0,(D$100*$E$5+'UBA-Empfehlung'!$G$42*24*(365-$E$5))/1000,0)","v":17.232212500000003},{"$f":"IF($D$22>0,(E$100*$E$5+'UBA-Empfehlung'!$G$42*24*(365-$E$5))/1000,0)","v":14.703339999999999},{"$f":"IF($D$22>0,(F$100*$E$5+'UBA-Empfehlung'!$G$42*24*(365-$E$5))/1000,0)","v":12.174467499999997}]
[null,null,"Mini-PC",{"$f":"IF($D$23>0,SUMPRODUCT(Konstante_Werte!$E$38:$G$38,'UBA-Empfehlung'!$E$46:$G$46),0)","v":139.065},{"$f":"IF($D$23>0,SUMPRODUCT(Konstante_Werte!$E$39:$G$39,'UBA-Empfehlung'!$E$46:$G$46),0)","v":117.24},{"$f":"IF($D$23>0,SUMPRODUCT(Konstante_Werte!$E$40:$G$40,'UBA-Empfehlung'!$E$46:$G$46),0)","v":95.414999999999992},null,null,"Mini-PC",{"$f":"IF($D$23>0,(D$101*$E$5+'UBA-Empfehlung'!$G$46*24*(365-$E$5))/1000,0)","v":31.768275000000003},{"$f":"IF($D$23>0,(E$101*$E$5+'UBA-Empfehlung'!$G$46*24*(365-$E$5))/1000,0)","v":27.337799999999994},{"$f":"IF($D$23>0,(F$101*$E$5+'UBA-Empfehlung'!$G$46*24*(365-$E$5))/1000,0)","v":22.907324999999997}]
[null,null,"Monitor",{"$f":"IF($E$24>0,SUMPRODUCT(Konstante_Werte!$E$43:$G$43,'UBA-Empfehlung'!$E$50:$G$50),0)","v":146.6},{"$f":"IF($E$24>0,SUMPRODUCT(Konstante_Werte!$E$44:$G$44,'UBA-Empfehlung'!$E$50:$G$50),0)","v":119.12},{"$f":"IF($E$24>0,SUMPRODUCT(Konstante_Werte!$E$45:$G$45,'UBA-Empfehlung'!$E$50:$G$50),0)","v":91.64},null,null,"Monitor",{"$f":"IF($E$24>0,(D$102*$E$5+'UBA-Empfehlung'!$G$50*24*(365-$E$5))/1000,0)","v":30.926200000000001},{"$f":"IF($E$24>0,(E$102*$E$5+'UBA-Empfehlung'!$G$50*24*(365-$E$5))/1000,0)","v":25.347760000000001},{"$f":"IF($E$24>0,(F$102*$E$5+'UBA-Empfehlung'!$G$50*24*(365-$E$5))/1000,0)","v":19.769320000000004}]
[]
[null,null,"Stromverbrauch im ersten Jahr je Geräteklasse unter Berücksichtigung der Nutzungsprofile "]
[null,null,"IT-Gerät","kWh/Gerät/das erste Jahr"]
[null,null,"Desktop-PC",{"$f":"IF($D$21>0,SUMPRODUCT(J99:L99,$D$17:$F$17),0)","v":46.456679999999992}]
[null,null,"Notebook",{"$f":"IF($D$22>0,SUMPRODUCT(J100:L100,$D$17:$F$17),0)","v":14.703339999999999}]
[null,null,"Mini-PC",{"$f":"IF($D$23>0,SUMPRODUCT(J101:L101,$D$17:$F$17),0)","v":27.337799999999998}]
[null,null,"Monitor",{"$f":"IF($E$24>0,SUMPRODUCT(J102:L102,$D$17:$F$17),0)","v":25.347760000000005}]
[]
[null,null,"Energieeffizienzsteigerung von 5% pro Jahr der neubeschafften Geräte wird berücksichtigt"]
[null,null,"Jahr (max: 12 Jahre)","Desktop","Notebook","Mini-PC","Monitor","Einheit"]
[null,null,1,{"$f":"D106","v":46.456679999999992},{"$f":"D107","v":14.703339999999999},{"$f":"D108","v":27.337799999999998},{"$f":"D109","v":25.347760000000005},"kWh/a/Gerät"]
[null,null,{"$f":"C113+1","v":2},{"$f":"IF($D$113<>0,IF(MOD(C113,$F$91)=0,$D$113*(1-$F$95)^C113,D113),0)","v":46.456679999999992},{"$f":"IF($E$113<>0,IF(MOD(C113,$F$92)=0,$E$113*(1-$F$95)^C113,E113),0)","v":14.703339999999999},{"$f":"IF($F$113<>0,IF(MOD(C113,$F$93)=0,$F$113*(1-$F$95)^C113,F113),0)","v":27.337799999999998},{"$f":"IF($G$113<>0,IF(MOD(C113,$F$94)=0,$G$113*(1-$F$95)^C113,G113),0)","v":25.347760000000005},"kWh/a/Gerät"]
[null,null,{"$f":"C114+1","v":3},{"$f":"IF($D$113<>0,IF(MOD(C114,$F$91)=0,$D$113*(1-$F$95)^C114,D114),0)","v":46.456679999999992},{"$f":"IF($E$113<>0,IF(MOD(C114,$F$92)=0,$E$113*(1-$F$95)^C114,E114),0)","v":14.703339999999999},{"$f":"IF($F$113<>0,IF(MOD(C114,$F$93)=0,$F$113*(1-$F$95)^C114,F114),0)","v":27.337799999999998},{"$f":"IF($G$113<>0,IF(MOD(C114,$F$94)=0,$G$113*(1-$F$95)^C114,G114),0)","v":25.347760000000005},"kWh/a/Gerät"]
[null,null,4,46.456679999999992,14.703339999999999,27.337799999999998,25.347760000000005,"kWh/a/Gerät"]
[null,null,5,46.456679999999992,14.703339999999999,27.337799999999998,25.347760000000005,"kWh/a/Gerät"]
[null,null,6,46.456679999999992,14.703339999999999,27.337799999999998,25.347760000000005,"kWh/a/Gerät"]
[null,null,7,34.149928733360618,10.808305999102185,20.095795087528121,18.632932821508749,"kWh/a/Gerät"]
[null,null,8,34.149928733360618,10.808305999102185,20.095795087528121,18.632932821508749,"kWh/a/Gerät"]
[null,null,9,34.149928733360618,10.808305999102185,20.095795087528121,18.632932821508749,"kWh/a/Gerät"]
[null,null,10,34.149928733360618,10.808305999102185,20.095795087528121,18.632932821508749,"kWh/a/Gerät"]
[null,null,11,34.149928733360618,10.808305999102185,20.095795087528121,18.632932821508749,"kWh/a/Gerät"]
[null,null,12,34.149928733360618,10.808305999102185,20.095795087528121,18.632932821508749,"kWh/a/Gerät"]
[null,null,{"$f":"\"Summe über Betrachtungszeitraum von \" &$F$89 & \" Jahren\"","v":"Summe über Betrachtungszeitraum von 10 Jahren"},{"$f":"SUM(D113:OFFSET(D113,$F$89-1,0))","v":415.33979493344253},{"$f":"SUM(E113:OFFSET(E113,$F$89-1,0))","v":131.45326399640874},{"$f":"SUM(F113:OFFSET(F113,$F$89-1,0))","v":244.40998035011251},{"$f":"SUM(G113:OFFSET(G113,$F$89-1,0))","v":226.618291286035},"kWh/Betrachtungszeitraum/Gerät"]
[]
[null,null,"Berechnung der Energiekosten innerhalb des Betrachtungszeitraums"]
[null,null,"Jahr (max: 12 Jahre)","Desktop","Notebook","Mini-PC","Monitor","Einheit"]
[null,null,1,{"$f":"IF($D$21>0,D113*$G8,0)","v":9.8488161599999984},{"$f":"IF($D$22>0,E113*$G8,0)","v":3.1171080799999995},{"$f":"IF($D$23>0,F113*$G8,0)","v":5.7956135999999994},{"$f":"IF($E$24>0,G113*$G8,0)","v":5.3737251200000005},"Euro/a/Gerät"]
[null,null,{"$f":"C129+1","v":2},{"$f":"IF($D$21>0,D114*$G$8*(1+$G$9)^C129,0)","v":9.9055422113684202},{"$f":"IF($D$22>0,E114*$G$8*(1+$G$9)^C129,0)","v":3.1350616319999998},{"$f":"IF($D$23>0,F114*$G$8*(1+$G$9)^C129,0)","v":5.8289944926315789},{"$f":"IF($E$24>0,G114*$G$8*(1+$G$9)^C129,0)","v":5.4046760690526323},"Euro/a/Gerät"]
[null,null,{"$f":"C130+1","v":3},{"$f":"IF($D$21>0,D115*$G$8*(1+$G$9)^C130,0)","v":9.96259498676657},{"$f":"IF($D$22>0,E115*$G$8*(1+$G$9)^C130,0)","v":3.1531185907543193},{"$f":"IF($D$23>0,F115*$G$8*(1+$G$9)^C130,0)","v":5.862567648597083},{"$f":"IF($E$24>0,G115*$G$8*(1+$G$9)^C130,0)","v":5.4358052857363521},"Euro/a/Gerät"]
[null,null,4,10.019976368021034,3.1712795518530039,5.8963341752722203,5.4671137968160641,"Euro/a/Gerät"]
[null,null,5,10.077688247797125,3.1895451143165068,5.9302951864108291,5.498602634970517,"Euro/a/Gerät"]
[null,null,6,10.135732529661299,3.2079158806154497,5.9644518021816166,5.5302728388263542,"Euro/a/Gerät"]
[null,null,7,7.4936084224286921,2.371694930886854,4.4096730186201665,4.0886733151336072,"Euro/a/Gerät"]
[null,null,8,7.5367692256561858,2.3853551400220514,4.4350713339210568,4.1122227741482789,"Euro/a/Gerät"]
[null,null,9,7.5801786213948228,2.3990940276209871,4.4606159354471178,4.1359078705634342,"Euro/a/Gerät"]
[null,null,10,7.6238380414584679,2.4129120468466096,4.486307665760517,4.1597293856073945,"Euro/a/Gerät"]
[null,null,11,7.6677489259077829,2.4268096534719428,4.5121473722763179,4.1836881050081125,"Euro/a/Gerät"]
[null,null,12,7.7119127230977176,2.4407873058951175,4.5381359072904219,4.2077848190190821,"Euro/a/Gerät"]
[null,null,{"$f":"C125","v":"Summe über Betrachtungszeitraum von 10 Jahren"},{"$f":"SUM(D129:OFFSET(D129,$F$89-1,0))","v":90.184744814552616},{"$f":"SUM(E129:OFFSET(E129,$F$89-1,0))","v":28.54308499491578},{"$f":"SUM(F129:OFFSET(F129,$F$89-1,0))","v":53.069924858842185},{"$f":"SUM(G129:OFFSET(G129,$F$89-1,0))","v":49.206729090854637},"Euro/Betrachtungszeitraum/Gerät"]
[]
[null,null,"APC mit Desktop (für alle Geräte)"]
[null,null,"In EURO ","Anschaffungskosten",null,null,null,null,"Energiekosten",null,"Bruttopersonal-kosten","Sach-und Gemeinkosten","Summe",null,"Anteil"]
[null,null,"Jahr (max: 12 Jahre)","Desktop","Monitor","Ersatz HDD durch SSD","RAM hinzufügen","Wechsel des Akkus","Desktop","Monitor"]
[null,null,1,{"$f":"IF($D$21>0,(IF(MOD(($C146-1),$D$27)<>0,0,Konstante_Werte!$E$63*$D$21)),0)","v":31200},{"$f":"IF($E$21>0,(IF(MOD(($C146-1),$D$30)<>0,0,Konstante_Werte!$E$66*$E$21)),0)","v":22680},{"$f":"IF($D$21>0,(IF($D$27=1,$D$21*$D$34*$J$34*Konstante_Werte!$E$67, IF(AND($D$27<>1,$D$27/($J$34+1)<1),Konstante_Werte!$E$67*$D$34*$D$21*$J$34/$D$27,IF(MOD($C146,$D$27)=0,0,IF(INT(MOD(($C146-$D$27*INT(($C146-1)/$D$27)),($D$27/($J$34+1))))<>0,0,Konstante_Werte!$E$67*$D$34*$D$21))))),0)","v":0},{"$f":"IF($D$21>0,(IF($D$27=1,$D$21*$E$34*$K$34*Konstante_Werte!$E$68, IF(AND($D$27<>1,$D$27/($K$34+1)<1),Konstante_Werte!$E$68*$E$34*$D$21*$K$34/$D$27,IF(MOD($C146,$D$27)=0,0,IF(INT(MOD(($C146-$D$27*INT(($C146-1)/$D$27)),($D$27/($K$34+1))))<>0,0,Konstante_Werte!$E$68*$E$34*$D$21))))),0)","v":0},"-",{"$f":"IF($D$21>0, D129*$D$21,0)","v":984.88161599999989},{"$f":"G129*$E$21","v":644.84701440000003},{"$f":"IF($D$21>0,(IF(MOD(($C146-1),$D$27)<>0,0,$K$13*$D$21)),0)+IF($E$21>0,(IF(MOD(($C146-1),$D$30)<>0,0,$K$13*$E$21)),0)","v":20817.737556},{"$f":"IF($D$21>0,(IF(MOD(($C146-1),$D$27)<>0,0,$K$14*$D$21)),0)+IF($E$21>0,(IF(MOD(($C146-1),$D$30)<>0,0,$K$14*$E$21)),0)","v":16749.532272},{"$f":"SUM(D146:L146)","v":93076.998458400005},"Euro/a",{"$f":"IF($M$158<>0,(IF(C146<=$F$89,M146/$M$158,\"-\")),0)","v":0.47051877172757783}]
[null,null,{"$f":"C146+1","v":2},{"$f":"IF($D$21>0,(IF(MOD(($C147-1),$D$27)<>0,0,Konstante_Werte!$E$63*$D$21)),0)","v":0},{"$f":"IF($E$21>0,(IF(MOD(($C147-1),$D$30)<>0,0,Konstante_Werte!$E$66*$E$21)),0)","v":0},{"$f":"IF($D$21>0,(IF($D$27=1,$D$21*$D$34*$J$34*Konstante_Werte!$E$67, IF(AND($D$27<>1,$D$27/($J$34+1)<1),Konstante_Werte!$E$67*$D$34*$D$21*$J$34/$D$27,IF(MOD($C147,$D$27)=0,0,IF(INT(MOD(($C147-$D$27*INT(($C147-1)/$D$27)),($D$27/($J$34+1))))<>0,0,Konstante_Werte!$E$67*$D$34*$D$21))))),0)","v":0},{"$f":"IF($D$21>0,(IF($D$27=1,$D$21*$E$34*$K$34*Konstante_Werte!$E$68, IF(AND($D$27<>1,$D$27/($K$34+1)<1),Konstante_Werte!$E$68*$E$34*$D$21*$K$34/$D$27,IF(MOD($C147,$D$27)=0,0,IF(INT(MOD(($C147-$D$27*INT(($C147-1)/$D$27)),($D$27/($K$34+1))))<>0,0,Konstante_Werte!$E$68*$E$34*$D$21))))),0)","v":0},"-",990.55422113684199,648.56112828631592,0,0,{"$f":"SUM(D147:L147)","v":1639.115349423158},"Euro/a",8.2859842249328741E-3]
[null,null,{"$f":"C147+1","v":3},{"$f":"IF($D$21>0,(IF(MOD(($C148-1),$D$27)<>0,0,Konstante_Werte!$E$63*$D$21)),0)","v":0},{"$f":"IF($E$21>0,(IF(MOD(($C148-1),$D$30)<>0,0,Konstante_Werte!$E$66*$E$21)),0)","v":0},{"$f":"IF($D$21>0,(IF($D$27=1,$D$21*$D$34*$J$34*Konstante_Werte!$E$67, IF(AND($D$27<>1,$D$27/($J$34+1)<1),Konstante_Werte!$E$67*$D$34*$D$21*$J$34/$D$27,IF(MOD($C148,$D$27)=0,0,IF(INT(MOD(($C148-$D$27*INT(($C148-1)/$D$27)),($D$27/($J$34+1))))<>0,0,Konstante_Werte!$E$67*$D$34*$D$21))))),0)","v":0},{"$f":"IF($D$21>0,(IF($D$27=1,$D$21*$E$34*$K$34*Konstante_Werte!$E$68, IF(AND($D$27<>1,$D$27/($K$34+1)<1),Konstante_Werte!$E$68*$E$34*$D$21*$K$34/$D$27,IF(MOD($C148,$D$27)=0,0,IF(INT(MOD(($C148-$D$27*INT(($C148-1)/$D$27)),($D$27/($K$34+1))))<>0,0,Konstante_Werte!$E$68*$E$34*$D$21))))),0)","v":0},"-",996.25949867665702,652.29663428836227,0,0,1648.5561329650193,"Euro/a",8.3337088609851187E-3]
[null,null,4,{"$f":"IF($D$21>0,(IF(MOD(($C149-1),$D$27)<>0,0,Konstante_Werte!$E$63*$D$21)),0)","v":0},{"$f":"IF($E$21>0,(IF(MOD(($C149-1),$D$30)<>0,0,Konstante_Werte!$E$66*$E$21)),0)","v":0},{"$f":"IF($D$21>0,(IF($D$27=1,$D$21*$D$34*$J$34*Konstante_Werte!$E$67, IF(AND($D$27<>1,$D$27/($J$34+1)<1),Konstante_Werte!$E$67*$D$34*$D$21*$J$34/$D$27,IF(MOD($C149,$D$27)=0,0,IF(INT(MOD(($C149-$D$27*INT(($C149-1)/$D$27)),($D$27/($J$34+1))))<>0,0,Konstante_Werte!$E$67*$D$34*$D$21))))),0)","v":0},{"$f":"IF($D$21>0,(IF($D$27=1,$D$21*$E$34*$K$34*Konstante_Werte!$E$68, IF(AND($D$27<>1,$D$27/($K$34+1)<1),Konstante_Werte!$E$68*$E$34*$D$21*$K$34/$D$27,IF(MOD($C149,$D$27)=0,0,IF(INT(MOD(($C149-$D$27*INT(($C149-1)/$D$27)),($D$27/($K$34+1))))<>0,0,Konstante_Werte!$E$68*$E$34*$D$21))))),0)","v":0},"-",1001.9976368021034,656.05365561792769,0,0,1658.0512924200311,"Euro/a",8.3817083757752996E-3]
[null,null,5,{"$f":"IF($D$21>0,(IF(MOD(($C150-1),$D$27)<>0,0,Konstante_Werte!$E$63*$D$21)),0)","v":0},{"$f":"IF($E$21>0,(IF(MOD(($C150-1),$D$30)<>0,0,Konstante_Werte!$E$66*$E$21)),0)","v":0},{"$f":"IF($D$21>0,(IF($D$27=1,$D$21*$D$34*$J$34*Konstante_Werte!$E$67, IF(AND($D$27<>1,$D$27/($J$34+1)<1),Konstante_Werte!$E$67*$D$34*$D$21*$J$34/$D$27,IF(MOD($C150,$D$27)=0,0,IF(INT(MOD(($C150-$D$27*INT(($C150-1)/$D$27)),($D$27/($J$34+1))))<>0,0,Konstante_Werte!$E$67*$D$34*$D$21))))),0)","v":0},{"$f":"IF($D$21>0,(IF($D$27=1,$D$21*$E$34*$K$34*Konstante_Werte!$E$68, IF(AND($D$27<>1,$D$27/($K$34+1)<1),Konstante_Werte!$E$68*$E$34*$D$21*$K$34/$D$27,IF(MOD($C150,$D$27)=0,0,IF(INT(MOD(($C150-$D$27*INT(($C150-1)/$D$27)),($D$27/($K$34+1))))<>0,0,Konstante_Werte!$E$68*$E$34*$D$21))))),0)","v":0},"-",1007.7688247797125,659.83231619646199,0,0,1667.6011409761745,"Euro/a",8.4299843525176017E-3]
[null,null,6,{"$f":"IF($D$21>0,(IF(MOD(($C151-1),$D$27)<>0,0,Konstante_Werte!$E$63*$D$21)),0)","v":0},{"$f":"IF($E$21>0,(IF(MOD(($C151-1),$D$30)<>0,0,Konstante_Werte!$E$66*$E$21)),0)","v":0},{"$f":"IF($D$21>0,(IF($D$27=1,$D$21*$D$34*$J$34*Konstante_Werte!$E$67, IF(AND($D$27<>1,$D$27/($J$34+1)<1),Konstante_Werte!$E$67*$D$34*$D$21*$J$34/$D$27,IF(MOD($C151,$D$27)=0,0,IF(INT(MOD(($C151-$D$27*INT(($C151-1)/$D$27)),($D$27/($J$34+1))))<>0,0,Konstante_Werte!$E$67*$D$34*$D$21))))),0)","v":0},{"$f":"IF($D$21>0,(IF($D$27=1,$D$21*$E$34*$K$34*Konstante_Werte!$E$68, IF(AND($D$27<>1,$D$27/($K$34+1)<1),Konstante_Werte!$E$68*$E$34*$D$21*$K$34/$D$27,IF(MOD($C151,$D$27)=0,0,IF(INT(MOD(($C151-$D$27*INT(($C151-1)/$D$27)),($D$27/($K$34+1))))<>0,0,Konstante_Werte!$E$68*$E$34*$D$21))))),0)","v":0},"-",1013.5732529661299,663.63274065916255,0,0,1677.2059936252924,"Euro/a",8.4785383835450107E-3]
[null,null,7,{"$f":"IF($D$21>0,(IF(MOD(($C152-1),$D$27)<>0,0,Konstante_Werte!$E$63*$D$21)),0)","v":31200},{"$f":"IF($E$21>0,(IF(MOD(($C152-1),$D$30)<>0,0,Konstante_Werte!$E$66*$E$21)),0)","v":22680},{"$f":"IF($D$21>0,(IF($D$27=1,$D$21*$D$34*$J$34*Konstante_Werte!$E$67, IF(AND($D$27<>1,$D$27/($J$34+1)<1),Konstante_Werte!$E$67*$D$34*$D$21*$J$34/$D$27,IF(MOD($C152,$D$27)=0,0,IF(INT(MOD(($C152-$D$27*INT(($C152-1)/$D$27)),($D$27/($J$34+1))))<>0,0,Konstante_Werte!$E$67*$D$34*$D$21))))),0)","v":0},{"$f":"IF($D$21>0,(IF($D$27=1,$D$21*$E$34*$K$34*Konstante_Werte!$E$68, IF(AND($D$27<>1,$D$27/($K$34+1)<1),Konstante_Werte!$E$68*$E$34*$D$21*$K$34/$D$27,IF(MOD($C152,$D$27)=0,0,IF(INT(MOD(($C152-$D$27*INT(($C152-1)/$D$27)),($D$27/($K$34+1))))<>0,0,Konstante_Werte!$E$68*$E$34*$D$21))))),0)","v":0},"-",749.36084224286924,490.64079781603289,20817.737556,16749.532272,92687.271468058898,"Euro/a",0.46854864089137188]
[null,null,8,{"$f":"IF($D$21>0,(IF(MOD(($C153-1),$D$27)<>0,0,Konstante_Werte!$E$63*$D$21)),0)","v":0},{"$f":"IF($E$21>0,(IF(MOD(($C153-1),$D$30)<>0,0,Konstante_Werte!$E$66*$E$21)),0)","v":0},{"$f":"IF($D$21>0,(IF($D$27=1,$D$21*$D$34*$J$34*Konstante_Werte!$E$67, IF(AND($D$27<>1,$D$27/($J$34+1)<1),Konstante_Werte!$E$67*$D$34*$D$21*$J$34/$D$27,IF(MOD($C153,$D$27)=0,0,IF(INT(MOD(($C153-$D$27*INT(($C153-1)/$D$27)),($D$27/($J$34+1))))<>0,0,Konstante_Werte!$E$67*$D$34*$D$21))))),0)","v":0},{"$f":"IF($D$21>0,(IF($D$27=1,$D$21*$E$34*$K$34*Konstante_Werte!$E$68, IF(AND($D$27<>1,$D$27/($K$34+1)<1),Konstante_Werte!$E$68*$E$34*$D$21*$K$34/$D$27,IF(MOD($C153,$D$27)=0,0,IF(INT(MOD(($C153-$D$27*INT(($C153-1)/$D$27)),($D$27/($K$34+1))))<>0,0,Konstante_Werte!$E$68*$E$34*$D$21))))),0)","v":0},"-",753.67692256561861,493.46673289779346,0,0,1247.143655463412,"Euro/a",6.3045060611699195E-3]
[null,null,9,{"$f":"IF($D$21>0,(IF(MOD(($C154-1),$D$27)<>0,0,Konstante_Werte!$E$63*$D$21)),0)","v":0},{"$f":"IF($E$21>0,(IF(MOD(($C154-1),$D$30)<>0,0,Konstante_Werte!$E$66*$E$21)),0)","v":0},{"$f":"IF($D$21>0,(IF($D$27=1,$D$21*$D$34*$J$34*Konstante_Werte!$E$67, IF(AND($D$27<>1,$D$27/($J$34+1)<1),Konstante_Werte!$E$67*$D$34*$D$21*$J$34/$D$27,IF(MOD($C154,$D$27)=0,0,IF(INT(MOD(($C154-$D$27*INT(($C154-1)/$D$27)),($D$27/($J$34+1))))<>0,0,Konstante_Werte!$E$67*$D$34*$D$21))))),0)","v":0},{"$f":"IF($D$21>0,(IF($D$27=1,$D$21*$E$34*$K$34*Konstante_Werte!$E$68, IF(AND($D$27<>1,$D$27/($K$34+1)<1),Konstante_Werte!$E$68*$E$34*$D$21*$K$34/$D$27,IF(MOD($C154,$D$27)=0,0,IF(INT(MOD(($C154-$D$27*INT(($C154-1)/$D$27)),($D$27/($K$34+1))))<>0,0,Konstante_Werte!$E$68*$E$34*$D$21))))),0)","v":0},"-",758.0178621394823,496.30894446761209,0,0,1254.3268066070943,"Euro/a",6.3408180126642462E-3]
[null,null,10,{"$f":"IF($D$21>0,(IF(MOD(($C155-1),$D$27)<>0,0,Konstante_Werte!$E$63*$D$21)),0)","v":0},{"$f":"IF($E$21>0,(IF(MOD(($C155-1),$D$30)<>0,0,Konstante_Werte!$E$66*$E$21)),0)","v":0},{"$f":"IF($D$21>0,(IF($D$27=1,$D$21*$D$34*$J$34*Konstante_Werte!$E$67, IF(AND($D$27<>1,$D$27/($J$34+1)<1),Konstante_Werte!$E$67*$D$34*$D$21*$J$34/$D$27,IF(MOD($C155,$D$27)=0,0,IF(INT(MOD(($C155-$D$27*INT(($C155-1)/$D$27)),($D$27/($J$34+1))))<>0,0,Konstante_Werte!$E$67*$D$34*$D$21))))),0)","v":0},{"$f":"IF($D$21>0,(IF($D$27=1,$D$21*$E$34*$K$34*Konstante_Werte!$E$68, IF(AND($D$27<>1,$D$27/($K$34+1)<1),Konstante_Werte!$E$68*$E$34*$D$21*$K$34/$D$27,IF(MOD($C155,$D$27)=0,0,IF(INT(MOD(($C155-$D$27*INT(($C155-1)/$D$27)),($D$27/($K$34+1))))<>0,0,Konstante_Werte!$E$68*$E$34*$D$21))))),0)","v":0},"-",762.38380414584674,499.16752627288736,0,0,1261.5513304187341,"Euro/a",6.3773391094601286E-3]
[null,null,11,{"$f":"IF($D$21>0,(IF(MOD(($C156-1),$D$27)<>0,0,Konstante_Werte!$E$63*$D$21)),0)","v":0},{"$f":"IF($E$21>0,(IF(MOD(($C156-1),$D$30)<>0,0,Konstante_Werte!$E$66*$E$21)),0)","v":0},{"$f":"IF($D$21>0,(IF($D$27=1,$D$21*$D$34*$J$34*Konstante_Werte!$E$67, IF(AND($D$27<>1,$D$27/($J$34+1)<1),Konstante_Werte!$E$67*$D$34*$D$21*$J$34/$D$27,IF(MOD($C156,$D$27)=0,0,IF(INT(MOD(($C156-$D$27*INT(($C156-1)/$D$27)),($D$27/($J$34+1))))<>0,0,Konstante_Werte!$E$67*$D$34*$D$21))))),0)","v":0},{"$f":"IF($D$21>0,(IF($D$27=1,$D$21*$E$34*$K$34*Konstante_Werte!$E$68, IF(AND($D$27<>1,$D$27/($K$34+1)<1),Konstante_Werte!$E$68*$E$34*$D$21*$K$34/$D$27,IF(MOD($C156,$D$27)=0,0,IF(INT(MOD(($C156-$D$27*INT(($C156-1)/$D$27)),($D$27/($K$34+1))))<>0,0,Konstante_Werte!$E$68*$E$34*$D$21))))),0)","v":0},"-",766.77489259077834,502.04257260097347,0,0,1268.8174651917518,"Euro/a","-"]
[null,null,12,{"$f":"IF($D$21>0,(IF(MOD(($C157-1),$D$27)<>0,0,Konstante_Werte!$E$63*$D$21)),0)","v":0},{"$f":"IF($E$21>0,(IF(MOD(($C157-1),$D$30)<>0,0,Konstante_Werte!$E$66*$E$21)),0)","v":0},{"$f":"IF($D$21>0,(IF($D$27=1,$D$21*$D$34*$J$34*Konstante_Werte!$E$67, IF(AND($D$27<>1,$D$27/($J$34+1)<1),Konstante_Werte!$E$67*$D$34*$D$21*$J$34/$D$27,IF(MOD($C157,$D$27)=0,0,IF(INT(MOD(($C157-$D$27*INT(($C157-1)/$D$27)),($D$27/($J$34+1))))<>0,0,Konstante_Werte!$E$67*$D$34*$D$21))))),0)","v":0},{"$f":"IF($D$21>0,(IF($D$27=1,$D$21*$E$34*$K$34*Konstante_Werte!$E$68, IF(AND($D$27<>1,$D$27/($K$34+1)<1),Konstante_Werte!$E$68*$E$34*$D$21*$K$34/$D$27,IF(MOD($C157,$D$27)=0,0,IF(INT(MOD(($C157-$D$27*INT(($C157-1)/$D$27)),($D$27/($K$34+1))))<>0,0,Konstante_Werte!$E$68*$E$34*$D$21))))),0)","v":0},"-",771.19127230977176,504.93417828228985,0,0,1276.1254505920615,"Euro/a","-"]
[null,null,"Summe über Betrachtungszeitraum",{"$f":"SUM(D146:OFFSET(D146,$F$89-1,0))","v":62400},{"$f":"SUM(E146:OFFSET(E146,$F$89-1,0))","v":45360},{"$f":"SUM(F146:OFFSET(F146,$F$89-1,0))","v":0},{"$f":"SUM(G146:OFFSET(G146,$F$89-1,0))","v":0},"-",{"$f":"SUM(I146:OFFSET(I146,$F$89-1,0))","v":9018.4744814552632},{"$f":"SUM(J146:OFFSET(J146,$F$89-1,0))","v":5904.8074909025572},{"$f":"SUM(K146:OFFSET(K146,$F$89-1,0))","v":41635.475112},{"$f":"SUM(L146:OFFSET(L146,$F$89-1,0))","v":33499.064544000001},{"$f":"SUM(M146:OFFSET(M146,$F$89-1,0))","v":197817.82162835784},"Euro/Betrachtungszeitraum","-"]
[]
[null,null,"APC mit Notebook (für alle Geräte)"]
[null,null,"In EURO ","Anschaffungskosten",null,null,null,null,"Energiekosten",null,"Bruttopersonal-kosten","Sach-und Gemeinkosten","Summe",null,"Anteil"]
[null,null,"Jahr (max: 12 Jahre)","Notebook","Monitor","Ersatz HDD durch SSD","RAM hinzufügen","Wechsel des Akkus",{"$f":"E128","v":"Notebook"},{"$f":"G128","v":"Monitor"}]
[null,null,1,{"$f":"IF($D$22>0,(IF(MOD(($C146-1),$D$28)<>0,0,Konstante_Werte!$E$64*$D$22)),0)","v":21550},{"$f":"IF($E$22>0,(IF(MOD(($C163-1),$D$30)<>0,0,Konstante_Werte!$E$66*$E$22)),0)","v":9450},{"$f":"IF($D$22>0,(IF($D$28=1,$D$22*$D$35*$J$35*Konstante_Werte!$E$67, IF(AND($D$28<>1,$D$28/($J$35+1)<1),Konstante_Werte!$E$67*$D$35*$D$22*$J$35/$D$28,IF(MOD($C163,$D$28)=0,0,IF(INT(MOD(($C163-$D$28*INT(($C163-1)/$D$28)),($D$28/($J$35+1))))<>0,0,Konstante_Werte!$E$67*$D$35*$D$22))))),0)","v":0},{"$f":"IF($D$22>0,(IF($D$28=1,$D$22*$E$35*$K$35*Konstante_Werte!$E$68, IF(AND($D$28<>1,$D$28/($K$35+1)<1),Konstante_Werte!$E$68*$E$35*$D$22*$K$35/$D$28,IF(MOD($C163,$D$28)=0,0,IF(INT(MOD(($C163-$D$28*INT(($C163-1)/$D$28)),($D$28/($K$35+1))))<>0,0,Konstante_Werte!$E$68*$E$35*$D$22))))),0)","v":0},{"$f":"IF($D$22>0,(IF($D$28=1,$D$22*$F$35*$L$35*Konstante_Werte!$E$69, IF(AND($D$28<>1,$D$28/($L$35+1)<1),Konstante_Werte!$E$69*$F$35*$D$22*$L$35/$D$28,IF(MOD($C163,$D$28)=0,0,IF(INT(MOD(($C163-$D$28*INT(($C163-1)/$D$28)),($D$28/($L$35+1))))<>0,0,Konstante_Werte!$E$69*$F$35*$D$22))))),0)","v":0},{"$f":"IF($D$22>0, E129*$D$22,\"0\")","v":155.85540399999996},{"$f":"G129*$E$22","v":268.68625600000001},{"$f":"IF($D$22>0,(IF(MOD(($C163-1),$D$28)<>0,0,$K$13*$D$22)),0)+IF($E$22>0,(IF(MOD(($C163-1),$D$30)<>0,0,$K$13*$E$22)),0)","v":9462.6079800000007},{"$f":"IF($D$22>0,(IF(MOD(($C163-1),$D$28)<>0,0,$K$14*$D$22)),0)+IF($E$22>0,(IF(MOD(($C163-1),$D$30)<>0,0,$K$14*$E$22)),0)","v":7613.4237600000006},{"$f":"SUM(D163:L163)","v":48500.573400000001},"Euro/a",{"$f":"IF($M$175<>0,(IF(C163<=$F$89,M163/$M$175,\"-\")),0)","v":0.4672972514544429}]
[null,null,{"$f":"C163+1","v":2},{"$f":"IF($D$22>0,(IF(MOD(($C147-1),$D$28)<>0,0,Konstante_Werte!$E$64*$D$22)),0)","v":0},{"$f":"IF($E$22>0,(IF(MOD(($C164-1),$D$30)<>0,0,Konstante_Werte!$E$66*$E$22)),0)","v":0},{"$f":"IF($D$22>0,(IF($D$28=1,$D$22*$D$35*$J$35*Konstante_Werte!$E$67, IF(AND($D$28<>1,$D$28/($J$35+1)<1),Konstante_Werte!$E$67*$D$35*$D$22*$J$35/$D$28,IF(MOD($C164,$D$28)=0,0,IF(INT(MOD(($C164-$D$28*INT(($C164-1)/$D$28)),($D$28/($J$35+1))))<>0,0,Konstante_Werte!$E$67*$D$35*$D$22))))),0)","v":0},{"$f":"IF($D$22>0,(IF($D$28=1,$D$22*$E$35*$K$35*Konstante_Werte!$E$68, IF(AND($D$28<>1,$D$28/($K$35+1)<1),Konstante_Werte!$E$68*$E$35*$D$22*$K$35/$D$28,IF(MOD($C164,$D$28)=0,0,IF(INT(MOD(($C164-$D$28*INT(($C164-1)/$D$28)),($D$28/($K$35+1))))<>0,0,Konstante_Werte!$E$68*$E$35*$D$22))))),0)","v":0},{"$f":"IF($D$22>0,(IF($D$28=1,$D$22*$F$35*$L$35*Konstante_Werte!$E$69, IF(AND($D$28<>1,$D$28/($L$35+1)<1),Konstante_Werte!$E$69*$F$35*$D$22*$L$35/$D$28,IF(MOD($C164,$D$28)=0,0,IF(INT(MOD(($C164-$D$28*INT(($C164-1)/$D$28)),($D$28/($L$35+1))))<>0,0,Konstante_Werte!$E$69*$F$35*$D$22))))),0)","v":0},156.7530816,270.23380345263161,0,0,{"$f":"SUM(D164:L164)","v":426.98688505263158},"Euro/a",4.1139678111968237E-3]
[null,null,{"$f":"C164+1","v":3},{"$f":"IF($D$22>0,(IF(MOD(($C148-1),$D$28)<>0,0,Konstante_Werte!$E$64*$D$22)),0)","v":0},{"$f":"IF($E$22>0,(IF(MOD(($C165-1),$D$30)<>0,0,Konstante_Werte!$E$66*$E$22)),0)","v":0},{"$f":"IF($D$22>0,(IF($D$28=1,$D$22*$D$35*$J$35*Konstante_Werte!$E$67, IF(AND($D$28<>1,$D$28/($J$35+1)<1),Konstante_Werte!$E$67*$D$35*$D$22*$J$35/$D$28,IF(MOD($C165,$D$28)=0,0,IF(INT(MOD(($C165-$D$28*INT(($C165-1)/$D$28)),($D$28/($J$35+1))))<>0,0,Konstante_Werte!$E$67*$D$35*$D$22))))),0)","v":0},{"$f":"IF($D$22>0,(IF($D$28=1,$D$22*$E$35*$K$35*Konstante_Werte!$E$68, IF(AND($D$28<>1,$D$28/($K$35+1)<1),Konstante_Werte!$E$68*$E$35*$D$22*$K$35/$D$28,IF(MOD($C165,$D$28)=0,0,IF(INT(MOD(($C165-$D$28*INT(($C165-1)/$D$28)),($D$28/($K$35+1))))<>0,0,Konstante_Werte!$E$68*$E$35*$D$22))))),0)","v":0},{"$f":"IF($D$22>0,(IF($D$28=1,$D$22*$F$35*$L$35*Konstante_Werte!$E$69, IF(AND($D$28<>1,$D$28/($L$35+1)<1),Konstante_Werte!$E$69*$F$35*$D$22*$L$35/$D$28,IF(MOD($C165,$D$28)=0,0,IF(INT(MOD(($C165-$D$28*INT(($C165-1)/$D$28)),($D$28/($L$35+1))))<>0,0,Konstante_Werte!$E$69*$F$35*$D$22))))),0)","v":1875},157.65592953771596,271.7902642868176,0,0,2304.4461938245336,"Euro/a",2.2203064768278737E-2]
[null,null,4,{"$f":"IF($D$22>0,(IF(MOD(($C149-1),$D$28)<>0,0,Konstante_Werte!$E$64*$D$22)),0)","v":0},{"$f":"IF($E$22>0,(IF(MOD(($C166-1),$D$30)<>0,0,Konstante_Werte!$E$66*$E$22)),0)","v":0},{"$f":"IF($D$22>0,(IF($D$28=1,$D$22*$D$35*$J$35*Konstante_Werte!$E$67, IF(AND($D$28<>1,$D$28/($J$35+1)<1),Konstante_Werte!$E$67*$D$35*$D$22*$J$35/$D$28,IF(MOD($C166,$D$28)=0,0,IF(INT(MOD(($C166-$D$28*INT(($C166-1)/$D$28)),($D$28/($J$35+1))))<>0,0,Konstante_Werte!$E$67*$D$35*$D$22))))),0)","v":0},{"$f":"IF($D$22>0,(IF($D$28=1,$D$22*$E$35*$K$35*Konstante_Werte!$E$68, IF(AND($D$28<>1,$D$28/($K$35+1)<1),Konstante_Werte!$E$68*$E$35*$D$22*$K$35/$D$28,IF(MOD($C166,$D$28)=0,0,IF(INT(MOD(($C166-$D$28*INT(($C166-1)/$D$28)),($D$28/($K$35+1))))<>0,0,Konstante_Werte!$E$68*$E$35*$D$22))))),0)","v":0},{"$f":"IF($D$22>0,(IF($D$28=1,$D$22*$F$35*$L$35*Konstante_Werte!$E$69, IF(AND($D$28<>1,$D$28/($L$35+1)<1),Konstante_Werte!$E$69*$F$35*$D$22*$L$35/$D$28,IF(MOD($C166,$D$28)=0,0,IF(INT(MOD(($C166-$D$28*INT(($C166-1)/$D$28)),($D$28/($L$35+1))))<>0,0,Konstante_Werte!$E$69*$F$35*$D$22))))),0)","v":0},158.56397759265019,273.35568984080322,0,0,431.91966743345341,"Euro/a",4.1614945822634301E-3]
[null,null,5,{"$f":"IF($D$22>0,(IF(MOD(($C150-1),$D$28)<>0,0,Konstante_Werte!$E$64*$D$22)),0)","v":0},{"$f":"IF($E$22>0,(IF(MOD(($C167-1),$D$30)<>0,0,Konstante_Werte!$E$66*$E$22)),0)","v":0},{"$f":"IF($D$22>0,(IF($D$28=1,$D$22*$D$35*$J$35*Konstante_Werte!$E$67, IF(AND($D$28<>1,$D$28/($J$35+1)<1),Konstante_Werte!$E$67*$D$35*$D$22*$J$35/$D$28,IF(MOD($C167,$D$28)=0,0,IF(INT(MOD(($C167-$D$28*INT(($C167-1)/$D$28)),($D$28/($J$35+1))))<>0,0,Konstante_Werte!$E$67*$D$35*$D$22))))),0)","v":0},{"$f":"IF($D$22>0,(IF($D$28=1,$D$22*$E$35*$K$35*Konstante_Werte!$E$68, IF(AND($D$28<>1,$D$28/($K$35+1)<1),Konstante_Werte!$E$68*$E$35*$D$22*$K$35/$D$28,IF(MOD($C167,$D$28)=0,0,IF(INT(MOD(($C167-$D$28*INT(($C167-1)/$D$28)),($D$28/($K$35+1))))<>0,0,Konstante_Werte!$E$68*$E$35*$D$22))))),0)","v":0},{"$f":"IF($D$22>0,(IF($D$28=1,$D$22*$F$35*$L$35*Konstante_Werte!$E$69, IF(AND($D$28<>1,$D$28/($L$35+1)<1),Konstante_Werte!$E$69*$F$35*$D$22*$L$35/$D$28,IF(MOD($C167,$D$28)=0,0,IF(INT(MOD(($C167-$D$28*INT(($C167-1)/$D$28)),($D$28/($L$35+1))))<>0,0,Konstante_Werte!$E$69*$F$35*$D$22))))),0)","v":0},159.47725571582535,274.93013174852587,0,0,434.40738746435125,"Euro/a",4.1854634686359507E-3]
[null,null,6,{"$f":"IF($D$22>0,(IF(MOD(($C151-1),$D$28)<>0,0,Konstante_Werte!$E$64*$D$22)),0)","v":0},{"$f":"IF($E$22>0,(IF(MOD(($C168-1),$D$30)<>0,0,Konstante_Werte!$E$66*$E$22)),0)","v":0},{"$f":"IF($D$22>0,(IF($D$28=1,$D$22*$D$35*$J$35*Konstante_Werte!$E$67, IF(AND($D$28<>1,$D$28/($J$35+1)<1),Konstante_Werte!$E$67*$D$35*$D$22*$J$35/$D$28,IF(MOD($C168,$D$28)=0,0,IF(INT(MOD(($C168-$D$28*INT(($C168-1)/$D$28)),($D$28/($J$35+1))))<>0,0,Konstante_Werte!$E$67*$D$35*$D$22))))),0)","v":0},{"$f":"IF($D$22>0,(IF($D$28=1,$D$22*$E$35*$K$35*Konstante_Werte!$E$68, IF(AND($D$28<>1,$D$28/($K$35+1)<1),Konstante_Werte!$E$68*$E$35*$D$22*$K$35/$D$28,IF(MOD($C168,$D$28)=0,0,IF(INT(MOD(($C168-$D$28*INT(($C168-1)/$D$28)),($D$28/($K$35+1))))<>0,0,Konstante_Werte!$E$68*$E$35*$D$22))))),0)","v":0},{"$f":"IF($D$22>0,(IF($D$28=1,$D$22*$F$35*$L$35*Konstante_Werte!$E$69, IF(AND($D$28<>1,$D$28/($L$35+1)<1),Konstante_Werte!$E$69*$F$35*$D$22*$L$35/$D$28,IF(MOD($C168,$D$28)=0,0,IF(INT(MOD(($C168-$D$28*INT(($C168-1)/$D$28)),($D$28/($L$35+1))))<>0,0,Konstante_Werte!$E$69*$F$35*$D$22))))),0)","v":0},160.39579403077249,276.5136419413177,0,0,436.90943597209019,"Euro/a",4.2095704081772491E-3]
[null,null,7,{"$f":"IF($D$22>0,(IF(MOD(($C152-1),$D$28)<>0,0,Konstante_Werte!$E$64*$D$22)),0)","v":21550},{"$f":"IF($E$22>0,(IF(MOD(($C169-1),$D$30)<>0,0,Konstante_Werte!$E$66*$E$22)),0)","v":9450},{"$f":"IF($D$22>0,(IF($D$28=1,$D$22*$D$35*$J$35*Konstante_Werte!$E$67, IF(AND($D$28<>1,$D$28/($J$35+1)<1),Konstante_Werte!$E$67*$D$35*$D$22*$J$35/$D$28,IF(MOD($C169,$D$28)=0,0,IF(INT(MOD(($C169-$D$28*INT(($C169-1)/$D$28)),($D$28/($J$35+1))))<>0,0,Konstante_Werte!$E$67*$D$35*$D$22))))),0)","v":0},{"$f":"IF($D$22>0,(IF($D$28=1,$D$22*$E$35*$K$35*Konstante_Werte!$E$68, IF(AND($D$28<>1,$D$28/($K$35+1)<1),Konstante_Werte!$E$68*$E$35*$D$22*$K$35/$D$28,IF(MOD($C169,$D$28)=0,0,IF(INT(MOD(($C169-$D$28*INT(($C169-1)/$D$28)),($D$28/($K$35+1))))<>0,0,Konstante_Werte!$E$68*$E$35*$D$22))))),0)","v":0},{"$f":"IF($D$22>0,(IF($D$28=1,$D$22*$F$35*$L$35*Konstante_Werte!$E$69, IF(AND($D$28<>1,$D$28/($L$35+1)<1),Konstante_Werte!$E$69*$F$35*$D$22*$L$35/$D$28,IF(MOD($C169,$D$28)=0,0,IF(INT(MOD(($C169-$D$28*INT(($C169-1)/$D$28)),($D$28/($L$35+1))))<>0,0,Konstante_Werte!$E$69*$F$35*$D$22))))),0)","v":0},118.58474654434271,204.43366575668037,9462.6079800000007,7613.4237600000006,48399.050152301024,"Euro/a",0.46631908704765962]
[null,null,8,{"$f":"IF($D$22>0,(IF(MOD(($C153-1),$D$28)<>0,0,Konstante_Werte!$E$64*$D$22)),0)","v":0},{"$f":"IF($E$22>0,(IF(MOD(($C170-1),$D$30)<>0,0,Konstante_Werte!$E$66*$E$22)),0)","v":0},{"$f":"IF($D$22>0,(IF($D$28=1,$D$22*$D$35*$J$35*Konstante_Werte!$E$67, IF(AND($D$28<>1,$D$28/($J$35+1)<1),Konstante_Werte!$E$67*$D$35*$D$22*$J$35/$D$28,IF(MOD($C170,$D$28)=0,0,IF(INT(MOD(($C170-$D$28*INT(($C170-1)/$D$28)),($D$28/($J$35+1))))<>0,0,Konstante_Werte!$E$67*$D$35*$D$22))))),0)","v":0},{"$f":"IF($D$22>0,(IF($D$28=1,$D$22*$E$35*$K$35*Konstante_Werte!$E$68, IF(AND($D$28<>1,$D$28/($K$35+1)<1),Konstante_Werte!$E$68*$E$35*$D$22*$K$35/$D$28,IF(MOD($C170,$D$28)=0,0,IF(INT(MOD(($C170-$D$28*INT(($C170-1)/$D$28)),($D$28/($K$35+1))))<>0,0,Konstante_Werte!$E$68*$E$35*$D$22))))),0)","v":0},{"$f":"IF($D$22>0,(IF($D$28=1,$D$22*$F$35*$L$35*Konstante_Werte!$E$69, IF(AND($D$28<>1,$D$28/($L$35+1)<1),Konstante_Werte!$E$69*$F$35*$D$22*$L$35/$D$28,IF(MOD($C170,$D$28)=0,0,IF(INT(MOD(($C170-$D$28*INT(($C170-1)/$D$28)),($D$28/($L$35+1))))<>0,0,Konstante_Werte!$E$69*$F$35*$D$22))))),0)","v":0},119.26775700110257,205.61113870741394,0,0,324.8788957085165,"Euro/a",3.1301694882672122E-3]
[null,null,9,{"$f":"IF($D$22>0,(IF(MOD(($C154-1),$D$28)<>0,0,Konstante_Werte!$E$64*$D$22)),0)","v":0},{"$f":"IF($E$22>0,(IF(MOD(($C171-1),$D$30)<>0,0,Konstante_Werte!$E$66*$E$22)),0)","v":0},{"$f":"IF($D$22>0,(IF($D$28=1,$D$22*$D$35*$J$35*Konstante_Werte!$E$67, IF(AND($D$28<>1,$D$28/($J$35+1)<1),Konstante_Werte!$E$67*$D$35*$D$22*$J$35/$D$28,IF(MOD($C171,$D$28)=0,0,IF(INT(MOD(($C171-$D$28*INT(($C171-1)/$D$28)),($D$28/($J$35+1))))<>0,0,Konstante_Werte!$E$67*$D$35*$D$22))))),0)","v":0},{"$f":"IF($D$22>0,(IF($D$28=1,$D$22*$E$35*$K$35*Konstante_Werte!$E$68, IF(AND($D$28<>1,$D$28/($K$35+1)<1),Konstante_Werte!$E$68*$E$35*$D$22*$K$35/$D$28,IF(MOD($C171,$D$28)=0,0,IF(INT(MOD(($C171-$D$28*INT(($C171-1)/$D$28)),($D$28/($K$35+1))))<>0,0,Konstante_Werte!$E$68*$E$35*$D$22))))),0)","v":0},{"$f":"IF($D$22>0,(IF($D$28=1,$D$22*$F$35*$L$35*Konstante_Werte!$E$69, IF(AND($D$28<>1,$D$28/($L$35+1)<1),Konstante_Werte!$E$69*$F$35*$D$22*$L$35/$D$28,IF(MOD($C171,$D$28)=0,0,IF(INT(MOD(($C171-$D$28*INT(($C171-1)/$D$28)),($D$28/($L$35+1))))<>0,0,Konstante_Werte!$E$69*$F$35*$D$22))))),0)","v":1875},119.95470138104936,206.7953935281717,0,0,2201.7500949092209,"Euro/a",2.1213600079636123E-2]
[null,null,10,{"$f":"IF($D$22>0,(IF(MOD(($C155-1),$D$28)<>0,0,Konstante_Werte!$E$64*$D$22)),0)","v":0},{"$f":"IF($E$22>0,(IF(MOD(($C172-1),$D$30)<>0,0,Konstante_Werte!$E$66*$E$22)),0)","v":0},{"$f":"IF($D$22>0,(IF($D$28=1,$D$22*$D$35*$J$35*Konstante_Werte!$E$67, IF(AND($D$28<>1,$D$28/($J$35+1)<1),Konstante_Werte!$E$67*$D$35*$D$22*$J$35/$D$28,IF(MOD($C172,$D$28)=0,0,IF(INT(MOD(($C172-$D$28*INT(($C172-1)/$D$28)),($D$28/($J$35+1))))<>0,0,Konstante_Werte!$E$67*$D$35*$D$22))))),0)","v":0},{"$f":"IF($D$22>0,(IF($D$28=1,$D$22*$E$35*$K$35*Konstante_Werte!$E$68, IF(AND($D$28<>1,$D$28/($K$35+1)<1),Konstante_Werte!$E$68*$E$35*$D$22*$K$35/$D$28,IF(MOD($C172,$D$28)=0,0,IF(INT(MOD(($C172-$D$28*INT(($C172-1)/$D$28)),($D$28/($K$35+1))))<>0,0,Konstante_Werte!$E$68*$E$35*$D$22))))),0)","v":0},{"$f":"IF($D$22>0,(IF($D$28=1,$D$22*$F$35*$L$35*Konstante_Werte!$E$69, IF(AND($D$28<>1,$D$28/($L$35+1)<1),Konstante_Werte!$E$69*$F$35*$D$22*$L$35/$D$28,IF(MOD($C172,$D$28)=0,0,IF(INT(MOD(($C172-$D$28*INT(($C172-1)/$D$28)),($D$28/($L$35+1))))<>0,0,Konstante_Werte!$E$69*$F$35*$D$22))))),0)","v":0},120.64560234233048,207.98646928036973,0,0,328.63207162270021,"Euro/a",3.1663308914419435E-3]
[null,null,11,{"$f":"IF($D$22>0,(IF(MOD(($C156-1),$D$28)<>0,0,Konstante_Werte!$E$64*$D$22)),0)","v":0},{"$f":"IF($E$22>0,(IF(MOD(($C173-1),$D$30)<>0,0,Konstante_Werte!$E$66*$E$22)),0)","v":0},{"$f":"IF($D$22>0,(IF($D$28=1,$D$22*$D$35*$J$35*Konstante_Werte!$E$67, IF(AND($D$28<>1,$D$28/($J$35+1)<1),Konstante_Werte!$E$67*$D$35*$D$22*$J$35/$D$28,IF(MOD($C173,$D$28)=0,0,IF(INT(MOD(($C173-$D$28*INT(($C173-1)/$D$28)),($D$28/($J$35+1))))<>0,0,Konstante_Werte!$E$67*$D$35*$D$22))))),0)","v":0},{"$f":"IF($D$22>0,(IF($D$28=1,$D$22*$E$35*$K$35*Konstante_Werte!$E$68, IF(AND($D$28<>1,$D$28/($K$35+1)<1),Konstante_Werte!$E$68*$E$35*$D$22*$K$35/$D$28,IF(MOD($C173,$D$28)=0,0,IF(INT(MOD(($C173-$D$28*INT(($C173-1)/$D$28)),($D$28/($K$35+1))))<>0,0,Konstante_Werte!$E$68*$E$35*$D$22))))),0)","v":0},{"$f":"IF($D$22>0,(IF($D$28=1,$D$22*$F$35*$L$35*Konstante_Werte!$E$69, IF(AND($D$28<>1,$D$28/($L$35+1)<1),Konstante_Werte!$E$69*$F$35*$D$22*$L$35/$D$28,IF(MOD($C173,$D$28)=0,0,IF(INT(MOD(($C173-$D$28*INT(($C173-1)/$D$28)),($D$28/($L$35+1))))<>0,0,Konstante_Werte!$E$69*$F$35*$D$22))))),0)","v":0},121.34048267359714,209.18440525040563,0,0,330.52488792400277,"Euro/a","-"]
[null,null,12,{"$f":"IF($D$22>0,(IF(MOD(($C157-1),$D$28)<>0,0,Konstante_Werte!$E$64*$D$22)),0)","v":0},{"$f":"IF($E$22>0,(IF(MOD(($C174-1),$D$30)<>0,0,Konstante_Werte!$E$66*$E$22)),0)","v":0},{"$f":"IF($D$22>0,(IF($D$28=1,$D$22*$D$35*$J$35*Konstante_Werte!$E$67, IF(AND($D$28<>1,$D$28/($J$35+1)<1),Konstante_Werte!$E$67*$D$35*$D$22*$J$35/$D$28,IF(MOD($C174,$D$28)=0,0,IF(INT(MOD(($C174-$D$28*INT(($C174-1)/$D$28)),($D$28/($J$35+1))))<>0,0,Konstante_Werte!$E$67*$D$35*$D$22))))),0)","v":0},{"$f":"IF($D$22>0,(IF($D$28=1,$D$22*$E$35*$K$35*Konstante_Werte!$E$68, IF(AND($D$28<>1,$D$28/($K$35+1)<1),Konstante_Werte!$E$68*$E$35*$D$22*$K$35/$D$28,IF(MOD($C174,$D$28)=0,0,IF(INT(MOD(($C174-$D$28*INT(($C174-1)/$D$28)),($D$28/($K$35+1))))<>0,0,Konstante_Werte!$E$68*$E$35*$D$22))))),0)","v":0},{"$f":"IF($D$22>0,(IF($D$28=1,$D$22*$F$35*$L$35*Konstante_Werte!$E$69, IF(AND($D$28<>1,$D$28/($L$35+1)<1),Konstante_Werte!$E$69*$F$35*$D$22*$L$35/$D$28,IF(MOD($C174,$D$28)=0,0,IF(INT(MOD(($C174-$D$28*INT(($C174-1)/$D$28)),($D$28/($L$35+1))))<>0,0,Konstante_Werte!$E$69*$F$35*$D$22))))),0)","v":0},122.03936529475587,210.3892409509541,0,0,332.42860624570994,"Euro/a","-"]
[null,null,"Summe über Betrachtungszeitraum",{"$f":"SUM(D163:OFFSET(D163,$F$89-1,0))","v":43100},{"$f":"SUM(E163:OFFSET(E163,$F$89-1,0))","v":18900},{"$f":"SUM(F163:OFFSET(F163,$F$89-1,0))","v":0},{"$f":"SUM(G163:OFFSET(G163,$F$89-1,0))","v":0},{"$f":"SUM(H163:OFFSET(H163,$F$89-1,0))","v":3750},{"$f":"SUM(I163:OFFSET(I163,$F$89-1,0))","v":1427.1542497457892},{"$f":"SUM(J163:OFFSET(J163,$F$89-1,0))","v":2460.3364545427316},{"$f":"SUM(K163:OFFSET(K163,$F$89-1,0))","v":18925.215960000001},{"$f":"SUM(L163:OFFSET(L163,$F$89-1,0))","v":15226.847520000001},{"$f":"SUM(M163:OFFSET(M163,$F$89-1,0))","v":103789.55418428853},"Euro/Betrachtungszeitraum",{"$f":"SUM(O163:O174)","v":1}]
[]
[null,null,"APC mit Mini-PC (für alle Geräte)"]
[null,null,"In EURO  ","Anschaffungskosten",null,null,null,null,"Energiekosten",null,"Bruttopersonal-kosten","Sach-und Gemeinkosten","Summe",null,"Anteil"]
[null,null,"Jahr (max: 12 Jahre)","Mini-PC","Monitor","Ersatz HDD durch SSD","RAM hinzufügen","Wechsel des Akkus","Desktop","Monitor"]
[null,null,1,{"$f":"IF($D$23>0,(IF(MOD(($C146-1),$D$29)<>0,0,Konstante_Werte!$E$65*$D$23)),0)","v":22750},{"$f":"IF($E$23>0,(IF(MOD(($C180-1),$D$30)<>0,0,Konstante_Werte!$E$66*$E$23)),0)","v":15120},{"$f":"IF($D$23>0,(IF($D$29=1,$D$23*$D$36*$J$36*Konstante_Werte!$E$67, IF(AND($D$29<>1,$D$29/($J$36+1)<1),Konstante_Werte!$E$67*$D$36*$D$23*$J$36/$D$29,IF(MOD($C180,$D$29)=0,0,IF(INT(MOD(($C180-$D$29*INT(($C180-1)/$D$29)),($D$29/($J$36+1))))<>0,0,Konstante_Werte!$E$67*$D$36*$D$23))))),0)","v":0},{"$f":"IF($D$23>0,(IF($D$29=1,$D$23*$E$36*$K$36*Konstante_Werte!$E$68, IF(AND($D$29<>1,$D$29/($K$36+1)<1),Konstante_Werte!$E$68*$E$36*$D$23*$K$36/$D$29,IF(MOD($C180,$D$29)=0,0,IF(INT(MOD(($C180-$D$29*INT(($C180-1)/$D$29)),($D$29/($K$36+1))))<>0,0,Konstante_Werte!$E$68*$E$36*$D$23))))),0)","v":0},"-",{"$f":"IF($D$23>0, F129*$D$23,0)","v":405.69295199999993},{"$f":"G129*$E$23","v":429.89800960000002},{"$f":"IF($D$23>0,(IF(MOD(($C180-1),$D$29)<>0,0,$K$13*$D$23)),0)+IF($E$23>0,(IF(MOD(($C180-1),$D$30)<>0,0,$K$13*$E$23)),0)","v":14193.911970000001},{"$f":"IF($D$23>0,(IF(MOD(($C180-1),$D$29)<>0,0,$K$14*$D$23)),0)+IF($E$23>0,(IF(MOD(($C180-1),$D$30)<>0,0,$K$14*$E$23)),0)","v":11420.13564},{"$f":"SUM(D180:L180)","v":64319.6385716},"Euro/a",{"$f":"IF($M$192<>0,(IF(C180<=$F$89,M180/$M$192,\"-\")),0)","v":0.47778832231747015}]
[null,null,{"$f":"C180+1","v":2},{"$f":"IF($D$23>0,(IF(MOD(($C147-1),$D$29)<>0,0,Konstante_Werte!$E$65*$D$23)),0)","v":0},{"$f":"IF($E$23>0,(IF(MOD(($C181-1),$D$30)<>0,0,Konstante_Werte!$E$66*$E$23)),0)","v":0},{"$f":"IF($D$23>0,(IF($D$29=1,$D$23*$D$36*$J$36*Konstante_Werte!$E$67, IF(AND($D$29<>1,$D$29/($J$36+1)<1),Konstante_Werte!$E$67*$D$36*$D$23*$J$36/$D$29,IF(MOD($C181,$D$29)=0,0,IF(INT(MOD(($C181-$D$29*INT(($C181-1)/$D$29)),($D$29/($J$36+1))))<>0,0,Konstante_Werte!$E$67*$D$36*$D$23))))),0)","v":0},{"$f":"IF($D$23>0,(IF($D$29=1,$D$23*$E$36*$K$36*Konstante_Werte!$E$68, IF(AND($D$29<>1,$D$29/($K$36+1)<1),Konstante_Werte!$E$68*$E$36*$D$23*$K$36/$D$29,IF(MOD($C181,$D$29)=0,0,IF(INT(MOD(($C181-$D$29*INT(($C181-1)/$D$29)),($D$29/($K$36+1))))<>0,0,Konstante_Werte!$E$68*$E$36*$D$23))))),0)","v":0},"-",408.02961448421053,432.37408552421061,0,0,840.40370000842108,"Euro/a",6.2428067509961681E-3]
[null,null,{"$f":"C181+1","v":3},{"$f":"IF($D$23>0,(IF(MOD(($C148-1),$D$29)<>0,0,Konstante_Werte!$E$65*$D$23)),0)","v":0},{"$f":"IF($E$23>0,(IF(MOD(($C182-1),$D$30)<>0,0,Konstante_Werte!$E$66*$E$23)),0)","v":0},{"$f":"IF($D$23>0,(IF($D$29=1,$D$23*$D$36*$J$36*Konstante_Werte!$E$67, IF(AND($D$29<>1,$D$29/($J$36+1)<1),Konstante_Werte!$E$67*$D$36*$D$23*$J$36/$D$29,IF(MOD($C182,$D$29)=0,0,IF(INT(MOD(($C182-$D$29*INT(($C182-1)/$D$29)),($D$29/($J$36+1))))<>0,0,Konstante_Werte!$E$67*$D$36*$D$23))))),0)","v":0},{"$f":"IF($D$23>0,(IF($D$29=1,$D$23*$E$36*$K$36*Konstante_Werte!$E$68, IF(AND($D$29<>1,$D$29/($K$36+1)<1),Konstante_Werte!$E$68*$E$36*$D$23*$K$36/$D$29,IF(MOD($C182,$D$29)=0,0,IF(INT(MOD(($C182-$D$29*INT(($C182-1)/$D$29)),($D$29/($K$36+1))))<>0,0,Konstante_Werte!$E$68*$E$36*$D$23))))),0)","v":0},"-",410.37973540179581,434.86442285890814,0,0,845.2441582607039,"Euro/a",6.2787633340704255E-3]
[null,null,4,{"$f":"IF($D$23>0,(IF(MOD(($C149-1),$D$29)<>0,0,Konstante_Werte!$E$65*$D$23)),0)","v":0},{"$f":"IF($E$23>0,(IF(MOD(($C183-1),$D$30)<>0,0,Konstante_Werte!$E$66*$E$23)),0)","v":0},{"$f":"IF($D$23>0,(IF($D$29=1,$D$23*$D$36*$J$36*Konstante_Werte!$E$67, IF(AND($D$29<>1,$D$29/($J$36+1)<1),Konstante_Werte!$E$67*$D$36*$D$23*$J$36/$D$29,IF(MOD($C183,$D$29)=0,0,IF(INT(MOD(($C183-$D$29*INT(($C183-1)/$D$29)),($D$29/($J$36+1))))<>0,0,Konstante_Werte!$E$67*$D$36*$D$23))))),0)","v":0},{"$f":"IF($D$23>0,(IF($D$29=1,$D$23*$E$36*$K$36*Konstante_Werte!$E$68, IF(AND($D$29<>1,$D$29/($K$36+1)<1),Konstante_Werte!$E$68*$E$36*$D$23*$K$36/$D$29,IF(MOD($C183,$D$29)=0,0,IF(INT(MOD(($C183-$D$29*INT(($C183-1)/$D$29)),($D$29/($K$36+1))))<>0,0,Konstante_Werte!$E$68*$E$36*$D$23))))),0)","v":0},"-",412.74339226905539,437.36910374528514,0,0,850.11249601434054,"Euro/a",6.3149270156370677E-3]
[null,null,5,{"$f":"IF($D$23>0,(IF(MOD(($C150-1),$D$29)<>0,0,Konstante_Werte!$E$65*$D$23)),0)","v":0},{"$f":"IF($E$23>0,(IF(MOD(($C184-1),$D$30)<>0,0,Konstante_Werte!$E$66*$E$23)),0)","v":0},{"$f":"IF($D$23>0,(IF($D$29=1,$D$23*$D$36*$J$36*Konstante_Werte!$E$67, IF(AND($D$29<>1,$D$29/($J$36+1)<1),Konstante_Werte!$E$67*$D$36*$D$23*$J$36/$D$29,IF(MOD($C184,$D$29)=0,0,IF(INT(MOD(($C184-$D$29*INT(($C184-1)/$D$29)),($D$29/($J$36+1))))<>0,0,Konstante_Werte!$E$67*$D$36*$D$23))))),0)","v":0},{"$f":"IF($D$23>0,(IF($D$29=1,$D$23*$E$36*$K$36*Konstante_Werte!$E$68, IF(AND($D$29<>1,$D$29/($K$36+1)<1),Konstante_Werte!$E$68*$E$36*$D$23*$K$36/$D$29,IF(MOD($C184,$D$29)=0,0,IF(INT(MOD(($C184-$D$29*INT(($C184-1)/$D$29)),($D$29/($K$36+1))))<>0,0,Konstante_Werte!$E$68*$E$36*$D$23))))),0)","v":0},"-",415.12066304875805,439.88821079764136,0,0,855.00887384639941,"Euro/a",6.3512989885175994E-3]
[null,null,6,{"$f":"IF($D$23>0,(IF(MOD(($C151-1),$D$29)<>0,0,Konstante_Werte!$E$65*$D$23)),0)","v":0},{"$f":"IF($E$23>0,(IF(MOD(($C185-1),$D$30)<>0,0,Konstante_Werte!$E$66*$E$23)),0)","v":0},{"$f":"IF($D$23>0,(IF($D$29=1,$D$23*$D$36*$J$36*Konstante_Werte!$E$67, IF(AND($D$29<>1,$D$29/($J$36+1)<1),Konstante_Werte!$E$67*$D$36*$D$23*$J$36/$D$29,IF(MOD($C185,$D$29)=0,0,IF(INT(MOD(($C185-$D$29*INT(($C185-1)/$D$29)),($D$29/($J$36+1))))<>0,0,Konstante_Werte!$E$67*$D$36*$D$23))))),0)","v":0},{"$f":"IF($D$23>0,(IF($D$29=1,$D$23*$E$36*$K$36*Konstante_Werte!$E$68, IF(AND($D$29<>1,$D$29/($K$36+1)<1),Konstante_Werte!$E$68*$E$36*$D$23*$K$36/$D$29,IF(MOD($C185,$D$29)=0,0,IF(INT(MOD(($C185-$D$29*INT(($C185-1)/$D$29)),($D$29/($K$36+1))))<>0,0,Konstante_Werte!$E$68*$E$36*$D$23))))),0)","v":0},"-",417.51162615271318,442.42182710610837,0,0,859.9334532588216,"Euro/a",6.3878804524037987E-3]
[null,null,7,{"$f":"IF($D$23>0,(IF(MOD(($C152-1),$D$29)<>0,0,Konstante_Werte!$E$65*$D$23)),0)","v":22750},{"$f":"IF($E$23>0,(IF(MOD(($C186-1),$D$30)<>0,0,Konstante_Werte!$E$66*$E$23)),0)","v":15120},{"$f":"IF($D$23>0,(IF($D$29=1,$D$23*$D$36*$J$36*Konstante_Werte!$E$67, IF(AND($D$29<>1,$D$29/($J$36+1)<1),Konstante_Werte!$E$67*$D$36*$D$23*$J$36/$D$29,IF(MOD($C186,$D$29)=0,0,IF(INT(MOD(($C186-$D$29*INT(($C186-1)/$D$29)),($D$29/($J$36+1))))<>0,0,Konstante_Werte!$E$67*$D$36*$D$23))))),0)","v":0},{"$f":"IF($D$23>0,(IF($D$29=1,$D$23*$E$36*$K$36*Konstante_Werte!$E$68, IF(AND($D$29<>1,$D$29/($K$36+1)<1),Konstante_Werte!$E$68*$E$36*$D$23*$K$36/$D$29,IF(MOD($C186,$D$29)=0,0,IF(INT(MOD(($C186-$D$29*INT(($C186-1)/$D$29)),($D$29/($K$36+1))))<>0,0,Konstante_Werte!$E$68*$E$36*$D$23))))),0)","v":0},"-",308.67711130341166,327.09386521068859,14193.911970000001,11420.13564,64119.818586514099,"Euro/a",0.47630399097544285]
[null,null,8,{"$f":"IF($D$23>0,(IF(MOD(($C153-1),$D$29)<>0,0,Konstante_Werte!$E$65*$D$23)),0)","v":0},{"$f":"IF($E$23>0,(IF(MOD(($C187-1),$D$30)<>0,0,Konstante_Werte!$E$66*$E$23)),0)","v":0},{"$f":"IF($D$23>0,(IF($D$29=1,$D$23*$D$36*$J$36*Konstante_Werte!$E$67, IF(AND($D$29<>1,$D$29/($J$36+1)<1),Konstante_Werte!$E$67*$D$36*$D$23*$J$36/$D$29,IF(MOD($C187,$D$29)=0,0,IF(INT(MOD(($C187-$D$29*INT(($C187-1)/$D$29)),($D$29/($J$36+1))))<>0,0,Konstante_Werte!$E$67*$D$36*$D$23))))),0)","v":0},{"$f":"IF($D$23>0,(IF($D$29=1,$D$23*$E$36*$K$36*Konstante_Werte!$E$68, IF(AND($D$29<>1,$D$29/($K$36+1)<1),Konstante_Werte!$E$68*$E$36*$D$23*$K$36/$D$29,IF(MOD($C187,$D$29)=0,0,IF(INT(MOD(($C187-$D$29*INT(($C187-1)/$D$29)),($D$29/($K$36+1))))<>0,0,Konstante_Werte!$E$68*$E$36*$D$23))))),0)","v":0},"-",310.45499337447399,328.97782193186231,0,0,639.43281530633635,"Euro/a",4.7499261321230293E-3]
[null,null,9,{"$f":"IF($D$23>0,(IF(MOD(($C154-1),$D$29)<>0,0,Konstante_Werte!$E$65*$D$23)),0)","v":0},{"$f":"IF($E$23>0,(IF(MOD(($C188-1),$D$30)<>0,0,Konstante_Werte!$E$66*$E$23)),0)","v":0},{"$f":"IF($D$23>0,(IF($D$29=1,$D$23*$D$36*$J$36*Konstante_Werte!$E$67, IF(AND($D$29<>1,$D$29/($J$36+1)<1),Konstante_Werte!$E$67*$D$36*$D$23*$J$36/$D$29,IF(MOD($C188,$D$29)=0,0,IF(INT(MOD(($C188-$D$29*INT(($C188-1)/$D$29)),($D$29/($J$36+1))))<>0,0,Konstante_Werte!$E$67*$D$36*$D$23))))),0)","v":0},{"$f":"IF($D$23>0,(IF($D$29=1,$D$23*$E$36*$K$36*Konstante_Werte!$E$68, IF(AND($D$29<>1,$D$29/($K$36+1)<1),Konstante_Werte!$E$68*$E$36*$D$23*$K$36/$D$29,IF(MOD($C188,$D$29)=0,0,IF(INT(MOD(($C188-$D$29*INT(($C188-1)/$D$29)),($D$29/($K$36+1))))<>0,0,Konstante_Werte!$E$68*$E$36*$D$23))))),0)","v":0},"-",312.24311548129822,330.87262964507477,0,0,643.11574512637299,"Euro/a",4.7772841972335703E-3]
[null,null,10,{"$f":"IF($D$23>0,(IF(MOD(($C155-1),$D$29)<>0,0,Konstante_Werte!$E$65*$D$23)),0)","v":0},{"$f":"IF($E$23>0,(IF(MOD(($C189-1),$D$30)<>0,0,Konstante_Werte!$E$66*$E$23)),0)","v":0},{"$f":"IF($D$23>0,(IF($D$29=1,$D$23*$D$36*$J$36*Konstante_Werte!$E$67, IF(AND($D$29<>1,$D$29/($J$36+1)<1),Konstante_Werte!$E$67*$D$36*$D$23*$J$36/$D$29,IF(MOD($C189,$D$29)=0,0,IF(INT(MOD(($C189-$D$29*INT(($C189-1)/$D$29)),($D$29/($J$36+1))))<>0,0,Konstante_Werte!$E$67*$D$36*$D$23))))),0)","v":0},{"$f":"IF($D$23>0,(IF($D$29=1,$D$23*$E$36*$K$36*Konstante_Werte!$E$68, IF(AND($D$29<>1,$D$29/($K$36+1)<1),Konstante_Werte!$E$68*$E$36*$D$23*$K$36/$D$29,IF(MOD($C189,$D$29)=0,0,IF(INT(MOD(($C189-$D$29*INT(($C189-1)/$D$29)),($D$29/($K$36+1))))<>0,0,Konstante_Werte!$E$68*$E$36*$D$23))))),0)","v":0},"-",314.04153660323618,332.77835084859157,0,0,646.81988745182775,"Euro/a",4.8047998361054221E-3]
[null,null,11,{"$f":"IF($D$23>0,(IF(MOD(($C156-1),$D$29)<>0,0,Konstante_Werte!$E$65*$D$23)),0)","v":0},{"$f":"IF($E$23>0,(IF(MOD(($C190-1),$D$30)<>0,0,Konstante_Werte!$E$66*$E$23)),0)","v":0},{"$f":"IF($D$23>0,(IF($D$29=1,$D$23*$D$36*$J$36*Konstante_Werte!$E$67, IF(AND($D$29<>1,$D$29/($J$36+1)<1),Konstante_Werte!$E$67*$D$36*$D$23*$J$36/$D$29,IF(MOD($C190,$D$29)=0,0,IF(INT(MOD(($C190-$D$29*INT(($C190-1)/$D$29)),($D$29/($J$36+1))))<>0,0,Konstante_Werte!$E$67*$D$36*$D$23))))),0)","v":0},{"$f":"IF($D$23>0,(IF($D$29=1,$D$23*$E$36*$K$36*Konstante_Werte!$E$68, IF(AND($D$29<>1,$D$29/($K$36+1)<1),Konstante_Werte!$E$68*$E$36*$D$23*$K$36/$D$29,IF(MOD($C190,$D$29)=0,0,IF(INT(MOD(($C190-$D$29*INT(($C190-1)/$D$29)),($D$29/($K$36+1))))<>0,0,Konstante_Werte!$E$68*$E$36*$D$23))))),0)","v":0},"-",315.85031605934228,334.695048400649,0,0,650.54536445999133,"Euro/a","-"]
[null,null,12,{"$f":"IF($D$23>0,(IF(MOD(($C157-1),$D$29)<>0,0,Konstante_Werte!$E$65*$D$23)),0)","v":0},{"$f":"IF($E$23>0,(IF(MOD(($C191-1),$D$30)<>0,0,Konstante_Werte!$E$66*$E$23)),0)","v":0},{"$f":"IF($D$23>0,(IF($D$29=1,$D$23*$D$36*$J$36*Konstante_Werte!$E$67, IF(AND($D$29<>1,$D$29/($J$36+1)<1),Konstante_Werte!$E$67*$D$36*$D$23*$J$36/$D$29,IF(MOD($C191,$D$29)=0,0,IF(INT(MOD(($C191-$D$29*INT(($C191-1)/$D$29)),($D$29/($J$36+1))))<>0,0,Konstante_Werte!$E$67*$D$36*$D$23))))),0)","v":0},{"$f":"IF($D$23>0,(IF($D$29=1,$D$23*$E$36*$K$36*Konstante_Werte!$E$68, IF(AND($D$29<>1,$D$29/($K$36+1)<1),Konstante_Werte!$E$68*$E$36*$D$23*$K$36/$D$29,IF(MOD($C191,$D$29)=0,0,IF(INT(MOD(($C191-$D$29*INT(($C191-1)/$D$29)),($D$29/($K$36+1))))<>0,0,Konstante_Werte!$E$68*$E$36*$D$23))))),0)","v":0},"-",317.66951351032952,336.62278552152657,0,0,654.29229903185615,"Euro/a","-"]
[null,null,"Summe über Betrachtungszeitraum",{"$f":"SUM(D180:OFFSET(D180,$F$89-1,0))","v":45500},{"$f":"SUM(E180:OFFSET(E180,$F$89-1,0))","v":30240},{"$f":"SUM(F180:OFFSET(F180,$F$89-1,0))","v":0},{"$f":"SUM(G180:OFFSET(G180,$F$89-1,0))","v":0},"-",{"$f":"SUM(I180:OFFSET(I180,$F$89-1,0))","v":3714.894740118953},{"$f":"SUM(J180:OFFSET(J180,$F$89-1,0))","v":3936.5383272683712},{"$f":"SUM(K180:OFFSET(K180,$F$89-1,0))","v":28387.823940000002},{"$f":"SUM(L180:OFFSET(L180,$F$89-1,0))","v":22840.271280000001},{"$f":"SUM(M180:OFFSET(M180,$F$89-1,0))","v":134619.52828738731},"Euro/Betrachtungszeitraum",{"$f":"SUM(O180:O191)","v":0.99999999999999989}]

{"sheet":"Berechnung_Szen1","index":11,"n_rows":192,"n_cols":15,"rows_kept":192,"cut":false,"hidden":true,"merged":[[31,8,31,11],[105,3,105,4],[106,3,106,4],[107,3,107,4],[108,3,108,4],[40,3,40,5],[143,12,144,13],[177,10,178,10],[177,11,178,11],[177,12,178,13],[46,3,46,6],[47,3,47,6],[48,3,48,6],[143,3,143,7],[177,3,177,7],[49,3,49,6],[160,3,160,7],[160,8,160,9],[143,10,144,10],[143,11,144,11],[143,8,143,9],[177,8,177,9],[1,5,1,7],[1,3,1,4],[177,14,178,14],[143,14,144,14],[160,10,161,10],[160,11,161,11],[160,12,161,13],[160,14,161,14],[4,2,4,3],[5,2,5,3],[41,3,41,5],[31,2,31,5],[70,3,71,12],[42,3,42,5],[43,3,43,5],[44,3,44,5]]}
[null,"Berechnung der CO2-Äquivalente und der Kosten"]
[null,null,null,null,null,"Zurück zum Inhaltsverzeichnis"]
[null,{"$f":"Szen1_Variablen!B3","v":"Bezeichnung:"},null,{"$f":"Szen1_Variablen!C3","v":"Szenario 1"}]
[null,"1. Feste Daten"]
[null,null,{"$f":"'Default-Werte'!B4","v":"Anzahl von Arbeitstagen/Jahr"},null,203,"d/a"]
[null,null,{"$f":"'Default-Werte'!B5","v":"Betrachtungszeitraum [Jahr]"},null,{"$f":"IF(Konstante_Werte!E16<>\"0\", Konstante_Werte!E16, Konstante_Werte!L16)","v":10},"Jahre"]
[]
[null,null,{"$f":"Konstante_Werte!C18","v":"Strompreis: [€/kWh]"},null,null,null,{"$f":"Konstante_Werte!E18","v":0.21199999999999999}]
[null,null,{"$f":"Konstante_Werte!C19","v":"Reale Preissteigerungsrate Strom: [%/Jahr]"},null,null,null,{"$f":"Konstante_Werte!E19","v":5.7596822244290191E-3}]
[]
[null,null,"Durchschnittlicher Verwaltungsaufwand je Beschaffungszyklus",null,null,null,null,{"$f":"Konstante_Werte!E59","v":"Höherer Dienst"},{"$f":"Konstante_Werte!F59","v":"Gehobener Dienst "},{"$f":"Konstante_Werte!G59","v":"Mittlerer Dienst"},"Summe"]
[null,null,{"$f":"Konstante_Werte!C60","v":"Personalaufwand [d/Stück]"},null,null,null,null,{"$f":"Konstante_Werte!$E$60","v":1.1619999999999998E-2},{"$f":"Konstante_Werte!F60","v":8.7660000000000002E-2},{"$f":"Konstante_Werte!G60","v":0.18442},{"$f":"SUM(H12:J12)","v":0.28370000000000001}]
[null,null,"Personalkosten pro Gerät [EUR/Stck]",null,null,null,null,{"$f":"$H$12*Konstante_Werte!E55","v":6.2047313999999991},{"$f":"$I$12*Konstante_Werte!F55","v":35.8450506},{"$f":"$J$12*Konstante_Werte!G55","v":52.576297799999999},{"$f":"SUM(H13:J13)","v":94.626079799999999}]
[null,null,"Sach- und Gemeinkosten pro Gerät [EUR/Stck]",null,null,null,null,{"$f":"$H$12*Konstante_Werte!E56","v":4.0034385999999991},{"$f":"$I$12*Konstante_Werte!F56","v":26.035019999999999},{"$f":"$J$12*Konstante_Werte!G56","v":46.095779},{"$f":"SUM(H14:J14)","v":76.134237600000006}]
[]
[null,null,{"$f":"Konstante_Werte!B47","v":"Anteil Nutzer nach Nutzungsintensität"},{"$f":"Konstante_Werte!C48","v":"Hohe Nutzungsintensität [%]"},{"$f":"Konstante_Werte!C49","v":"Mittlere Nutzungsintensität [%]"},{"$f":"Konstante_Werte!C50","v":"Geringe Nutzungsintensität [%]"}]
[null,null,"Geräte ",{"$f":"Konstante_Werte!E48","v":0.25},{"$f":"Konstante_Werte!E49","v":0.5},{"$f":"Konstante_Werte!E50","v":0.25}]
[]
[null,"2. Variable Daten"]
[null,null,{"$f":"Szen1_Variablen!B13","v":"Anzahl der Geräte [Stück]"},{"$f":"Szen1_Variablen!E13","v":"Anzahl der Geräte [Stück]"},{"$f":"Szen1_Variablen!F13","v":"Anzahl der zugeordneten Monitore"}]
[null,null,{"$f":"Szen1_Variablen!C14","v":"APC-Desktop-PC"},{"$f":"Szen1_Variablen!E14","v":100},{"$f":"Szen1_Variablen!F14","v":120}]
[null,null,{"$f":"Szen1_Variablen!C15","v":"APC-Notebook"},{"$f":"Szen1_Variablen!E15","v":50},{"$f":"Szen1_Variablen!F15","v":50}]
[null,null,{"$f":"Szen1_Variablen!C16","v":"APC-Mini-PC"},{"$f":"Szen1_Variablen!E16","v":70},{"$f":"Szen1_Variablen!F16","v":80}]
[null,null,{"$f":"Szen1_Variablen!C17","v":"Summe "},{"$f":"Szen1_Variablen!E17","v":220},{"$f":"SUM(E21:E23)","v":250}]
[]
[null,null,{"$f":"Szen1_Variablen!$B$19","v":"Nutzungsdauer [Jahre]"}]
[null,null,{"$f":"Szen1_Variablen!C20","v":"Desktop-PC"},{"$f":"Szen1_Variablen!E20","v":6}]
[null,null,{"$f":"Szen1_Variablen!C21","v":"Notebook"},{"$f":"Szen1_Variablen!E21","v":6}]
[null,null,{"$f":"Szen1_Variablen!C22","v":"Mini-PC"},{"$f":"Szen1_Variablen!E22","v":6}]
[null,null,{"$f":"Szen1_Variablen!C23","v":"Monitor"},{"$f":"Szen1_Variablen!E23","v":6}]
[]
[null,null,{"$f":"Szen1_Variablen!B31","v":"Prozentualer Anteil der Geräte, bei denen während der Nutzungsphase folgende Komponenten nachgerüstet bzw. ausgetauscht werden [%]"},null,null,null,null,null,{"$f":"Szen1_Variablen!B25","v":"Anzahl der Austauschvorgänge von Komponenten je Gerät während der Nutzungsphase"}]
[null,null,null,{"$f":"Szen1_Variablen!E32","v":"Ersatz HDD durch SSD"},{"$f":"Szen1_Variablen!F32","v":"RAM hinzufügen"},{"$f":"Szen1_Variablen!G32","v":"Wechsel des Akkus"},null,null,null,{"$f":"Szen1_Variablen!E26","v":"Ersatz HDD durch SSD"},{"$f":"Szen1_Variablen!F26","v":"RAM hinzufügen"},{"$f":"Szen1_Variablen!G26","v":"Wechsel des Akkus"}]
[null,null,{"$f":"Szen1_Variablen!C33","v":"Desktop-PC"},{"$f":"Szen1_Variablen!E33","v":0},{"$f":"Szen1_Variablen!F33","v":0},{"$f":"Szen1_Variablen!G33","v":"-"},null,null,{"$f":"Szen1_Variablen!C27","v":"Desktop-PC"},{"$f":"Szen1_Variablen!E27","v":1},{"$f":"Szen1_Variablen!F27","v":1},{"$f":"Szen1_Variablen!G27","v":"-"}]
[null,null,{"$f":"Szen1_Variablen!C34","v":"Notebook"},{"$f":"Szen1_Variablen!E34","v":0},{"$f":"Szen1_Variablen!F34","v":0},{"$f":"Szen1_Variablen!G34","v":0.5},null,null,{"$f":"Szen1_Variablen!C28","v":"Notebook"},{"$f":"Szen1_Variablen!E28","v":1},{"$f":"Szen1_Variablen!F28","v":1},{"$f":"Szen1_Variablen!G28","v":1}]
[null,null,{"$f":"Szen1_Variablen!C35","v":"Mini-PC"},{"$f":"Szen1_Variablen!E35","v":0},{"$f":"Szen1_Variablen!F35","v":0},{"$f":"Szen1_Variablen!G35","v":"-"},null,null,{"$f":"Szen1_Variablen!C29","v":"Mini-PC"},{"$f":"Szen1_Variablen!E29","v":1},{"$f":"Szen1_Variablen!F29","v":1},{"$f":"Szen1_Variablen!G29","v":"-"}]
[]
[null,"3. Ergebnisse"]
[null,"3.1 Stromverbrauch während der Nutzung"]
[null,null,"Stromverbrauch pro Gerät während der Nutzung [kWh/Gerät/Betrachtungsraum]"]
[null,null,"IT-Gerät","kWh/Gerät/Betrachtungsraum"]
[null,null,"Desktop-PC",{"$f":"$D$125","v":415.33979493344253}]
[null,null,"Notebook",{"$f":"$E$125","v":131.45326399640874}]
[null,null,"Mini-PC",{"$f":"$F$125","v":244.40998035011251}]
[null,null,"Monitor",{"$f":"$G$125","v":226.618291286035}]
[]
[null,null,"Arbeitsplatztyp","kWh/Betrachtungsraum"]
[null,null,"APC mit Desktop-PC",{"$f":"D42*$D21+$D$45*$E21","v":68728.174447668454}]
[null,null,"APC mit Notebook",{"$f":"D43*$D22+$D$45*$E22","v":17903.577764122187}]
[null,null,"APC mit Mini-PC",{"$f":"D44*$D23+$D$45*$E23","v":35238.161927390676}]
[]
[null,"3.2 GWP-Ergebnisse bezogen auf alle Geräte des Typs über den Betrachtungszeitraum"]
[null,null,"kg CO2e / Betrachtungszeitraum","APC mit Desktop","APC mit Notebook","APC mit Mini-PC","Summe",null,"GWP in % bezogen auf den Arbeitsplatztyp / Betrachtungszeitraum","APC mit Desktop","APC mit Notebook","APC mit Mini-PC","% (Summe)"]
[null,null,"Herstellung",{"$f":"IF(OR($D$21>0,$E$21>0),('Default-Werte'!$D$24+$D$34*$J$34*'Default-Werte'!$C$26+$E$34*$K$34*'Default-Werte'!$C$12)*$J$91*$D$21+'Default-Werte'!$D$25*$E$21*$J$94,0)","v":75456.666666666657},{"$f":"IF(OR($D$22>0,$E$22>0),('Default-Werte'!$D$47+'Default-Werte'!$C$39*$D$35*$J$35+'Default-Werte'!$C$30*$E$35*$K$35+'Default-Werte'!$C$38*$F$35*$L$35)*$J$92*$D$22+'Default-Werte'!$D$48*$J$94*$E$22,0)","v":28554.166666666672},{"$f":"IF(OR($D$23>0,$E$23>0),('Default-Werte'!$D$67+'Default-Werte'!$C$60*$D$36*$J$36+'Default-Werte'!$C$53*$E$36*$K$36)*$J$93*$D$23+$E$23*$J$94*'Default-Werte'!$D$68,0)","v":33985},{"$f":"SUM(D54:F54)","v":137995.83333333331},null,"Herstellung",{"$f":"IF($D$58=0,0,D54/$D$58)","v":0.61493739598179264},{"$f":"IF($E$58=0,0,E54/$E$58)","v":0.70007965543303174},{"$f":"IF($F$58=0,0,F54/$F$58)","v":0.58708732596832192},{"$f":"G54/$G$58","v":0.62334160174481446}]
[null,null,"Distribution",{"$f":"IF(OR($D$21>0,$E$21>0),('Default-Werte'!$C$72+$D$34*$J$34*'Default-Werte'!$C$78+$E$34*$K$34*'Default-Werte'!$C$77)*$J$91*$D$21+$J$94*$E$21*'Default-Werte'!$C$75,0)","v":3528},{"$f":"IF(OR($D$22>0,$E$22>0),('Default-Werte'!$C$73+'Default-Werte'!$C$78*$D$35*$J$35+'Default-Werte'!$C$77*$E$35*$K$35+'Default-Werte'!$C$76*$F$35*$L$35)*$J$92*$D$22+$J$94*$E$22*'Default-Werte'!$C$75,0)","v":865.29166666666674},{"$f":"IF(OR($D$23>0,$E$23>0),('Default-Werte'!$C$74+'Default-Werte'!$C$78*$D$36*$J$36+'Default-Werte'!$C$77*$E$36*$K$36)*$J$93*$D$23+$J$94*$E$23*'Default-Werte'!$C$75,0)","v":1678.5},{"$f":"SUM(D55:F55)","v":6071.791666666667},null,"Distribution",{"$f":"IF($D$58=0,0,D55/$D$58)","v":2.8751589870880834E-2},{"$f":"IF($E$58=0,0,E55/$E$58)","v":2.1214875535353523E-2},{"$f":"IF($F$58=0,0,F55/$F$58)","v":2.8995912215325239E-2},{"$f":"G55/$G$58","v":2.7426917549158977E-2}]
[null,null,"Nutzung",{"$f":"IF(OR($D$21>0,$E$21>0),$D$48*Konstante_Werte!$E$17,0)","v":42748.924506449781},{"$f":"IF(OR($D$22>0,$E$22>0),$D$49*Konstante_Werte!$E$17,0)","v":11136.025369284},{"$f":"IF(OR($D$23>0,$E$23>0),$D$50*Konstante_Werte!$E$17,0)","v":21918.136718837002},{"$f":"SUM(D56:F56)","v":75803.086594570777},null,"Nutzung",{"$f":"IF($D$58=0,0,D56/$D$58)","v":0.34838422472525254},0.27302862291277424,0.37863352292099761,0.34241046467630515]
[null,null,"Entsorgung",{"$f":"IF(OR($D$21>0,$E$21>0),('Default-Werte'!$C$82+$D$34*$J$34*'Default-Werte'!$C$88+$E$34*$K$34*'Default-Werte'!$C$87)*$J$91*$D$21+$J$94*$E$21*'Default-Werte'!$C$85,0)","v":972.66666666666663},{"$f":"IF(OR($D$22>0,$E$22>0),('Default-Werte'!$C$83+'Default-Werte'!$C$88*$D$35*$J$35+'Default-Werte'!$C$87*$E$35*$K$35+'Default-Werte'!$C$86*$F$35*$L$35)*$J$92*$D$22+$J$94*$E$22*'Default-Werte'!$C$85,0)","v":231.54166666666669},{"$f":"IF(OR($D$23>0,$E$23>0),('Default-Werte'!$C$84+'Default-Werte'!$C$88*$D$36*$J$36+'Default-Werte'!$C$87*$E$36*$K$36)*$J$93*$D$23+$J$94*$E$23*'Default-Werte'!$C$85,0)","v":305.83333333333337},{"$f":"SUM(D57:F57)","v":1510.0416666666665},null,"Entsorgung",{"$f":"IF($D$58=0,0,D57/$D$58)","v":7.9267894220739106E-3},5.6768461188404454E-3,5.2832388953551607E-3,6.8210160297212542E-3]
[null,null,"Summe",{"$f":"SUM(D54:D57)","v":122706.25783978311},{"$f":"SUM(E54:E57)","v":40787.025369284005},{"$f":"SUM(F54:F57)","v":57887.470052170342},{"$f":"SUM(D58:F58)","v":221380.75326123746},null,"Summe",{"$f":"SUM(J54:J57)","v":1},{"$f":"SUM(K54:K57)","v":0.99999999999999989},{"$f":"SUM(L54:L57)","v":1},{"$f":"SUM(M54:M57)","v":0.99999999999999978}]
[]
[null,"3.3 Kosten-Ergebnisse bezogen auf Betrachtungszeitraum und je Haushaltsjahr"]
[null,null,"Lebenszykluskosten-Ergebnisse bezogen auf Betrachtungszeitraum"]
[null,null,"Kosten in EURO / Betrachtungszeitraum","APC mit Desktop","APC mit Notebook","APC mit Mini-PC","Summe",null,"Kosten in % / Betrachtungszeitraum","APC mit Desktop","APC mit Notebook","APC mit Mini-PC","% (Summe)"]
[null,null,"Anschaffungskosten",{"$f":"IF(OR($D$21>0,$E$21>0),(Konstante_Werte!$E$63+$D$34*$J$34*Konstante_Werte!$E$67+$E$34*$K$34*Konstante_Werte!$E$68)*$J$91*$D$21+Konstante_Werte!$E$66*$J$94*$E$21,0)","v":89800},{"$f":"IF(OR($D$22>0,$E$22>0),(Konstante_Werte!$E$64+Konstante_Werte!$E$67*$D$35*$J$35+Konstante_Werte!$E$68*$E$35*$K$35+Konstante_Werte!$E$69*$F$35*$L$35)*$J$92*$D$22+Konstante_Werte!$E$66*$J$94*$E$22,0)","v":54791.666666666672},{"$f":"IF(OR($D$23>0,$E$23>0),(Konstante_Werte!$E$65+Konstante_Werte!$E$67*$D$36*$J$36+Konstante_Werte!$E$68*$E$36*$K$36)*$J$93*$D$23+Konstante_Werte!$E$66*$J$94*$E$23,0)","v":63116.666666666672},{"$f":"SUM(D63:F63)","v":207708.33333333337},null,{"$f":"C63","v":"Anschaffungskosten"},{"$f":"IF($D$67=0,0,D63/$D$67)","v":0.53664676383001952},{"$f":"IF($E$67=0,0,E63/$E$67)","v":0.62878314476680031},{"$f":"IF($F$67=0,0,F63/$F$67)","v":0.55629895681568731},{"$f":"G63/$G$67","v":0.56452792540612851}]
[null,null,"Energiekosten",{"$f":"IF(OR($D$21>0,$E$21>0),D141*$D$21+$G$141*$E21,0)","v":14923.281972357818},{"$f":"IF(OR($D$22>0,$E$22>0),(E141*$D$22+$G$141*$E$22),0)","v":3887.4907042885206},{"$f":"IF(OR($D$23>0,$E$23>0),(F141*$D$23+$G$141*$E$23),0)","v":7651.4330673873246},{"$f":"SUM(D64:F64)","v":26462.205744033665},null,{"$f":"C64","v":"Energiekosten"},{"$f":"IF($D$67=0,0,D64/$D$67)","v":8.9181859423036677E-2},{"$f":"IF($E$67=0,0,E64/$E$67)","v":4.4612416066206646E-2},{"$f":"IF($F$67=0,0,F64/$F$67)","v":6.7438355957738949E-2},{"$f":"G64/$G$67","v":7.1921303640599205E-2}]
[null,null,"Bruttopersonalkosten",{"$f":"IF(OR($D$21>0,$E$21>0),($K$13)*($J$91*$D$21+$E$21*$J$94),0)","v":34696.22926},{"$f":"IF(OR($D$22>0,$E$22>0),($K$13)*($J$92*$D$22+$E$22*$J$94),0)","v":15771.013300000002},{"$f":"IF(OR($D$23>0,$E$23>0),($K$13)*($J$93*$D$23+$E$23*$J$94),0)","v":23656.519949999998},{"$f":"SUM(D65:F65)","v":74123.76251},null,"Bruttopersonalkosten",0.20734542482720972,0.18098641531132531,0.2085043153431396,0.20146006277905809]
[null,null,"Sach-und Gemeinkosten",{"$f":"IF(OR($D$21>0,$E$21>0),($K$14)*($J$91*$D$21+$E$21*$J$94),0)","v":27915.887120000003},{"$f":"IF(OR($D$22>0,$E$22>0),($K$14)*($J$92*$D$22+$E$22*$J$94),0)","v":12689.039600000002},{"$f":"IF(OR($D$23>0,$E$23>0),($K$14)*($J$93*$D$23+$E$23*$J$94),0)","v":19033.559400000002},{"$f":"SUM(D66:F66)","v":59638.486120000001},null,"Sach-und Gemeinkosten",0.16682595191973412,0.14561802385566774,0.16775837188343418,0.16209070817421439]
[null,null,"Summe",{"$f":"SUM(D63:D66)","v":167335.39835235782},{"$f":"SUM(E63:E66)","v":87139.210270955198},{"$f":"SUM(F63:F66)","v":113458.17908405399},{"$f":"SUM(D67:F67)","v":367932.78770736698},null,"Summe",{"$f":"SUM(J63:J66)","v":1},{"$f":"SUM(K63:K66)","v":1},{"$f":"SUM(L63:L66)","v":1},{"$f":"SUM(M63:M66)","v":1.0000000000000002}]
[]
[null,null,"Kosten je Haushaltsjahr"]
[null,null,"Haushaltplan: erforderliche Haushaltsmittel (in €) je Haushaltsjahr im Betrachtungszeitraum"]
[null,null,"Hinweis: ","Die Summe kann höher sein als die  Lebenszykluskosten. Bei den Lebenszykluskosten wird die letzte Beschaffung einer Komponente nur anteilig einbezogen, sofern der Betrachtungszeitraum kein ganzzahliges Vielfaches der angenommenen Nutzungsdauer der Komponente ist."]
[]
[null,null,"Kosten in EURO / Betrachtungszeitraum","APC mit Desktop","APC mit Notebook","APC mit Mini-PC","Summe",null,"Kosten: Anteil der Ausstattung in % innerhalb eines Jahres","APC mit Desktop","APC mit Notebook","APC mit Mini-PC","Summe"]
[null,null,{"$f":"C146","v":1},{"$f":"IF(C74<=$F$89,M146,\"-\")","v":93076.998458400005},{"$f":"IF(C74<=$F$89,M163,\"-\")","v":48500.573400000001},{"$f":"IF(C74<=$F$89,M180,\"-\")","v":64319.6385716},{"$f":"IF(C74<=$F$89,(IF(SUM(D74:F74)>=0,SUM(D74:F74),0)),\"-\")","v":205897.21043000001},null,{"$f":"C74","v":1},{"$f":"IF(C74<=$F$89,(IF(G74=0,0,D74/$G$74)),\"-\")","v":0.45205565565466416},{"$f":"IF(C74<=$F$89,(IF(G74=0,0,E74/$G$74)),\"-\")","v":0.23555721468353261},{"$f":"IF(C74<=$F$89,(IF(G74=0,0,F74/$G$74)),\"-\")","v":0.31238712966180326},{"$f":"IF(C74<=$F$89,SUM(J74:L74),\"-\")","v":1}]
[null,null,2,1639.115349423158,426.98688505263158,840.40370000842108,2906.5059344842102,null,{"$f":"C75","v":2},{"$f":"IF(C75<=$F$89,(IF(G75=0,0,D75/$G$74)),\"-\")","v":7.9608429176869153E-3},2.0737866441264711E-3,{"$f":"IF(C75<=$F$89,(IF(G75=0,0,F75/$G$74)),\"-\")","v":4.0816662753871439E-3},{"$f":"IF(C75<=$F$89,SUM(J75:L75),\"-\")","v":1.4116295837200532E-2}]
[null,null,3,1648.5561329650193,2304.4461938245336,845.2441582607039,4798.2464850502565,null,3,8.0066948431313876E-3,1.1192216684295432E-2,4.1051753760795425E-3,2.3304086903506362E-2]
[null,null,4,1658.0512924200311,431.91966743345341,850.11249601434054,2940.0834558678253,null,4,8.0528108610957976E-3,2.0977441439416467E-3,4.1288198817213111E-3,1.4279374886758756E-2]
[null,null,5,1667.6011409761745,434.40738746435125,855.00887384639941,2957.0174022869251,null,5,8.0991924926691414E-3,2.1098264835989079E-3,4.152600572201931E-3,1.436161954846998E-2]
[null,null,6,1677.2059936252924,436.90943597209019,859.9334532588216,2974.0488828562038,null,6,8.1458412677013967E-3,2.1219784136931211E-3,4.1765182319027962E-3,1.4444337913297314E-2]
[null,null,7,92687.271468058898,48399.050152301024,64119.818586514099,205206.14020687403,null,7,0.45016283258276729,0.23506413734903667,0.31141664548346693,0.99664361541527091]
[null,null,8,1247.143655463412,324.8788957085165,639.43281530633635,2211.4553664782648,null,8,6.0571177863889035E-3,1.5778693408717518E-3,3.1055924165797662E-3,1.0740579543840421E-2]
[null,null,9,1254.3268066070943,2201.7500949092209,643.11574512637299,4099.1926466426885,null,9,6.0920048600344428E-3,1.069344305496437E-2,3.1234796420178627E-3,1.9908927557016676E-2]
[null,null,10,1261.5513304187341,328.63207162270021,646.81988745182775,2237.0032894932619,null,10,6.1270928721379181E-3,1.5960977370037125E-3,3.141469892190359E-3,1.086466050133199E-2]
[null,null,11,"-","-","-",{"$f":"IF(C84<=$F$89,(IF(SUM(D84:F84)>=0,SUM(D84:F84),0)),\"-\")","v":"-"},null,11,"-",{"$f":"IF(C84<=$F$89,(IF(G84=0,0,E84/$G$74)),\"-\")","v":"-"},"-","-"]
[null,null,12,"-","-","-",{"$f":"IF(C85<=$F$89,(IF(SUM(D85:F85)>=0,SUM(D85:F85),0)),\"-\")","v":"-"},null,12,"-","-","-","-"]
[]
[null,"4.Berechnungsweg: Stromverbrauch und Energiekosten"]
[null,null,"Berechnung des Stromverbrauchs innerhalb des Betrachtungszeitraums"]
[null,null,"Betrachtungszeitraum",null,null,{"$f":"E6","v":10},"Jahre"]
[null,null,{"$f":"C26","v":"Nutzungsdauer [Jahre]"},null,null,null,null,null,"IT-Gerät","Anzahl des Beschaffungszyklus","Einheit"]
[null,null,null,"Desktop-PC",null,{"$f":"D27","v":6},"Jahre",null,"Desktop-PC",{"$f":"IF(D21<>0,$E$6/D27, \"0\")","v":1.6666666666666667},"Anzahl des Beschaffungszyklus"]
[null,null,null,"Notebook",null,{"$f":"D28","v":6},"Jahre",null,"Notebook",{"$f":"IF(D22<>0,$E$6/D28, \"0\")","v":1.6666666666666667},"Anzahl des Beschaffungszyklus"]
[null,null,null,"Mini-PC",null,{"$f":"D29","v":6},"Jahre",null,"Mini-PC",{"$f":"IF(D23<>0,$E$6/D29, \"0\")","v":1.6666666666666667},"Anzahl des Beschaffungszyklus"]
[null,null,null,"Monitor",null,{"$f":"D30","v":6},"Jahre",null,"Monitor",{"$f":"IF(D30<>0,$E$6/D30, \"0\")","v":1.6666666666666667},"Anzahl des Beschaffungszyklus"]
[null,null,"Energieeffizienzsteigerung von 5% pro Jahr",null,null,0.05]
[]
[null,null,"Stromverbrauch","Wh je Gerät und Kalendertag",null,null,null,null,"Stromverbrauch","kWh pro Gerät und Jahr im ersten Jahr"]
[null,null,"IT-Gerät","Hohe Nutzungsintensität ","Mittlere Nutzungsintensität ","Geringe Nutzungsintensität ",null,null,"IT-Gerät","Hohe Nutzungsintensität ","Mittlere Nutzungsintensität ","Geringe Nutzungsintensität "]
[null,null,"Desktop-PC",{"$f":"IF($D$21>0,SUMPRODUCT(Konstante_Werte!$E$28:$G$28,Szen1_Variablen!$E$38:$G$38),0)","v":259.185},{"$f":"IF($D$21>0,SUMPRODUCT(Konstante_Werte!$E$29:$G$29,Szen1_Variablen!$E$38:$G$38),0)","v":213.72},{"$f":"IF($D$21>0,SUMPRODUCT(Konstante_Werte!$E$30:$G$30,Szen1_Variablen!$E$38:$G$38),0)","v":168.255},null,null,"Desktop-PC",{"$f":"IF($D$21>0,(D$99*$E$5+Szen1_Variablen!$G$38*24*(365-$E$5))/1000,0)","v":55.686074999999995},{"$f":"IF($D$21>0,(E$99*$E$5+Szen1_Variablen!$G$38*24*(365-$E$5))/1000,0)","v":46.456679999999992},{"$f":"IF($D$21>0,(F$99*$E$5+Szen1_Variablen!$G$38*24*(365-$E$5))/1000,0)","v":37.227284999999995}]
[null,null,"Notebook",{"$f":"IF($D$22>0,SUMPRODUCT(Konstante_Werte!$E$33:$G$33,Szen1_Variablen!$E$42:$G$42),0)","v":76.077500000000001},{"$f":"IF($D$22>0,SUMPRODUCT(Konstante_Werte!$E$34:$G$34,Szen1_Variablen!$E$42:$G$42),0)","v":63.61999999999999},{"$f":"IF($D$22>0,SUMPRODUCT(Konstante_Werte!$E$35:$G$35,Szen1_Variablen!$E$42:$G$42),0)","v":51.162499999999987},null,null,"Notebook",{"$f":"IF($D$22>0,(D$100*$E$5+Szen1_Variablen!$G$42*24*(365-$E$5))/1000,0)","v":17.232212500000003},{"$f":"IF($D$22>0,(E$100*$E$5+Szen1_Variablen!$G$42*24*(365-$E$5))/1000,0)","v":14.703339999999999},{"$f":"IF($D$22>0,(F$100*$E$5+Szen1_Variablen!$G$42*24*(365-$E$5))/1000,0)","v":12.174467499999997}]
[null,null,"Mini-PC",{"$f":"IF($D$23>0,SUMPRODUCT(Konstante_Werte!$E$38:$G$38,Szen1_Variablen!$E$46:$G$46),0)","v":139.065},{"$f":"IF($D$23>0,SUMPRODUCT(Konstante_Werte!$E$39:$G$39,Szen1_Variablen!$E$46:$G$46),0)","v":117.24},{"$f":"IF($D$23>0,SUMPRODUCT(Konstante_Werte!$E$40:$G$40,Szen1_Variablen!$E$46:$G$46),0)","v":95.414999999999992},null,null,"Mini-PC",{"$f":"IF($D$23>0,(D$101*$E$5+Szen1_Variablen!$G$46*24*(365-$E$5))/1000,0)","v":31.768275000000003},{"$f":"IF($D$23>0,(E$101*$E$5+Szen1_Variablen!$G$46*24*(365-$E$5))/1000,0)","v":27.337799999999994},{"$f":"IF($D$23>0,(F$101*$E$5+Szen1_Variablen!$G$46*24*(365-$E$5))/1000,0)","v":22.907324999999997}]
[null,null,"Monitor",{"$f":"IF($E$24>0,SUMPRODUCT(Konstante_Werte!$E$43:$G$43,Szen1_Variablen!$E$50:$G$50),0)","v":146.6},{"$f":"IF($E$24>0,SUMPRODUCT(Konstante_Werte!$E$44:$G$44,Szen1_Variablen!$E$50:$G$50),0)","v":119.12},{"$f":"IF($E$24>0,SUMPRODUCT(Konstante_Werte!$E$45:$G$45,Szen1_Variablen!$E$50:$G$50),0)","v":91.64},null,null,"Monitor",{"$f":"IF($E$24>0,(D$102*$E$5+Szen1_Variablen!$G$50*24*(365-$E$5))/1000,0)","v":30.926200000000001},{"$f":"IF($E$24>0,(E$102*$E$5+Szen1_Variablen!$G$50*24*(365-$E$5))/1000,0)","v":25.347760000000001},{"$f":"IF($E$24>0,(F$102*$E$5+Szen1_Variablen!$G$50*24*(365-$E$5))/1000,0)","v":19.769320000000004}]
[]
[null,null,"Stromverbrauch im ersten Jahr je Geräteklasse unter Berücksichtigung der Nutzungsprofile "]
[null,null,"IT-Gerät","kWh pro Gerät und Jahr im ersten Jahr"]
[null,null,"Desktop-PC",{"$f":"IF($D$21>0,SUMPRODUCT(J99:L99,$D$17:$F$17),0)","v":46.456679999999992}]
[null,null,"Notebook",{"$f":"IF($D$22>0,SUMPRODUCT(J100:L100,$D$17:$F$17),0)","v":14.703339999999999}]
[null,null,"Mini-PC",{"$f":"IF($D$23>0,SUMPRODUCT(J101:L101,$D$17:$F$17),0)","v":27.337799999999998}]
[null,null,"Monitor",{"$f":"IF($E$24>0,SUMPRODUCT(J102:L102,$D$17:$F$17),0)","v":25.347760000000005}]
[]
[null,null,"Energieeffizienzsteigerung von 5% pro Jahr der neubeschafften Geräte wird berücksichtigt"]
[null,null,"Jahr (max: 12 Jahre)","Desktop","Notebook","Mini-PC","Monitor","Einheit"]
[null,null,1,{"$f":"D106","v":46.456679999999992},{"$f":"D107","v":14.703339999999999},{"$f":"D108","v":27.337799999999998},{"$f":"D109","v":25.347760000000005},"kWh/a·Gerät"]
[null,null,{"$f":"C113+1","v":2},{"$f":"IF($D$113<>0,IF(MOD(C113,$F$91)=0,$D$113*(1-$F$95)^C113,D113),0)","v":46.456679999999992},{"$f":"IF($E$113<>0,IF(MOD(C113,$F$92)=0,$E$113*(1-$F$95)^C113,E113),0)","v":14.703339999999999},{"$f":"IF($F$113<>0,IF(MOD(C113,$F$93)=0,$F$113*(1-$F$95)^C113,F113),0)","v":27.337799999999998},{"$f":"IF($G$113<>0,IF(MOD(C113,$F$94)=0,$G$113*(1-$F$95)^C113,G113),0)","v":25.347760000000005},"kWh/a·Gerät"]
[null,null,{"$f":"C114+1","v":3},{"$f":"IF($D$113<>0,IF(MOD(C114,$F$91)=0,$D$113*(1-$F$95)^C114,D114),0)","v":46.456679999999992},{"$f":"IF($E$113<>0,IF(MOD(C114,$F$92)=0,$E$113*(1-$F$95)^C114,E114),0)","v":14.703339999999999},{"$f":"IF($F$113<>0,IF(MOD(C114,$F$93)=0,$F$113*(1-$F$95)^C114,F114),0)","v":27.337799999999998},{"$f":"IF($G$113<>0,IF(MOD(C114,$F$94)=0,$G$113*(1-$F$95)^C114,G114),0)","v":25.347760000000005},"kWh/a·Gerät"]
[null,null,4,46.456679999999992,14.703339999999999,27.337799999999998,25.347760000000005,"kWh/a·Gerät"]
[null,null,5,46.456679999999992,14.703339999999999,27.337799999999998,25.347760000000005,"kWh/a·Gerät"]
[null,null,6,46.456679999999992,14.703339999999999,27.337799999999998,25.347760000000005,"kWh/a·Gerät"]
[null,null,7,34.149928733360618,10.808305999102185,20.095795087528121,18.632932821508749,"kWh/a·Gerät"]
[null,null,8,34.149928733360618,10.808305999102185,20.095795087528121,18.632932821508749,"kWh/a·Gerät"]
[null,null,9,34.149928733360618,10.808305999102185,20.095795087528121,18.632932821508749,"kWh/a·Gerät"]
[null,null,10,34.149928733360618,10.808305999102185,20.095795087528121,18.632932821508749,"kWh/a·Gerät"]
[null,null,11,34.149928733360618,10.808305999102185,20.095795087528121,18.632932821508749,"kWh/a·Gerät"]
[null,null,12,34.149928733360618,10.808305999102185,20.095795087528121,18.632932821508749,"kWh/a·Gerät"]
[null,null,{"$f":"\"Summe über Betrachtungszeitraum von \" &$F$89 & \" Jahren\"","v":"Summe über Betrachtungszeitraum von 10 Jahren"},{"$f":"SUM(D113:OFFSET(D113,$F$89-1,0))","v":415.33979493344253},{"$f":"SUM(E113:OFFSET(E113,$F$89-1,0))","v":131.45326399640874},{"$f":"SUM(F113:OFFSET(F113,$F$89-1,0))","v":244.40998035011251},{"$f":"SUM(G113:OFFSET(G113,$F$89-1,0))","v":226.618291286035},"kWh/Betrachtungszeitraum·Gerät"]
[]
[null,null,"Berechnung der Energiekosten innerhalb des Betrachtungszeitraums"]
[null,null,"Jahr (max: 12 Jahre)","Desktop","Notebook","Mini-PC","Monitor","Einheit"]
[null,null,1,{"$f":"IF($D$21>0,D113*$G8,0)","v":9.8488161599999984},{"$f":"IF($D$22>0,E113*$G8,0)","v":3.1171080799999995},{"$f":"IF($D$23>0,F113*$G8,0)","v":5.7956135999999994},{"$f":"IF($E$24>0,G113*$G8,0)","v":5.3737251200000005},"Euro/a·Gerät"]
[null,null,{"$f":"C129+1","v":2},{"$f":"IF($D$21>0,D114*$G$8*(1+$G$9)^C129,0)","v":9.9055422113684202},{"$f":"IF($D$22>0,E114*$G$8*(1+$G$9)^C129,0)","v":3.1350616319999998},{"$f":"IF($D$23>0,F114*$G$8*(1+$G$9)^C129,0)","v":5.8289944926315789},{"$f":"IF($E$24>0,G114*$G$8*(1+$G$9)^C129,0)","v":5.4046760690526323},"Euro/a·Gerät"]
[null,null,{"$f":"C130+1","v":3},{"$f":"IF($D$21>0,D115*$G$8*(1+$G$9)^C130,0)","v":9.96259498676657},{"$f":"IF($D$22>0,E115*$G$8*(1+$G$9)^C130,0)","v":3.1531185907543193},{"$f":"IF($D$23>0,F115*$G$8*(1+$G$9)^C130,0)","v":5.862567648597083},{"$f":"IF($E$24>0,G115*$G$8*(1+$G$9)^C130,0)","v":5.4358052857363521},"Euro/a·Gerät"]
[null,null,4,10.019976368021034,3.1712795518530039,5.8963341752722203,5.4671137968160641,"Euro/a·Gerät"]
[null,null,5,10.077688247797125,3.1895451143165068,5.9302951864108291,5.498602634970517,"Euro/a·Gerät"]
[null,null,6,10.135732529661299,3.2079158806154497,5.9644518021816166,5.5302728388263542,"Euro/a·Gerät"]
[null,null,7,7.4936084224286921,2.371694930886854,4.4096730186201665,4.0886733151336072,"Euro/a·Gerät"]
[null,null,8,7.5367692256561858,2.3853551400220514,4.4350713339210568,4.1122227741482789,"Euro/a·Gerät"]
[null,null,9,7.5801786213948228,2.3990940276209871,4.4606159354471178,4.1359078705634342,"Euro/a·Gerät"]
[null,null,10,7.6238380414584679,2.4129120468466096,4.486307665760517,4.1597293856073945,"Euro/a·Gerät"]
[null,null,11,7.6677489259077829,2.4268096534719428,4.5121473722763179,4.1836881050081125,"Euro/a·Gerät"]
[null,null,12,7.7119127230977176,2.4407873058951175,4.5381359072904219,4.2077848190190821,"Euro/a·Gerät"]
[null,null,{"$f":"C125","v":"Summe über Betrachtungszeitraum von 10 Jahren"},{"$f":"SUM(D129:OFFSET(D129,$F$89-1,0))","v":90.184744814552616},{"$f":"SUM(E129:OFFSET(E129,$F$89-1,0))","v":28.54308499491578},{"$f":"SUM(F129:OFFSET(F129,$F$89-1,0))","v":53.069924858842185},{"$f":"SUM(G129:OFFSET(G129,$F$89-1,0))","v":49.206729090854637},"Euro/Betrachtungszeitraum·Gerät"]
[]
[null,null,"APC mit Desktop (für alle Geräte)"]
[null,null,"In EURO ","Anschaffungskosten",null,null,null,null,"Energiekosten",null,"Bruttopersonal-kosten","Sach-und Gemeinkosten","Summe",null,"Anteil"]
[null,null,"Jahr (max: 12 Jahre)","Desktop","Monitor","Ersatz HDD durch SSD","RAM hinzufügen","Wechsel des Akkus","Desktop","Monitor"]
[null,null,1,{"$f":"IF($D$21>0,(IF(MOD(($C146-1),$D$27)<>0,0,Konstante_Werte!$E$63*$D$21)),0)","v":31200},{"$f":"IF($E$21>0,(IF(MOD(($C146-1),$D$30)<>0,0,Konstante_Werte!$E$66*$E$21)),0)","v":22680},{"$f":"IF($D$21>0,(IF($D$27=1,$D$21*$D$34*$J$34*Konstante_Werte!$E$67, IF(AND($D$27<>1,$D$27/($J$34+1)<1),Konstante_Werte!$E$67*$D$34*$D$21*$J$34/$D$27,IF(MOD($C146,$D$27)=0,0,IF(INT(MOD(($C146-$D$27*INT(($C146-1)/$D$27)),($D$27/($J$34+1))))<>0,0,Konstante_Werte!$E$67*$D$34*$D$21))))),0)","v":0},{"$f":"IF($D$21>0,(IF($D$27=1,$D$21*$E$34*$K$34*Konstante_Werte!$E$68, IF(AND($D$27<>1,$D$27/($K$34+1)<1),Konstante_Werte!$E$68*$E$34*$D$21*$K$34/$D$27,IF(MOD($C146,$D$27)=0,0,IF(INT(MOD(($C146-$D$27*INT(($C146-1)/$D$27)),($D$27/($K$34+1))))<>0,0,Konstante_Werte!$E$68*$E$34*$D$21))))),0)","v":0},"-",{"$f":"IF($D$21>0, D129*$D$21,0)","v":984.88161599999989},{"$f":"G129*$E$21","v":644.84701440000003},{"$f":"IF($D$21>0,(IF(MOD(($C146-1),$D$27)<>0,0,$K$13*$D$21)),0)+IF($E$21>0,(IF(MOD(($C146-1),$D$30)<>0,0,$K$13*$E$21)),0)","v":20817.737556},{"$f":"IF($D$21>0,(IF(MOD(($C146-1),$D$27)<>0,0,$K$14*$D$21)),0)+IF($E$21>0,(IF(MOD(($C146-1),$D$30)<>0,0,$K$14*$E$21)),0)","v":16749.532272},{"$f":"SUM(D146:L146)","v":93076.998458400005},"Euro/a",{"$f":"IF($M$158<>0,(IF(C146<=$F$89,M146/$M$158,\"-\")),0)","v":0.47051877172757783}]
[null,null,{"$f":"C146+1","v":2},{"$f":"IF($D$21>0,(IF(MOD(($C147-1),$D$27)<>0,0,Konstante_Werte!$E$63*$D$21)),0)","v":0},{"$f":"IF($E$21>0,(IF(MOD(($C147-1),$D$30)<>0,0,Konstante_Werte!$E$66*$E$21)),0)","v":0},{"$f":"IF($D$21>0,(IF($D$27=1,$D$21*$D$34*$J$34*Konstante_Werte!$E$67, IF(AND($D$27<>1,$D$27/($J$34+1)<1),Konstante_Werte!$E$67*$D$34*$D$21*$J$34/$D$27,IF(MOD($C147,$D$27)=0,0,IF(INT(MOD(($C147-$D$27*INT(($C147-1)/$D$27)),($D$27/($J$34+1))))<>0,0,Konstante_Werte!$E$67*$D$34*$D$21))))),0)","v":0},{"$f":"IF($D$21>0,(IF($D$27=1,$D$21*$E$34*$K$34*Konstante_Werte!$E$68, IF(AND($D$27<>1,$D$27/($K$34+1)<1),Konstante_Werte!$E$68*$E$34*$D$21*$K$34/$D$27,IF(MOD($C147,$D$27)=0,0,IF(INT(MOD(($C147-$D$27*INT(($C147-1)/$D$27)),($D$27/($K$34+1))))<>0,0,Konstante_Werte!$E$68*$E$34*$D$21))))),0)","v":0},"-",990.55422113684199,648.56112828631592,0,0,{"$f":"SUM(D147:L147)","v":1639.115349423158},"Euro/a",8.2859842249328741E-3]
[null,null,{"$f":"C147+1","v":3},{"$f":"IF($D$21>0,(IF(MOD(($C148-1),$D$27)<>0,0,Konstante_Werte!$E$63*$D$21)),0)","v":0},{"$f":"IF($E$21>0,(IF(MOD(($C148-1),$D$30)<>0,0,Konstante_Werte!$E$66*$E$21)),0)","v":0},{"$f":"IF($D$21>0,(IF($D$27=1,$D$21*$D$34*$J$34*Konstante_Werte!$E$67, IF(AND($D$27<>1,$D$27/($J$34+1)<1),Konstante_Werte!$E$67*$D$34*$D$21*$J$34/$D$27,IF(MOD($C148,$D$27)=0,0,IF(INT(MOD(($C148-$D$27*INT(($C148-1)/$D$27)),($D$27/($J$34+1))))<>0,0,Konstante_Werte!$E$67*$D$34*$D$21))))),0)","v":0},{"$f":"IF($D$21>0,(IF($D$27=1,$D$21*$E$34*$K$34*Konstante_Werte!$E$68, IF(AND($D$27<>1,$D$27/($K$34+1)<1),Konstante_Werte!$E$68*$E$34*$D$21*$K$34/$D$27,IF(MOD($C148,$D$27)=0,0,IF(INT(MOD(($C148-$D$27*INT(($C148-1)/$D$27)),($D$27/($K$34+1))))<>0,0,Konstante_Werte!$E$68*$E$34*$D$21))))),0)","v":0},"-",996.25949867665702,652.29663428836227,0,0,1648.5561329650193,"Euro/a",8.3337088609851187E-3]
[null,null,4,{"$f":"IF($D$21>0,(IF(MOD(($C149-1),$D$27)<>0,0,Konstante_Werte!$E$63*$D$21)),0)","v":0},{"$f":"IF($E$21>0,(IF(MOD(($C149-1),$D$30)<>0,0,Konstante_Werte!$E$66*$E$21)),0)","v":0},{"$f":"IF($D$21>0,(IF($D$27=1,$D$21*$D$34*$J$34*Konstante_Werte!$E$67, IF(AND($D$27<>1,$D$27/($J$34+1)<1),Konstante_Werte!$E$67*$D$34*$D$21*$J$34/$D$27,IF(MOD($C149,$D$27)=0,0,IF(INT(MOD(($C149-$D$27*INT(($C149-1)/$D$27)),($D$27/($J$34+1))))<>0,0,Konstante_Werte!$E$67*$D$34*$D$21))))),0)","v":0},{"$f":"IF($D$21>0,(IF($D$27=1,$D$21*$E$34*$K$34*Konstante_Werte!$E$68, IF(AND($D$27<>1,$D$27/($K$34+1)<1),Konstante_Werte!$E$68*$E$34*$D$21*$K$34/$D$27,IF(MOD($C149,$D$27)=0,0,IF(INT(MOD(($C149-$D$27*INT(($C149-1)/$D$27)),($D$27/($K$34+1))))<>0,0,Konstante_Werte!$E$68*$E$34*$D$21))))),0)","v":0},"-",1001.9976368021034,656.05365561792769,0,0,1658.0512924200311,"Euro/a",8.3817083757752996E-3]
[null,null,5,{"$f":"IF($D$21>0,(IF(MOD(($C150-1),$D$27)<>0,0,Konstante_Werte!$E$63*$D$21)),0)","v":0},{"$f":"IF($E$21>0,(IF(MOD(($C150-1),$D$30)<>0,0,Konstante_Werte!$E$66*$E$21)),0)","v":0},{"$f":"IF($D$21>0,(IF($D$27=1,$D$21*$D$34*$J$34*Konstante_Werte!$E$67, IF(AND($D$27<>1,$D$27/($J$34+1)<1),Konstante_Werte!$E$67*$D$34*$D$21*$J$34/$D$27,IF(MOD($C150,$D$27)=0,0,IF(INT(MOD(($C150-$D$27*INT(($C150-1)/$D$27)),($D$27/($J$34+1))))<>0,0,Konstante_Werte!$E$67*$D$34*$D$21))))),0)","v":0},{"$f":"IF($D$21>0,(IF($D$27=1,$D$21*$E$34*$K$34*Konstante_Werte!$E$68, IF(AND($D$27<>1,$D$27/($K$34+1)<1),Konstante_Werte!$E$68*$E$34*$D$21*$K$34/$D$27,IF(MOD($C150,$D$27)=0,0,IF(INT(MOD(($C150-$D$27*INT(($C150-1)/$D$27)),($D$27/($K$34+1))))<>0,0,Konstante_Werte!$E$68*$E$34*$D$21))))),0)","v":0},"-",1007.7688247797125,659.83231619646199,0,0,1667.6011409761745,"Euro/a",8.4299843525176017E-3]
[null,null,6,{"$f":"IF($D$21>0,(IF(MOD(($C151-1),$D$27)<>0,0,Konstante_Werte!$E$63*$D$21)),0)","v":0},{"$f":"IF($E$21>0,(IF(MOD(($C151-1),$D$30)<>0,0,Konstante_Werte!$E$66*$E$21)),0)","v":0},{"$f":"IF($D$21>0,(IF($D$27=1,$D$21*$D$34*$J$34*Konstante_Werte!$E$67, IF(AND($D$27<>1,$D$27/($J$34+1)<1),Konstante_Werte!$E$67*$D$34*$D$21*$J$34/$D$27,IF(MOD($C151,$D$27)=0,0,IF(INT(MOD(($C151-$D$27*INT(($C151-1)/$D$27)),($D$27/($J$34+1))))<>0,0,Konstante_Werte!$E$67*$D$34*$D$21))))),0)","v":0},{"$f":"IF($D$21>0,(IF($D$27=1,$D$21*$E$34*$K$34*Konstante_Werte!$E$68, IF(AND($D$27<>1,$D$27/($K$34+1)<1),Konstante_Werte!$E$68*$E$34*$D$21*$K$34/$D$27,IF(MOD($C151,$D$27)=0,0,IF(INT(MOD(($C151-$D$27*INT(($C151-1)/$D$27)),($D$27/($K$34+1))))<>0,0,Konstante_Werte!$E$68*$E$34*$D$21))))),0)","v":0},"-",1013.5732529661299,663.63274065916255,0,0,1677.2059936252924,"Euro/a",8.4785383835450107E-3]
[null,null,7,{"$f":"IF($D$21>0,(IF(MOD(($C152-1),$D$27)<>0,0,Konstante_Werte!$E$63*$D$21)),0)","v":31200},{"$f":"IF($E$21>0,(IF(MOD(($C152-1),$D$30)<>0,0,Konstante_Werte!$E$66*$E$21)),0)","v":22680},{"$f":"IF($D$21>0,(IF($D$27=1,$D$21*$D$34*$J$34*Konstante_Werte!$E$67, IF(AND($D$27<>1,$D$27/($J$34+1)<1),Konstante_Werte!$E$67*$D$34*$D$21*$J$34/$D$27,IF(MOD($C152,$D$27)=0,0,IF(INT(MOD(($C152-$D$27*INT(($C152-1)/$D$27)),($D$27/($J$34+1))))<>0,0,Konstante_Werte!$E$67*$D$34*$D$21))))),0)","v":0},{"$f":"IF($D$21>0,(IF($D$27=1,$D$21*$E$34*$K$34*Konstante_Werte!$E$68, IF(AND($D$27<>1,$D$27/($K$34+1)<1),Konstante_Werte!$E$68*$E$34*$D$21*$K$34/$D$27,IF(MOD($C152,$D$27)=0,0,IF(INT(MOD(($C152-$D$27*INT(($C152-1)/$D$27)),($D$27/($K$34+1))))<>0,0,Konstante_Werte!$E$68*$E$34*$D$21))))),0)","v":0},"-",749.36084224286924,490.64079781603289,20817.737556,16749.532272,92687.271468058898,"Euro/a",0.46854864089137188]
[null,null,8,{"$f":"IF($D$21>0,(IF(MOD(($C153-1),$D$27)<>0,0,Konstante_Werte!$E$63*$D$21)),0)","v":0},{"$f":"IF($E$21>0,(IF(MOD(($C153-1),$D$30)<>0,0,Konstante_Werte!$E$66*$E$21)),0)","v":0},{"$f":"IF($D$21>0,(IF($D$27=1,$D$21*$D$34*$J$34*Konstante_Werte!$E$67, IF(AND($D$27<>1,$D$27/($J$34+1)<1),Konstante_Werte!$E$67*$D$34*$D$21*$J$34/$D$27,IF(MOD($C153,$D$27)=0,0,IF(INT(MOD(($C153-$D$27*INT(($C153-1)/$D$27)),($D$27/($J$34+1))))<>0,0,Konstante_Werte!$E$67*$D$34*$D$21))))),0)","v":0},{"$f":"IF($D$21>0,(IF($D$27=1,$D$21*$E$34*$K$34*Konstante_Werte!$E$68, IF(AND($D$27<>1,$D$27/($K$34+1)<1),Konstante_Werte!$E$68*$E$34*$D$21*$K$34/$D$27,IF(MOD($C153,$D$27)=0,0,IF(INT(MOD(($C153-$D$27*INT(($C153-1)/$D$27)),($D$27/($K$34+1))))<>0,0,Konstante_Werte!$E$68*$E$34*$D$21))))),0)","v":0},"-",753.67692256561861,493.46673289779346,0,0,1247.143655463412,"Euro/a",6.3045060611699195E-3]
[null,null,9,{"$f":"IF($D$21>0,(IF(MOD(($C154-1),$D$27)<>0,0,Konstante_Werte!$E$63*$D$21)),0)","v":0},{"$f":"IF($E$21>0,(IF(MOD(($C154-1),$D$30)<>0,0,Konstante_Werte!$E$66*$E$21)),0)","v":0},{"$f":"IF($D$21>0,(IF($D$27=1,$D$21*$D$34*$J$34*Konstante_Werte!$E$67, IF(AND($D$27<>1,$D$27/($J$34+1)<1),Konstante_Werte!$E$67*$D$34*$D$21*$J$34/$D$27,IF(MOD($C154,$D$27)=0,0,IF(INT(MOD(($C154-$D$27*INT(($C154-1)/$D$27)),($D$27/($J$34+1))))<>0,0,Konstante_Werte!$E$67*$D$34*$D$21))))),0)","v":0},{"$f":"IF($D$21>0,(IF($D$27=1,$D$21*$E$34*$K$34*Konstante_Werte!$E$68, IF(AND($D$27<>1,$D$27/($K$34+1)<1),Konstante_Werte!$E$68*$E$34*$D$21*$K$34/$D$27,IF(MOD($C154,$D$27)=0,0,IF(INT(MOD(($C154-$D$27*INT(($C154-1)/$D$27)),($D$27/($K$34+1))))<>0,0,Konstante_Werte!$E$68*$E$34*$D$21))))),0)","v":0},"-",758.0178621394823,496.30894446761209,0,0,1254.3268066070943,"Euro/a",6.3408180126642462E-3]
[null,null,10,{"$f":"IF($D$21>0,(IF(MOD(($C155-1),$D$27)<>0,0,Konstante_Werte!$E$63*$D$21)),0)","v":0},{"$f":"IF($E$21>0,(IF(MOD(($C155-1),$D$30)<>0,0,Konstante_Werte!$E$66*$E$21)),0)","v":0},{"$f":"IF($D$21>0,(IF($D$27=1,$D$21*$D$34*$J$34*Konstante_Werte!$E$67, IF(AND($D$27<>1,$D$27/($J$34+1)<1),Konstante_Werte!$E$67*$D$34*$D$21*$J$34/$D$27,IF(MOD($C155,$D$27)=0,0,IF(INT(MOD(($C155-$D$27*INT(($C155-1)/$D$27)),($D$27/($J$34+1))))<>0,0,Konstante_Werte!$E$67*$D$34*$D$21))))),0)","v":0},{"$f":"IF($D$21>0,(IF($D$27=1,$D$21*$E$34*$K$34*Konstante_Werte!$E$68, IF(AND($D$27<>1,$D$27/($K$34+1)<1),Konstante_Werte!$E$68*$E$34*$D$21*$K$34/$D$27,IF(MOD($C155,$D$27)=0,0,IF(INT(MOD(($C155-$D$27*INT(($C155-1)/$D$27)),($D$27/($K$34+1))))<>0,0,Konstante_Werte!$E$68*$E$34*$D$21))))),0)","v":0},"-",762.38380414584674,499.16752627288736,0,0,1261.5513304187341,"Euro/a",6.3773391094601286E-3]
[null,null,11,{"$f":"IF($D$21>0,(IF(MOD(($C156-1),$D$27)<>0,0,Konstante_Werte!$E$63*$D$21)),0)","v":0},{"$f":"IF($E$21>0,(IF(MOD(($C156-1),$D$30)<>0,0,Konstante_Werte!$E$66*$E$21)),0)","v":0},{"$f":"IF($D$21>0,(IF($D$27=1,$D$21*$D$34*$J$34*Konstante_Werte!$E$67, IF(AND($D$27<>1,$D$27/($J$34+1)<1),Konstante_Werte!$E$67*$D$34*$D$21*$J$34/$D$27,IF(MOD($C156,$D$27)=0,0,IF(INT(MOD(($C156-$D$27*INT(($C156-1)/$D$27)),($D$27/($J$34+1))))<>0,0,Konstante_Werte!$E$67*$D$34*$D$21))))),0)","v":0},{"$f":"IF($D$21>0,(IF($D$27=1,$D$21*$E$34*$K$34*Konstante_Werte!$E$68, IF(AND($D$27<>1,$D$27/($K$34+1)<1),Konstante_Werte!$E$68*$E$34*$D$21*$K$34/$D$27,IF(MOD($C156,$D$27)=0,0,IF(INT(MOD(($C156-$D$27*INT(($C156-1)/$D$27)),($D$27/($K$34+1))))<>0,0,Konstante_Werte!$E$68*$E$34*$D$21))))),0)","v":0},"-",766.77489259077834,502.04257260097347,0,0,1268.8174651917518,"Euro/a","-"]
[null,null,12,{"$f":"IF($D$21>0,(IF(MOD(($C157-1),$D$27)<>0,0,Konstante_Werte!$E$63*$D$21)),0)","v":0},{"$f":"IF($E$21>0,(IF(MOD(($C157-1),$D$30)<>0,0,Konstante_Werte!$E$66*$E$21)),0)","v":0},{"$f":"IF($D$21>0,(IF($D$27=1,$D$21*$D$34*$J$34*Konstante_Werte!$E$67, IF(AND($D$27<>1,$D$27/($J$34+1)<1),Konstante_Werte!$E$67*$D$34*$D$21*$J$34/$D$27,IF(MOD($C157,$D$27)=0,0,IF(INT(MOD(($C157-$D$27*INT(($C157-1)/$D$27)),($D$27/($J$34+1))))<>0,0,Konstante_Werte!$E$67*$D$34*$D$21))))),0)","v":0},{"$f":"IF($D$21>0,(IF($D$27=1,$D$21*$E$34*$K$34*Konstante_Werte!$E$68, IF(AND($D$27<>1,$D$27/($K$34+1)<1),Konstante_Werte!$E$68*$E$34*$D$21*$K$34/$D$27,IF(MOD($C157,$D$27)=0,0,IF(INT(MOD(($C157-$D$27*INT(($C157-1)/$D$27)),($D$27/($K$34+1))))<>0,0,Konstante_Werte!$E$68*$E$34*$D$21))))),0)","v":0},"-",771.19127230977176,504.93417828228985,0,0,1276.1254505920615,"Euro/a","-"]
[null,null,"Summe über Betrachtungszeitraum",{"$f":"SUM(D146:OFFSET(D146,$F$89-1,0))","v":62400},{"$f":"SUM(E146:OFFSET(E146,$F$89-1,0))","v":45360},{"$f":"SUM(F146:OFFSET(F146,$F$89-1,0))","v":0},{"$f":"SUM(G146:OFFSET(G146,$F$89-1,0))","v":0},"-",{"$f":"SUM(I146:OFFSET(I146,$F$89-1,0))","v":9018.4744814552632},{"$f":"SUM(J146:OFFSET(J146,$F$89-1,0))","v":5904.8074909025572},{"$f":"SUM(K146:OFFSET(K146,$F$89-1,0))","v":41635.475112},{"$f":"SUM(L146:OFFSET(L146,$F$89-1,0))","v":33499.064544000001},{"$f":"SUM(M146:OFFSET(M146,$F$89-1,0))","v":197817.82162835784},"Euro/Betrachtungszeitraum","-"]
[]
[null,null,"APC mit Notebook (für alle Geräte)"]
[null,null,"In EURO ","Anschaffungskosten",null,null,null,null,"Energiekosten",null,"Bruttopersonal-kosten","Sach-und Gemeinkosten","Summe",null,"Anteil"]
[null,null,"Jahr (max: 12 Jahre)","Notebook","Monitor","Ersatz HDD durch SSD","RAM hinzufügen","Wechsel des Akkus",{"$f":"E128","v":"Notebook"},{"$f":"G128","v":"Monitor"}]
[null,null,1,{"$f":"IF($D$22>0,(IF(MOD(($C146-1),$D$28)<>0,0,Konstante_Werte!$E$64*$D$22)),0)","v":21550},{"$f":"IF($E$22>0,(IF(MOD(($C163-1),$D$30)<>0,0,Konstante_Werte!$E$66*$E$22)),0)","v":9450},{"$f":"IF($D$22>0,(IF($D$28=1,$D$22*$D$35*$J$35*Konstante_Werte!$E$67, IF(AND($D$28<>1,$D$28/($J$35+1)<1),Konstante_Werte!$E$67*$D$35*$D$22*$J$35/$D$28,IF(MOD($C163,$D$28)=0,0,IF(INT(MOD(($C163-$D$28*INT(($C163-1)/$D$28)),($D$28/($J$35+1))))<>0,0,Konstante_Werte!$E$67*$D$35*$D$22))))),0)","v":0},{"$f":"IF($D$22>0,(IF($D$28=1,$D$22*$E$35*$K$35*Konstante_Werte!$E$68, IF(AND($D$28<>1,$D$28/($K$35+1)<1),Konstante_Werte!$E$68*$E$35*$D$22*$K$35/$D$28,IF(MOD($C163,$D$28)=0,0,IF(INT(MOD(($C163-$D$28*INT(($C163-1)/$D$28)),($D$28/($K$35+1))))<>0,0,Konstante_Werte!$E$68*$E$35*$D$22))))),0)","v":0},{"$f":"IF($D$22>0,(IF($D$28=1,$D$22*$F$35*$L$35*Konstante_Werte!$E$69, IF(AND($D$28<>1,$D$28/($L$35+1)<1),Konstante_Werte!$E$69*$F$35*$D$22*$L$35/$D$28,IF(MOD($C163,$D$28)=0,0,IF(INT(MOD(($C163-$D$28*INT(($C163-1)/$D$28)),($D$28/($L$35+1))))<>0,0,Konstante_Werte!$E$69*$F$35*$D$22))))),0)","v":0},{"$f":"IF($D$22>0, E129*$D$22,\"0\")","v":155.85540399999996},{"$f":"G129*$E$22","v":268.68625600000001},{"$f":"IF($D$22>0,(IF(MOD(($C163-1),$D$28)<>0,0,$K$13*$D$22)),0)+IF($E$22>0,(IF(MOD(($C163-1),$D$30)<>0,0,$K$13*$E$22)),0)","v":9462.6079800000007},{"$f":"IF($D$22>0,(IF(MOD(($C163-1),$D$28)<>0,0,$K$14*$D$22)),0)+IF($E$22>0,(IF(MOD(($C163-1),$D$30)<>0,0,$K$14*$E$22)),0)","v":7613.4237600000006},{"$f":"SUM(D163:L163)","v":48500.573400000001},"Euro/a",{"$f":"IF($M$175<>0,(IF(C163<=$F$89,M163/$M$175,\"-\")),0)","v":0.4672972514544429}]
[null,null,{"$f":"C163+1","v":2},{"$f":"IF($D$22>0,(IF(MOD(($C147-1),$D$28)<>0,0,Konstante_Werte!$E$64*$D$22)),0)","v":0},{"$f":"IF($E$22>0,(IF(MOD(($C164-1),$D$30)<>0,0,Konstante_Werte!$E$66*$E$22)),0)","v":0},{"$f":"IF($D$22>0,(IF($D$28=1,$D$22*$D$35*$J$35*Konstante_Werte!$E$67, IF(AND($D$28<>1,$D$28/($J$35+1)<1),Konstante_Werte!$E$67*$D$35*$D$22*$J$35/$D$28,IF(MOD($C164,$D$28)=0,0,IF(INT(MOD(($C164-$D$28*INT(($C164-1)/$D$28)),($D$28/($J$35+1))))<>0,0,Konstante_Werte!$E$67*$D$35*$D$22))))),0)","v":0},{"$f":"IF($D$22>0,(IF($D$28=1,$D$22*$E$35*$K$35*Konstante_Werte!$E$68, IF(AND($D$28<>1,$D$28/($K$35+1)<1),Konstante_Werte!$E$68*$E$35*$D$22*$K$35/$D$28,IF(MOD($C164,$D$28)=0,0,IF(INT(MOD(($C164-$D$28*INT(($C164-1)/$D$28)),($D$28/($K$35+1))))<>0,0,Konstante_Werte!$E$68*$E$35*$D$22))))),0)","v":0},{"$f":"IF($D$22>0,(IF($D$28=1,$D$22*$F$35*$L$35*Konstante_Werte!$E$69, IF(AND($D$28<>1,$D$28/($L$35+1)<1),Konstante_Werte!$E$69*$F$35*$D$22*$L$35/$D$28,IF(MOD($C164,$D$28)=0,0,IF(INT(MOD(($C164-$D$28*INT(($C164-1)/$D$28)),($D$28/($L$35+1))))<>0,0,Konstante_Werte!$E$69*$F$35*$D$22))))),0)","v":0},156.7530816,270.23380345263161,0,0,{"$f":"SUM(D164:L164)","v":426.98688505263158},"Euro/a",4.1139678111968237E-3]
[null,null,{"$f":"C164+1","v":3},{"$f":"IF($D$22>0,(IF(MOD(($C148-1),$D$28)<>0,0,Konstante_Werte!$E$64*$D$22)),0)","v":0},{"$f":"IF($E$22>0,(IF(MOD(($C165-1),$D$30)<>0,0,Konstante_Werte!$E$66*$E$22)),0)","v":0},{"$f":"IF($D$22>0,(IF($D$28=1,$D$22*$D$35*$J$35*Konstante_Werte!$E$67, IF(AND($D$28<>1,$D$28/($J$35+1)<1),Konstante_Werte!$E$67*$D$35*$D$22*$J$35/$D$28,IF(MOD($C165,$D$28)=0,0,IF(INT(MOD(($C165-$D$28*INT(($C165-1)/$D$28)),($D$28/($J$35+1))))<>0,0,Konstante_Werte!$E$67*$D$35*$D$22))))),0)","v":0},{"$f":"IF($D$22>0,(IF($D$28=1,$D$22*$E$35*$K$35*Konstante_Werte!$E$68, IF(AND($D$28<>1,$D$28/($K$35+1)<1),Konstante_Werte!$E$68*$E$35*$D$22*$K$35/$D$28,IF(MOD($C165,$D$28)=0,0,IF(INT(MOD(($C165-$D$28*INT(($C165-1)/$D$28)),($D$28/($K$35+1))))<>0,0,Konstante_Werte!$E$68*$E$35*$D$22))))),0)","v":0},{"$f":"IF($D$22>0,(IF($D$28=1,$D$22*$F$35*$L$35*Konstante_Werte!$E$69, IF(AND($D$28<>1,$D$28/($L$35+1)<1),Konstante_Werte!$E$69*$F$35*$D$22*$L$35/$D$28,IF(MOD($C165,$D$28)=0,0,IF(INT(MOD(($C165-$D$28*INT(($C165-1)/$D$28)),($D$28/($L$35+1))))<>0,0,Konstante_Werte!$E$69*$F$35*$D$22))))),0)","v":1875},157.65592953771596,271.7902642868176,0,0,2304.4461938245336,"Euro/a",2.2203064768278737E-2]
[null,null,4,{"$f":"IF($D$22>0,(IF(MOD(($C149-1),$D$28)<>0,0,Konstante_Werte!$E$64*$D$22)),0)","v":0},{"$f":"IF($E$22>0,(IF(MOD(($C166-1),$D$30)<>0,0,Konstante_Werte!$E$66*$E$22)),0)","v":0},{"$f":"IF($D$22>0,(IF($D$28=1,$D$22*$D$35*$J$35*Konstante_Werte!$E$67, IF(AND($D$28<>1,$D$28/($J$35+1)<1),Konstante_Werte!$E$67*$D$35*$D$22*$J$35/$D$28,IF(MOD($C166,$D$28)=0,0,IF(INT(MOD(($C166-$D$28*INT(($C166-1)/$D$28)),($D$28/($J$35+1))))<>0,0,Konstante_Werte!$E$67*$D$35*$D$22))))),0)","v":0},{"$f":"IF($D$22>0,(IF($D$28=1,$D$22*$E$35*$K$35*Konstante_Werte!$E$68, IF(AND($D$28<>1,$D$28/($K$35+1)<1),Konstante_Werte!$E$68*$E$35*$D$22*$K$35/$D$28,IF(MOD($C166,$D$28)=0,0,IF(INT(MOD(($C166-$D$28*INT(($C166-1)/$D$28)),($D$28/($K$35+1))))<>0,0,Konstante_Werte!$E$68*$E$35*$D$22))))),0)","v":0},{"$f":"IF($D$22>0,(IF($D$28=1,$D$22*$F$35*$L$35*Konstante_Werte!$E$69, IF(AND($D$28<>1,$D$28/($L$35+1)<1),Konstante_Werte!$E$69*$F$35*$D$22*$L$35/$D$28,IF(MOD($C166,$D$28)=0,0,IF(INT(MOD(($C166-$D$28*INT(($C166-1)/$D$28)),($D$28/($L$35+1))))<>0,0,Konstante_Werte!$E$69*$F$35*$D$22))))),0)","v":0},158.56397759265019,273.35568984080322,0,0,431.91966743345341,"Euro/a",4.1614945822634301E-3]
[null,null,5,{"$f":"IF($D$22>0,(IF(MOD(($C150-1),$D$28)<>0,0,Konstante_Werte!$E$64*$D$22)),0)","v":0},{"$f":"IF($E$22>0,(IF(MOD(($C167-1),$D$30)<>0,0,Konstante_Werte!$E$66*$E$22)),0)","v":0},{"$f":"IF($D$22>0,(IF($D$28=1,$D$22*$D$35*$J$35*Konstante_Werte!$E$67, IF(AND($D$28<>1,$D$28/($J$35+1)<1),Konstante_Werte!$E$67*$D$35*$D$22*$J$35/$D$28,IF(MOD($C167,$D$28)=0,0,IF(INT(MOD(($C167-$D$28*INT(($C167-1)/$D$28)),($D$28/($J$35+1))))<>0,0,Konstante_Werte!$E$67*$D$35*$D$22))))),0)","v":0},{"$f":"IF($D$22>0,(IF($D$28=1,$D$22*$E$35*$K$35*Konstante_Werte!$E$68, IF(AND($D$28<>1,$D$28/($K$35+1)<1),Konstante_Werte!$E$68*$E$35*$D$22*$K$35/$D$28,IF(MOD($C167,$D$28)=0,0,IF(INT(MOD(($C167-$D$28*INT(($C167-1)/$D$28)),($D$28/($K$35+1))))<>0,0,Konstante_Werte!$E$68*$E$35*$D$22))))),0)","v":0},{"$f":"IF($D$22>0,(IF($D$28=1,$D$22*$F$35*$L$35*Konstante_Werte!$E$69, IF(AND($D$28<>1,$D$28/($L$35+1)<1),Konstante_Werte!$E$69*$F$35*$D$22*$L$35/$D$28,IF(MOD($C167,$D$28)=0,0,IF(INT(MOD(($C167-$D$28*INT(($C167-1)/$D$28)),($D$28/($L$35+1))))<>0,0,Konstante_Werte!$E$69*$F$35*$D$22))))),0)","v":0},159.47725571582535,274.93013174852587,0,0,434.40738746435125,"Euro/a",4.1854634686359507E-3]
[null,null,6,{"$f":"IF($D$22>0,(IF(MOD(($C151-1),$D$28)<>0,0,Konstante_Werte!$E$64*$D$22)),0)","v":0},{"$f":"IF($E$22>0,(IF(MOD(($C168-1),$D$30)<>0,0,Konstante_Werte!$E$66*$E$22)),0)","v":0},{"$f":"IF($D$22>0,(IF($D$28=1,$D$22*$D$35*$J$35*Konstante_Werte!$E$67, IF(AND($D$28<>1,$D$28/($J$35+1)<1),Konstante_Werte!$E$67*$D$35*$D$22*$J$35/$D$28,IF(MOD($C168,$D$28)=0,0,IF(INT(MOD(($C168-$D$28*INT(($C168-1)/$D$28)),($D$28/($J$35+1))))<>0,0,Konstante_Werte!$E$67*$D$35*$D$22))))),0)","v":0},{"$f":"IF($D$22>0,(IF($D$28=1,$D$22*$E$35*$K$35*Konstante_Werte!$E$68, IF(AND($D$28<>1,$D$28/($K$35+1)<1),Konstante_Werte!$E$68*$E$35*$D$22*$K$35/$D$28,IF(MOD($C168,$D$28)=0,0,IF(INT(MOD(($C168-$D$28*INT(($C168-1)/$D$28)),($D$28/($K$35+1))))<>0,0,Konstante_Werte!$E$68*$E$35*$D$22))))),0)","v":0},{"$f":"IF($D$22>0,(IF($D$28=1,$D$22*$F$35*$L$35*Konstante_Werte!$E$69, IF(AND($D$28<>1,$D$28/($L$35+1)<1),Konstante_Werte!$E$69*$F$35*$D$22*$L$35/$D$28,IF(MOD($C168,$D$28)=0,0,IF(INT(MOD(($C168-$D$28*INT(($C168-1)/$D$28)),($D$28/($L$35+1))))<>0,0,Konstante_Werte!$E$69*$F$35*$D$22))))),0)","v":0},160.39579403077249,276.5136419413177,0,0,436.90943597209019,"Euro/a",4.2095704081772491E-3]
[null,null,7,{"$f":"IF($D$22>0,(IF(MOD(($C152-1),$D$28)<>0,0,Konstante_Werte!$E$64*$D$22)),0)","v":21550},{"$f":"IF($E$22>0,(IF(MOD(($C169-1),$D$30)<>0,0,Konstante_Werte!$E$66*$E$22)),0)","v":9450},{"$f":"IF($D$22>0,(IF($D$28=1,$D$22*$D$35*$J$35*Konstante_Werte!$E$67, IF(AND($D$28<>1,$D$28/($J$35+1)<1),Konstante_Werte!$E$67*$D$35*$D$22*$J$35/$D$28,IF(MOD($C169,$D$28)=0,0,IF(INT(MOD(($C169-$D$28*INT(($C169-1)/$D$28)),($D$28/($J$35+1))))<>0,0,Konstante_Werte!$E$67*$D$35*$D$22))))),0)","v":0},{"$f":"IF($D$22>0,(IF($D$28=1,$D$22*$E$35*$K$35*Konstante_Werte!$E$68, IF(AND($D$28<>1,$D$28/($K$35+1)<1),Konstante_Werte!$E$68*$E$35*$D$22*$K$35/$D$28,IF(MOD($C169,$D$28)=0,0,IF(INT(MOD(($C169-$D$28*INT(($C169-1)/$D$28)),($D$28/($K$35+1))))<>0,0,Konstante_Werte!$E$68*$E$35*$D$22))))),0)","v":0},{"$f":"IF($D$22>0,(IF($D$28=1,$D$22*$F$35*$L$35*Konstante_Werte!$E$69, IF(AND($D$28<>1,$D$28/($L$35+1)<1),Konstante_Werte!$E$69*$F$35*$D$22*$L$35/$D$28,IF(MOD($C169,$D$28)=0,0,IF(INT(MOD(($C169-$D$28*INT(($C169-1)/$D$28)),($D$28/($L$35+1))))<>0,0,Konstante_Werte!$E$69*$F$35*$D$22))))),0)","v":0},118.58474654434271,204.43366575668037,9462.6079800000007,7613.4237600000006,48399.050152301024,"Euro/a",0.46631908704765962]
[null,null,8,{"$f":"IF($D$22>0,(IF(MOD(($C153-1),$D$28)<>0,0,Konstante_Werte!$E$64*$D$22)),0)","v":0},{"$f":"IF($E$22>0,(IF(MOD(($C170-1),$D$30)<>0,0,Konstante_Werte!$E$66*$E$22)),0)","v":0},{"$f":"IF($D$22>0,(IF($D$28=1,$D$22*$D$35*$J$35*Konstante_Werte!$E$67, IF(AND($D$28<>1,$D$28/($J$35+1)<1),Konstante_Werte!$E$67*$D$35*$D$22*$J$35/$D$28,IF(MOD($C170,$D$28)=0,0,IF(INT(MOD(($C170-$D$28*INT(($C170-1)/$D$28)),($D$28/($J$35+1))))<>0,0,Konstante_Werte!$E$67*$D$35*$D$22))))),0)","v":0},{"$f":"IF($D$22>0,(IF($D$28=1,$D$22*$E$35*$K$35*Konstante_Werte!$E$68, IF(AND($D$28<>1,$D$28/($K$35+1)<1),Konstante_Werte!$E$68*$E$35*$D$22*$K$35/$D$28,IF(MOD($C170,$D$28)=0,0,IF(INT(MOD(($C170-$D$28*INT(($C170-1)/$D$28)),($D$28/($K$35+1))))<>0,0,Konstante_Werte!$E$68*$E$35*$D$22))))),0)","v":0},{"$f":"IF($D$22>0,(IF($D$28=1,$D$22*$F$35*$L$35*Konstante_Werte!$E$69, IF(AND($D$28<>1,$D$28/($L$35+1)<1),Konstante_Werte!$E$69*$F$35*$D$22*$L$35/$D$28,IF(MOD($C170,$D$28)=0,0,IF(INT(MOD(($C170-$D$28*INT(($C170-1)/$D$28)),($D$28/($L$35+1))))<>0,0,Konstante_Werte!$E$69*$F$35*$D$22))))),0)","v":0},119.26775700110257,205.61113870741394,0,0,324.8788957085165,"Euro/a",3.1301694882672122E-3]
[null,null,9,{"$f":"IF($D$22>0,(IF(MOD(($C154-1),$D$28)<>0,0,Konstante_Werte!$E$64*$D$22)),0)","v":0},{"$f":"IF($E$22>0,(IF(MOD(($C171-1),$D$30)<>0,0,Konstante_Werte!$E$66*$E$22)),0)","v":0},{"$f":"IF($D$22>0,(IF($D$28=1,$D$22*$D$35*$J$35*Konstante_Werte!$E$67, IF(AND($D$28<>1,$D$28/($J$35+1)<1),Konstante_Werte!$E$67*$D$35*$D$22*$J$35/$D$28,IF(MOD($C171,$D$28)=0,0,IF(INT(MOD(($C171-$D$28*INT(($C171-1)/$D$28)),($D$28/($J$35+1))))<>0,0,Konstante_Werte!$E$67*$D$35*$D$22))))),0)","v":0},{"$f":"IF($D$22>0,(IF($D$28=1,$D$22*$E$35*$K$35*Konstante_Werte!$E$68, IF(AND($D$28<>1,$D$28/($K$35+1)<1),Konstante_Werte!$E$68*$E$35*$D$22*$K$35/$D$28,IF(MOD($C171,$D$28)=0,0,IF(INT(MOD(($C171-$D$28*INT(($C171-1)/$D$28)),($D$28/($K$35+1))))<>0,0,Konstante_Werte!$E$68*$E$35*$D$22))))),0)","v":0},{"$f":"IF($D$22>0,(IF($D$28=1,$D$22*$F$35*$L$35*Konstante_Werte!$E$69, IF(AND($D$28<>1,$D$28/($L$35+1)<1),Konstante_Werte!$E$69*$F$35*$D$22*$L$35/$D$28,IF(MOD($C171,$D$28)=0,0,IF(INT(MOD(($C171-$D$28*INT(($C171-1)/$D$28)),($D$28/($L$35+1))))<>0,0,Konstante_Werte!$E$69*$F$35*$D$22))))),0)","v":1875},119.95470138104936,206.7953935281717,0,0,2201.7500949092209,"Euro/a",2.1213600079636123E-2]
[null,null,10,{"$f":"IF($D$22>0,(IF(MOD(($C155-1),$D$28)<>0,0,Konstante_Werte!$E$64*$D$22)),0)","v":0},{"$f":"IF($E$22>0,(IF(MOD(($C172-1),$D$30)<>0,0,Konstante_Werte!$E$66*$E$22)),0)","v":0},{"$f":"IF($D$22>0,(IF($D$28=1,$D$22*$D$35*$J$35*Konstante_Werte!$E$67, IF(AND($D$28<>1,$D$28/($J$35+1)<1),Konstante_Werte!$E$67*$D$35*$D$22*$J$35/$D$28,IF(MOD($C172,$D$28)=0,0,IF(INT(MOD(($C172-$D$28*INT(($C172-1)/$D$28)),($D$28/($J$35+1))))<>0,0,Konstante_Werte!$E$67*$D$35*$D$22))))),0)","v":0},{"$f":"IF($D$22>0,(IF($D$28=1,$D$22*$E$35*$K$35*Konstante_Werte!$E$68, IF(AND($D$28<>1,$D$28/($K$35+1)<1),Konstante_Werte!$E$68*$E$35*$D$22*$K$35/$D$28,IF(MOD($C172,$D$28)=0,0,IF(INT(MOD(($C172-$D$28*INT(($C172-1)/$D$28)),($D$28/($K$35+1))))<>0,0,Konstante_Werte!$E$68*$E$35*$D$22))))),0)","v":0},{"$f":"IF($D$22>0,(IF($D$28=1,$D$22*$F$35*$L$35*Konstante_Werte!$E$69, IF(AND($D$28<>1,$D$28/($L$35+1)<1),Konstante_Werte!$E$69*$F$35*$D$22*$L$35/$D$28,IF(MOD($C172,$D$28)=0,0,IF(INT(MOD(($C172-$D$28*INT(($C172-1)/$D$28)),($D$28/($L$35+1))))<>0,0,Konstante_Werte!$E$69*$F$35*$D$22))))),0)","v":0},120.64560234233048,207.98646928036973,0,0,328.63207162270021,"Euro/a",3.1663308914419435E-3]
[null,null,11,{"$f":"IF($D$22>0,(IF(MOD(($C156-1),$D$28)<>0,0,Konstante_Werte!$E$64*$D$22)),0)","v":0},{"$f":"IF($E$22>0,(IF(MOD(($C173-1),$D$30)<>0,0,Konstante_Werte!$E$66*$E$22)),0)","v":0},{"$f":"IF($D$22>0,(IF($D$28=1,$D$22*$D$35*$J$35*Konstante_Werte!$E$67, IF(AND($D$28<>1,$D$28/($J$35+1)<1),Konstante_Werte!$E$67*$D$35*$D$22*$J$35/$D$28,IF(MOD($C173,$D$28)=0,0,IF(INT(MOD(($C173-$D$28*INT(($C173-1)/$D$28)),($D$28/($J$35+1))))<>0,0,Konstante_Werte!$E$67*$D$35*$D$22))))),0)","v":0},{"$f":"IF($D$22>0,(IF($D$28=1,$D$22*$E$35*$K$35*Konstante_Werte!$E$68, IF(AND($D$28<>1,$D$28/($K$35+1)<1),Konstante_Werte!$E$68*$E$35*$D$22*$K$35/$D$28,IF(MOD($C173,$D$28)=0,0,IF(INT(MOD(($C173-$D$28*INT(($C173-1)/$D$28)),($D$28/($K$35+1))))<>0,0,Konstante_Werte!$E$68*$E$35*$D$22))))),0)","v":0},{"$f":"IF($D$22>0,(IF($D$28=1,$D$22*$F$35*$L$35*Konstante_Werte!$E$69, IF(AND($D$28<>1,$D$28/($L$35+1)<1),Konstante_Werte!$E$69*$F$35*$D$22*$L$35/$D$28,IF(MOD($C173,$D$28)=0,0,IF(INT(MOD(($C173-$D$28*INT(($C173-1)/$D$28)),($D$28/($L$35+1))))<>0,0,Konstante_Werte!$E$69*$F$35*$D$22))))),0)","v":0},121.34048267359714,209.18440525040563,0,0,330.52488792400277,"Euro/a","-"]
[null,null,12,{"$f":"IF($D$22>0,(IF(MOD(($C157-1),$D$28)<>0,0,Konstante_Werte!$E$64*$D$22)),0)","v":0},{"$f":"IF($E$22>0,(IF(MOD(($C174-1),$D$30)<>0,0,Konstante_Werte!$E$66*$E$22)),0)","v":0},{"$f":"IF($D$22>0,(IF($D$28=1,$D$22*$D$35*$J$35*Konstante_Werte!$E$67, IF(AND($D$28<>1,$D$28/($J$35+1)<1),Konstante_Werte!$E$67*$D$35*$D$22*$J$35/$D$28,IF(MOD($C174,$D$28)=0,0,IF(INT(MOD(($C174-$D$28*INT(($C174-1)/$D$28)),($D$28/($J$35+1))))<>0,0,Konstante_Werte!$E$67*$D$35*$D$22))))),0)","v":0},{"$f":"IF($D$22>0,(IF($D$28=1,$D$22*$E$35*$K$35*Konstante_Werte!$E$68, IF(AND($D$28<>1,$D$28/($K$35+1)<1),Konstante_Werte!$E$68*$E$35*$D$22*$K$35/$D$28,IF(MOD($C174,$D$28)=0,0,IF(INT(MOD(($C174-$D$28*INT(($C174-1)/$D$28)),($D$28/($K$35+1))))<>0,0,Konstante_Werte!$E$68*$E$35*$D$22))))),0)","v":0},{"$f":"IF($D$22>0,(IF($D$28=1,$D$22*$F$35*$L$35*Konstante_Werte!$E$69, IF(AND($D$28<>1,$D$28/($L$35+1)<1),Konstante_Werte!$E$69*$F$35*$D$22*$L$35/$D$28,IF(MOD($C174,$D$28)=0,0,IF(INT(MOD(($C174-$D$28*INT(($C174-1)/$D$28)),($D$28/($L$35+1))))<>0,0,Konstante_Werte!$E$69*$F$35*$D$22))))),0)","v":0},122.03936529475587,210.3892409509541,0,0,332.42860624570994,"Euro/a","-"]
[null,null,"Summe über Betrachtungszeitraum",{"$f":"SUM(D163:OFFSET(D163,$F$89-1,0))","v":43100},{"$f":"SUM(E163:OFFSET(E163,$F$89-1,0))","v":18900},{"$f":"SUM(F163:OFFSET(F163,$F$89-1,0))","v":0},{"$f":"SUM(G163:OFFSET(G163,$F$89-1,0))","v":0},{"$f":"SUM(H163:OFFSET(H163,$F$89-1,0))","v":3750},{"$f":"SUM(I163:OFFSET(I163,$F$89-1,0))","v":1427.1542497457892},{"$f":"SUM(J163:OFFSET(J163,$F$89-1,0))","v":2460.3364545427316},{"$f":"SUM(K163:OFFSET(K163,$F$89-1,0))","v":18925.215960000001},{"$f":"SUM(L163:OFFSET(L163,$F$89-1,0))","v":15226.847520000001},{"$f":"SUM(M163:OFFSET(M163,$F$89-1,0))","v":103789.55418428853},"Euro/Betrachtungszeitraum",{"$f":"SUM(O163:O174)","v":1}]
[]
[null,null,"APC mit Mini-PC (für alle Geräte)"]
[null,null,"In EURO  ","Anschaffungskosten",null,null,null,null,"Energiekosten",null,"Bruttopersonal-kosten","Sach-und Gemeinkosten","Summe",null,"Anteil"]
[null,null,"Jahr (max: 12 Jahre)","Mini-PC","Monitor","Ersatz HDD durch SSD","RAM hinzufügen","Wechsel des Akkus","Desktop","Monitor"]
[null,null,1,{"$f":"IF($D$23>0,(IF(MOD(($C146-1),$D$29)<>0,0,Konstante_Werte!$E$65*$D$23)),0)","v":22750},{"$f":"IF($E$23>0,(IF(MOD(($C180-1),$D$30)<>0,0,Konstante_Werte!$E$66*$E$23)),0)","v":15120},{"$f":"IF($D$23>0,(IF($D$29=1,$D$23*$D$36*$J$36*Konstante_Werte!$E$67, IF(AND($D$29<>1,$D$29/($J$36+1)<1),Konstante_Werte!$E$67*$D$36*$D$23*$J$36/$D$29,IF(MOD($C180,$D$29)=0,0,IF(INT(MOD(($C180-$D$29*INT(($C180-1)/$D$29)),($D$29/($J$36+1))))<>0,0,Konstante_Werte!$E$67*$D$36*$D$23))))),0)","v":0},{"$f":"IF($D$23>0,(IF($D$29=1,$D$23*$E$36*$K$36*Konstante_Werte!$E$68, IF(AND($D$29<>1,$D$29/($K$36+1)<1),Konstante_Werte!$E$68*$E$36*$D$23*$K$36/$D$29,IF(MOD($C180,$D$29)=0,0,IF(INT(MOD(($C180-$D$29*INT(($C180-1)/$D$29)),($D$29/($K$36+1))))<>0,0,Konstante_Werte!$E$68*$E$36*$D$23))))),0)","v":0},"-",{"$f":"IF($D$23>0, F129*$D$23,0)","v":405.69295199999993},{"$f":"G129*$E$23","v":429.89800960000002},{"$f":"IF($D$23>0,(IF(MOD(($C180-1),$D$29)<>0,0,$K$13*$D$23)),0)+IF($E$23>0,(IF(MOD(($C180-1),$D$30)<>0,0,$K$13*$E$23)),0)","v":14193.911970000001},{"$f":"IF($D$23>0,(IF(MOD(($C180-1),$D$29)<>0,0,$K$14*$D$23)),0)+IF($E$23>0,(IF(MOD(($C180-1),$D$30)<>0,0,$K$14*$E$23)),0)","v":11420.13564},{"$f":"SUM(D180:L180)","v":64319.6385716},"Euro/a",{"$f":"IF($M$192<>0,(IF(C180<=$F$89,M180/$M$192,\"-\")),0)","v":0.47778832231747015}]
[null,null,{"$f":"C180+1","v":2},{"$f":"IF($D$23>0,(IF(MOD(($C147-1),$D$29)<>0,0,Konstante_Werte!$E$65*$D$23)),0)","v":0},{"$f":"IF($E$23>0,(IF(MOD(($C181-1),$D$30)<>0,0,Konstante_Werte!$E$66*$E$23)),0)","v":0},{"$f":"IF($D$23>0,(IF($D$29=1,$D$23*$D$36*$J$36*Konstante_Werte!$E$67, IF(AND($D$29<>1,$D$29/($J$36+1)<1),Konstante_Werte!$E$67*$D$36*$D$23*$J$36/$D$29,IF(MOD($C181,$D$29)=0,0,IF(INT(MOD(($C181-$D$29*INT(($C181-1)/$D$29)),($D$29/($J$36+1))))<>0,0,Konstante_Werte!$E$67*$D$36*$D$23))))),0)","v":0},{"$f":"IF($D$23>0,(IF($D$29=1,$D$23*$E$36*$K$36*Konstante_Werte!$E$68, IF(AND($D$29<>1,$D$29/($K$36+1)<1),Konstante_Werte!$E$68*$E$36*$D$23*$K$36/$D$29,IF(MOD($C181,$D$29)=0,0,IF(INT(MOD(($C181-$D$29*INT(($C181-1)/$D$29)),($D$29/($K$36+1))))<>0,0,Konstante_Werte!$E$68*$E$36*$D$23))))),0)","v":0},"-",408.02961448421053,432.37408552421061,0,0,840.40370000842108,"Euro/a",6.2428067509961681E-3]
[null,null,{"$f":"C181+1","v":3},{"$f":"IF($D$23>0,(IF(MOD(($C148-1),$D$29)<>0,0,Konstante_Werte!$E$65*$D$23)),0)","v":0},{"$f":"IF($E$23>0,(IF(MOD(($C182-1),$D$30)<>0,0,Konstante_Werte!$E$66*$E$23)),0)","v":0},{"$f":"IF($D$23>0,(IF($D$29=1,$D$23*$D$36*$J$36*Konstante_Werte!$E$67, IF(AND($D$29<>1,$D$29/($J$36+1)<1),Konstante_Werte!$E$67*$D$36*$D$23*$J$36/$D$29,IF(MOD($C182,$D$29)=0,0,IF(INT(MOD(($C182-$D$29*INT(($C182-1)/$D$29)),($D$29/($J$36+1))))<>0,0,Konstante_Werte!$E$67*$D$36*$D$23))))),0)","v":0},{"$f":"IF($D$23>0,(IF($D$29=1,$D$23*$E$36*$K$36*Konstante_Werte!$E$68, IF(AND($D$29<>1,$D$29/($K$36+1)<1),Konstante_Werte!$E$68*$E$36*$D$23*$K$36/$D$29,IF(MOD($C182,$D$29)=0,0,IF(INT(MOD(($C182-$D$29*INT(($C182-1)/$D$29)),($D$29/($K$36+1))))<>0,0,Konstante_Werte!$E$68*$E$36*$D$23))))),0)","v":0},"-",410.37973540179581,434.86442285890814,0,0,845.2441582607039,"Euro/a",6.2787633340704255E-3]
[null,null,4,{"$f":"IF($D$23>0,(IF(MOD(($C149-1),$D$29)<>0,0,Konstante_Werte!$E$65*$D$23)),0)","v":0},{"$f":"IF($E$23>0,(IF(MOD(($C183-1),$D$30)<>0,0,Konstante_Werte!$E$66*$E$23)),0)","v":0},{"$f":"IF($D$23>0,(IF($D$29=1,$D$23*$D$36*$J$36*Konstante_Werte!$E$67, IF(AND($D$29<>1,$D$29/($J$36+1)<1),Konstante_Werte!$E$67*$D$36*$D$23*$J$36/$D$29,IF(MOD($C183,$D$29)=0,0,IF(INT(MOD(($C183-$D$29*INT(($C183-1)/$D$29)),($D$29/($J$36+1))))<>0,0,Konstante_Werte!$E$67*$D$36*$D$23))))),0)","v":0},{"$f":"IF($D$23>0,(IF($D$29=1,$D$23*$E$36*$K$36*Konstante_Werte!$E$68, IF(AND($D$29<>1,$D$29/($K$36+1)<1),Konstante_Werte!$E$68*$E$36*$D$23*$K$36/$D$29,IF(MOD($C183,$D$29)=0,0,IF(INT(MOD(($C183-$D$29*INT(($C183-1)/$D$29)),($D$29/($K$36+1))))<>0,0,Konstante_Werte!$E$68*$E$36*$D$23))))),0)","v":0},"-",412.74339226905539,437.36910374528514,0,0,850.11249601434054,"Euro/a",6.3149270156370677E-3]
[null,null,5,{"$f":"IF($D$23>0,(IF(MOD(($C150-1),$D$29)<>0,0,Konstante_Werte!$E$65*$D$23)),0)","v":0},{"$f":"IF($E$23>0,(IF(MOD(($C184-1),$D$30)<>0,0,Konstante_Werte!$E$66*$E$23)),0)","v":0},{"$f":"IF($D$23>0,(IF($D$29=1,$D$23*$D$36*$J$36*Konstante_Werte!$E$67, IF(AND($D$29<>1,$D$29/($J$36+1)<1),Konstante_Werte!$E$67*$D$36*$D$23*$J$36/$D$29,IF(MOD($C184,$D$29)=0,0,IF(INT(MOD(($C184-$D$29*INT(($C184-1)/$D$29)),($D$29/($J$36+1))))<>0,0,Konstante_Werte!$E$67*$D$36*$D$23))))),0)","v":0},{"$f":"IF($D$23>0,(IF($D$29=1,$D$23*$E$36*$K$36*Konstante_Werte!$E$68, IF(AND($D$29<>1,$D$29/($K$36+1)<1),Konstante_Werte!$E$68*$E$36*$D$23*$K$36/$D$29,IF(MOD($C184,$D$29)=0,0,IF(INT(MOD(($C184-$D$29*INT(($C184-1)/$D$29)),($D$29/($K$36+1))))<>0,0,Konstante_Werte!$E$68*$E$36*$D$23))))),0)","v":0},"-",415.12066304875805,439.88821079764136,0,0,855.00887384639941,"Euro/a",6.3512989885175994E-3]
[null,null,6,{"$f":"IF($D$23>0,(IF(MOD(($C151-1),$D$29)<>0,0,Konstante_Werte!$E$65*$D$23)),0)","v":0},{"$f":"IF($E$23>0,(IF(MOD(($C185-1),$D$30)<>0,0,Konstante_Werte!$E$66*$E$23)),0)","v":0},{"$f":"IF($D$23>0,(IF($D$29=1,$D$23*$D$36*$J$36*Konstante_Werte!$E$67, IF(AND($D$29<>1,$D$29/($J$36+1)<1),Konstante_Werte!$E$67*$D$36*$D$23*$J$36/$D$29,IF(MOD($C185,$D$29)=0,0,IF(INT(MOD(($C185-$D$29*INT(($C185-1)/$D$29)),($D$29/($J$36+1))))<>0,0,Konstante_Werte!$E$67*$D$36*$D$23))))),0)","v":0},{"$f":"IF($D$23>0,(IF($D$29=1,$D$23*$E$36*$K$36*Konstante_Werte!$E$68, IF(AND($D$29<>1,$D$29/($K$36+1)<1),Konstante_Werte!$E$68*$E$36*$D$23*$K$36/$D$29,IF(MOD($C185,$D$29)=0,0,IF(INT(MOD(($C185-$D$29*INT(($C185-1)/$D$29)),($D$29/($K$36+1))))<>0,0,Konstante_Werte!$E$68*$E$36*$D$23))))),0)","v":0},"-",417.51162615271318,442.42182710610837,0,0,859.9334532588216,"Euro/a",6.3878804524037987E-3]
[null,null,7,{"$f":"IF($D$23>0,(IF(MOD(($C152-1),$D$29)<>0,0,Konstante_Werte!$E$65*$D$23)),0)","v":22750},{"$f":"IF($E$23>0,(IF(MOD(($C186-1),$D$30)<>0,0,Konstante_Werte!$E$66*$E$23)),0)","v":15120},{"$f":"IF($D$23>0,(IF($D$29=1,$D$23*$D$36*$J$36*Konstante_Werte!$E$67, IF(AND($D$29<>1,$D$29/($J$36+1)<1),Konstante_Werte!$E$67*$D$36*$D$23*$J$36/$D$29,IF(MOD($C186,$D$29)=0,0,IF(INT(MOD(($C186-$D$29*INT(($C186-1)/$D$29)),($D$29/($J$36+1))))<>0,0,Konstante_Werte!$E$67*$D$36*$D$23))))),0)","v":0},{"$f":"IF($D$23>0,(IF($D$29=1,$D$23*$E$36*$K$36*Konstante_Werte!$E$68, IF(AND($D$29<>1,$D$29/($K$36+1)<1),Konstante_Werte!$E$68*$E$36*$D$23*$K$36/$D$29,IF(MOD($C186,$D$29)=0,0,IF(INT(MOD(($C186-$D$29*INT(($C186-1)/$D$29)),($D$29/($K$36+1))))<>0,0,Konstante_Werte!$E$68*$E$36*$D$23))))),0)","v":0},"-",308.67711130341166,327.09386521068859,14193.911970000001,11420.13564,64119.818586514099,"Euro/a",0.47630399097544285]
[null,null,8,{"$f":"IF($D$23>0,(IF(MOD(($C153-1),$D$29)<>0,0,Konstante_Werte!$E$65*$D$23)),0)","v":0},{"$f":"IF($E$23>0,(IF(MOD(($C187-1),$D$30)<>0,0,Konstante_Werte!$E$66*$E$23)),0)","v":0},{"$f":"IF($D$23>0,(IF($D$29=1,$D$23*$D$36*$J$36*Konstante_Werte!$E$67, IF(AND($D$29<>1,$D$29/($J$36+1)<1),Konstante_Werte!$E$67*$D$36*$D$23*$J$36/$D$29,IF(MOD($C187,$D$29)=0,0,IF(INT(MOD(($C187-$D$29*INT(($C187-1)/$D$29)),($D$29/($J$36+1))))<>0,0,Konstante_Werte!$E$67*$D$36*$D$23))))),0)","v":0},{"$f":"IF($D$23>0,(IF($D$29=1,$D$23*$E$36*$K$36*Konstante_Werte!$E$68, IF(AND($D$29<>1,$D$29/($K$36+1)<1),Konstante_Werte!$E$68*$E$36*$D$23*$K$36/$D$29,IF(MOD($C187,$D$29)=0,0,IF(INT(MOD(($C187-$D$29*INT(($C187-1)/$D$29)),($D$29/($K$36+1))))<>0,0,Konstante_Werte!$E$68*$E$36*$D$23))))),0)","v":0},"-",310.45499337447399,328.97782193186231,0,0,639.43281530633635,"Euro/a",4.7499261321230293E-3]
[null,null,9,{"$f":"IF($D$23>0,(IF(MOD(($C154-1),$D$29)<>0,0,Konstante_Werte!$E$65*$D$23)),0)","v":0},{"$f":"IF($E$23>0,(IF(MOD(($C188-1),$D$30)<>0,0,Konstante_Werte!$E$66*$E$23)),0)","v":0},{"$f":"IF($D$23>0,(IF($D$29=1,$D$23*$D$36*$J$36*Konstante_Werte!$E$67, IF(AND($D$29<>1,$D$29/($J$36+1)<1),Konstante_Werte!$E$67*$D$36*$D$23*$J$36/$D$29,IF(MOD($C188,$D$29)=0,0,IF(INT(MOD(($C188-$D$29*INT(($C188-1)/$D$29)),($D$29/($J$36+1))))<>0,0,Konstante_Werte!$E$67*$D$36*$D$23))))),0)","v":0},{"$f":"IF($D$23>0,(IF($D$29=1,$D$23*$E$36*$K$36*Konstante_Werte!$E$68, IF(AND($D$29<>1,$D$29/($K$36+1)<1),Konstante_Werte!$E$68*$E$36*$D$23*$K$36/$D$29,IF(MOD($C188,$D$29)=0,0,IF(INT(MOD(($C188-$D$29*INT(($C188-1)/$D$29)),($D$29/($K$36+1))))<>0,0,Konstante_Werte!$E$68*$E$36*$D$23))))),0)","v":0},"-",312.24311548129822,330.87262964507477,0,0,643.11574512637299,"Euro/a",4.7772841972335703E-3]
[null,null,10,{"$f":"IF($D$23>0,(IF(MOD(($C155-1),$D$29)<>0,0,Konstante_Werte!$E$65*$D$23)),0)","v":0},{"$f":"IF($E$23>0,(IF(MOD(($C189-1),$D$30)<>0,0,Konstante_Werte!$E$66*$E$23)),0)","v":0},{"$f":"IF($D$23>0,(IF($D$29=1,$D$23*$D$36*$J$36*Konstante_Werte!$E$67, IF(AND($D$29<>1,$D$29/($J$36+1)<1),Konstante_Werte!$E$67*$D$36*$D$23*$J$36/$D$29,IF(MOD($C189,$D$29)=0,0,IF(INT(MOD(($C189-$D$29*INT(($C189-1)/$D$29)),($D$29/($J$36+1))))<>0,0,Konstante_Werte!$E$67*$D$36*$D$23))))),0)","v":0},{"$f":"IF($D$23>0,(IF($D$29=1,$D$23*$E$36*$K$36*Konstante_Werte!$E$68, IF(AND($D$29<>1,$D$29/($K$36+1)<1),Konstante_Werte!$E$68*$E$36*$D$23*$K$36/$D$29,IF(MOD($C189,$D$29)=0,0,IF(INT(MOD(($C189-$D$29*INT(($C189-1)/$D$29)),($D$29/($K$36+1))))<>0,0,Konstante_Werte!$E$68*$E$36*$D$23))))),0)","v":0},"-",314.04153660323618,332.77835084859157,0,0,646.81988745182775,"Euro/a",4.8047998361054221E-3]
[null,null,11,{"$f":"IF($D$23>0,(IF(MOD(($C156-1),$D$29)<>0,0,Konstante_Werte!$E$65*$D$23)),0)","v":0},{"$f":"IF($E$23>0,(IF(MOD(($C190-1),$D$30)<>0,0,Konstante_Werte!$E$66*$E$23)),0)","v":0},{"$f":"IF($D$23>0,(IF($D$29=1,$D$23*$D$36*$J$36*Konstante_Werte!$E$67, IF(AND($D$29<>1,$D$29/($J$36+1)<1),Konstante_Werte!$E$67*$D$36*$D$23*$J$36/$D$29,IF(MOD($C190,$D$29)=0,0,IF(INT(MOD(($C190-$D$29*INT(($C190-1)/$D$29)),($D$29/($J$36+1))))<>0,0,Konstante_Werte!$E$67*$D$36*$D$23))))),0)","v":0},{"$f":"IF($D$23>0,(IF($D$29=1,$D$23*$E$36*$K$36*Konstante_Werte!$E$68, IF(AND($D$29<>1,$D$29/($K$36+1)<1),Konstante_Werte!$E$68*$E$36*$D$23*$K$36/$D$29,IF(MOD($C190,$D$29)=0,0,IF(INT(MOD(($C190-$D$29*INT(($C190-1)/$D$29)),($D$29/($K$36+1))))<>0,0,Konstante_Werte!$E$68*$E$36*$D$23))))),0)","v":0},"-",315.85031605934228,334.695048400649,0,0,650.54536445999133,"Euro/a","-"]
[null,null,12,{"$f":"IF($D$23>0,(IF(MOD(($C157-1),$D$29)<>0,0,Konstante_Werte!$E$65*$D$23)),0)","v":0},{"$f":"IF($E$23>0,(IF(MOD(($C191-1),$D$30)<>0,0,Konstante_Werte!$E$66*$E$23)),0)","v":0},{"$f":"IF($D$23>0,(IF($D$29=1,$D$23*$D$36*$J$36*Konstante_Werte!$E$67, IF(AND($D$29<>1,$D$29/($J$36+1)<1),Konstante_Werte!$E$67*$D$36*$D$23*$J$36/$D$29,IF(MOD($C191,$D$29)=0,0,IF(INT(MOD(($C191-$D$29*INT(($C191-1)/$D$29)),($D$29/($J$36+1))))<>0,0,Konstante_Werte!$E$67*$D$36*$D$23))))),0)","v":0},{"$f":"IF($D$23>0,(IF($D$29=1,$D$23*$E$36*$K$36*Konstante_Werte!$E$68, IF(AND($D$29<>1,$D$29/($K$36+1)<1),Konstante_Werte!$E$68*$E$36*$D$23*$K$36/$D$29,IF(MOD($C191,$D$29)=0,0,IF(INT(MOD(($C191-$D$29*INT(($C191-1)/$D$29)),($D$29/($K$36+1))))<>0,0,Konstante_Werte!$E$68*$E$36*$D$23))))),0)","v":0},"-",317.66951351032952,336.62278552152657,0,0,654.29229903185615,"Euro/a","-"]
[null,null,"Summe über Betrachtungszeitraum",{"$f":"SUM(D180:OFFSET(D180,$F$89-1,0))","v":45500},{"$f":"SUM(E180:OFFSET(E180,$F$89-1,0))","v":30240},{"$f":"SUM(F180:OFFSET(F180,$F$89-1,0))","v":0},{"$f":"SUM(G180:OFFSET(G180,$F$89-1,0))","v":0},"-",{"$f":"SUM(I180:OFFSET(I180,$F$89-1,0))","v":3714.894740118953},{"$f":"SUM(J180:OFFSET(J180,$F$89-1,0))","v":3936.5383272683712},{"$f":"SUM(K180:OFFSET(K180,$F$89-1,0))","v":28387.823940000002},{"$f":"SUM(L180:OFFSET(L180,$F$89-1,0))","v":22840.271280000001},{"$f":"SUM(M180:OFFSET(M180,$F$89-1,0))","v":134619.52828738731},"Euro/Betrachtungszeitraum",{"$f":"SUM(O180:O191)","v":0.99999999999999989}]

{"sheet":"Berechnung_Szen2","index":12,"n_rows":192,"n_cols":15,"rows_kept":192,"cut":false,"hidden":true,"merged":[[31,8,31,11],[105,3,105,4],[106,3,106,4],[107,3,107,4],[108,3,108,4],[40,3,40,5],[143,12,144,13],[177,10,178,10],[177,11,178,11],[177,12,178,13],[46,3,46,6],[47,3,47,6],[48,3,48,6],[143,3,143,7],[177,3,177,7],[49,3,49,6],[160,3,160,7],[160,8,160,9],[143,10,144,10],[143,11,144,11],[143,8,143,9],[177,8,177,9],[1,5,1,7],[1,3,1,4],[177,14,178,14],[143,14,144,14],[160,10,161,10],[160,11,161,11],[160,12,161,13],[160,14,161,14],[4,2,4,3],[5,2,5,3],[41,3,41,5],[31,2,31,5],[70,3,71,12],[42,3,42,5],[43,3,43,5],[44,3,44,5]]}
[null,"Berechnung der CO2-Äquivalente und der Kosten"]
[null,null,null,null,null,"Zurück zum Inhaltsverzeichnis"]
[null,{"$f":"Szen2_Variablen!B3","v":"Bezeichnung:"},null,{"$f":"Szen2_Variablen!C3","v":"Szenario 2"}]
[null,"1. Feste Daten"]
[null,null,{"$f":"'Default-Werte'!B4","v":"Anzahl von Arbeitstagen/Jahr"},null,203,"d/a"]
[null,null,{"$f":"'Default-Werte'!B5","v":"Betrachtungszeitraum [Jahr]"},null,{"$f":"IF(Konstante_Werte!E16<>\"0\", Konstante_Werte!E16, Konstante_Werte!L16)","v":10},"Jahre"]
[]
[null,null,{"$f":"Konstante_Werte!C18","v":"Strompreis: [€/kWh]"},null,null,null,{"$f":"Konstante_Werte!E18","v":0.21199999999999999}]
[null,null,{"$f":"Konstante_Werte!C19","v":"Reale Preissteigerungsrate Strom: [%/Jahr]"},null,null,null,{"$f":"Konstante_Werte!E19","v":5.7596822244290191E-3}]
[]
[null,null,"Durchschnittlicher Verwaltungsaufwand eines Beschaffungszyklus",null,null,null,null,{"$f":"Konstante_Werte!E59","v":"Höherer Dienst"},{"$f":"Konstante_Werte!F59","v":"Gehobener Dienst "},{"$f":"Konstante_Werte!G59","v":"Mittlerer Dienst"},"Summe"]
[null,null,{"$f":"Konstante_Werte!C60","v":"Personalaufwand [d/Stück]"},null,null,null,null,{"$f":"Konstante_Werte!$E$60","v":1.1619999999999998E-2},{"$f":"Konstante_Werte!F60","v":8.7660000000000002E-2},{"$f":"Konstante_Werte!G60","v":0.18442},{"$f":"SUM(H12:J12)","v":0.28370000000000001}]
[null,null,"Personalkosten pro Gerät [EUR/Stck]",null,null,null,null,{"$f":"$H$12*Konstante_Werte!E55","v":6.2047313999999991},{"$f":"$I$12*Konstante_Werte!F55","v":35.8450506},{"$f":"$J$12*Konstante_Werte!G55","v":52.576297799999999},{"$f":"SUM(H13:J13)","v":94.626079799999999}]
[null,null,"Sach- und Gemeinkosten pro Gerät [EUR/Stck]",null,null,null,null,{"$f":"$H$12*Konstante_Werte!E56","v":4.0034385999999991},{"$f":"$I$12*Konstante_Werte!F56","v":26.035019999999999},{"$f":"$J$12*Konstante_Werte!G56","v":46.095779},{"$f":"SUM(H14:J14)","v":76.134237600000006}]
[]
[null,null,{"$f":"Konstante_Werte!B47","v":"Anteil Nutzer nach Nutzungsintensität"},{"$f":"Konstante_Werte!C48","v":"Hohe Nutzungsintensität [%]"},{"$f":"Konstante_Werte!C49","v":"Mittlere Nutzungsintensität [%]"},{"$f":"Konstante_Werte!C50","v":"Geringe Nutzungsintensität [%]"}]
[null,null,"Geräte ",{"$f":"Konstante_Werte!E48","v":0.25},{"$f":"Konstante_Werte!E49","v":0.5},{"$f":"Konstante_Werte!E50","v":0.25}]
[]
[null,"2. Variable Daten"]
[null,null,{"$f":"Szen2_Variablen!B13","v":"Anzahl der Geräte [Stück]"},{"$f":"Szen2_Variablen!E13","v":"Anzahl der Geräte [Stück]"},{"$f":"Szen2_Variablen!F13","v":"Anzahl der zugeordneten Monitore"}]
[null,null,{"$f":"Szen2_Variablen!C14","v":"APC-Desktop-PC"},{"$f":"Szen2_Variablen!E14","v":100},{"$f":"Szen2_Variablen!F14","v":120}]
[null,null,{"$f":"Szen2_Variablen!C15","v":"APC-Notebook"},{"$f":"Szen2_Variablen!E15","v":50},{"$f":"Szen2_Variablen!F15","v":50}]
[null,null,{"$f":"Szen2_Variablen!C16","v":"APC-Mini-PC"},{"$f":"Szen2_Variablen!E16","v":70},{"$f":"Szen2_Variablen!F16","v":80}]
[null,null,{"$f":"Szen2_Variablen!C17","v":"Summe "},{"$f":"Szen2_Variablen!E17","v":220},{"$f":"SUM(E21:E23)","v":250}]
[]
[null,null,{"$f":"Szen2_Variablen!$B$19","v":"Nutzungsdauer [Jahre]"}]
[null,null,{"$f":"Szen2_Variablen!C20","v":"Desktop-PC"},{"$f":"ROUND(Szen2_Variablen!E20,0)","v":6}]
[null,null,{"$f":"Szen2_Variablen!C21","v":"Notebook"},{"$f":"ROUND(Szen2_Variablen!E21,0)","v":6}]
[null,null,{"$f":"Szen2_Variablen!C22","v":"Mini-PC"},{"$f":"ROUND(Szen2_Variablen!E22,0)","v":6}]
[null,null,{"$f":"Szen2_Variablen!C23","v":"Monitor"},{"$f":"ROUND(Szen2_Variablen!E23,0)","v":6}]
[]
[null,null,{"$f":"Szen2_Variablen!B31","v":"Prozentualer Anteil der Geräte, bei denen während der Nutzungsphase folgende Komponenten nachgerüstet bzw. ausgetauscht werden [%]"},null,null,null,null,null,{"$f":"Szen2_Variablen!B25","v":"Anzahl der Austauschvorgänge von Komponenten je Gerät während der Nutzungsphase"}]
[null,null,null,{"$f":"Szen2_Variablen!E32","v":"Ersatz HDD durch SSD"},{"$f":"Szen2_Variablen!F32","v":"RAM hinzufügen"},{"$f":"Szen2_Variablen!G32","v":"Wechsel des Akkus"},null,null,null,{"$f":"Szen2_Variablen!E26","v":"Ersatz HDD durch SSD"},{"$f":"Szen2_Variablen!F26","v":"RAM hinzufügen"},{"$f":"Szen2_Variablen!G26","v":"Wechsel des Akkus"}]
[null,null,{"$f":"Szen2_Variablen!C33","v":"Desktop-PC"},{"$f":"Szen2_Variablen!E33","v":0},{"$f":"Szen2_Variablen!F33","v":0},{"$f":"Szen2_Variablen!G33","v":"-"},null,null,{"$f":"Szen2_Variablen!C27","v":"Desktop-PC"},{"$f":"Szen2_Variablen!E27","v":1},{"$f":"Szen2_Variablen!F27","v":1},{"$f":"Szen2_Variablen!G27","v":"-"}]
[null,null,{"$f":"Szen2_Variablen!C34","v":"Notebook"},{"$f":"Szen2_Variablen!E34","v":0},{"$f":"Szen2_Variablen!F34","v":0},{"$f":"Szen2_Variablen!G34","v":0.5},null,null,{"$f":"Szen2_Variablen!C28","v":"Notebook"},{"$f":"Szen2_Variablen!E28","v":1},{"$f":"Szen2_Variablen!F28","v":1},{"$f":"Szen2_Variablen!G28","v":1}]
[null,null,{"$f":"Szen2_Variablen!C35","v":"Mini-PC"},{"$f":"Szen2_Variablen!E35","v":0},{"$f":"Szen2_Variablen!F35","v":0},{"$f":"Szen2_Variablen!G35","v":"-"},null,null,{"$f":"Szen2_Variablen!C29","v":"Mini-PC"},{"$f":"Szen2_Variablen!E29","v":1},{"$f":"Szen2_Variablen!F29","v":1},{"$f":"Szen2_Variablen!G29","v":"-"}]
[]
[null,"3. Ergebnisse"]
[null,"3.1 Stromverbrauch während der Nutzung"]
[null,null,"Stromverbrauch pro Gerät während der Nutzung [kWh/Gerät/Betrachtungsraum]"]
[null,null,"IT-Gerät","kWh/Gerät/Betrachtungsraum"]
[null,null,"Desktop-PC",{"$f":"$D$125","v":415.33979493344253}]
[null,null,"Notebook",{"$f":"$E$125","v":131.45326399640874}]
[null,null,"Mini-PC",{"$f":"$F$125","v":244.40998035011251}]
[null,null,"Monitor",{"$f":"$G$125","v":226.618291286035}]
[]
[null,null,"Arbeitsplatztyp","kWh/Betrachtungsraum"]
[null,null,"APC mit Desktop-PC",{"$f":"D42*$D21+$D$45*$E21","v":68728.174447668454}]
[null,null,"APC mit Notebook",{"$f":"D43*$D22+$D$45*$E22","v":17903.577764122187}]
[null,null,"APC mit Mini-PC",{"$f":"D44*$D23+$D$45*$E23","v":35238.161927390676}]
[]
[null,"3.2 GWP-Ergebnisse bezogen auf alle Geräte des Typs über den Betrachtungszeitraum"]
[null,null,"kg CO2e / Betrachtungszeitraum","APC mit Desktop","APC mit Notebook","APC mit Mini-PC","Summe",null,"GWP in % bezogen auf den Arbeitsplatztyp / Betrachtungszeitraum","APC mit Desktop","APC mit Notebook","APC mit Mini-PC","% (Summe)"]
[null,null,"Herstellung",{"$f":"IF(OR($D$21>0,$E$21>0),('Default-Werte'!$D$24+$D$34*$J$34*'Default-Werte'!$C$26+$E$34*$K$34*'Default-Werte'!$C$12)*$J$91*$D$21+'Default-Werte'!$D$25*$E$21*$J$94,0)","v":75456.666666666657},{"$f":"IF(OR($D$22>0,$E$22>0),('Default-Werte'!$D$47+'Default-Werte'!$C$39*$D$35*$J$35+'Default-Werte'!$C$30*$E$35*$K$35+'Default-Werte'!$C$38*$F$35*$L$35)*$J$92*$D$22+'Default-Werte'!$D$48*$J$94*$E$22,0)","v":28554.166666666672},{"$f":"IF(OR($D$23>0,$E$23>0),('Default-Werte'!$D$67+'Default-Werte'!$C$60*$D$36*$J$36+'Default-Werte'!$C$53*$E$36*$K$36)*$J$93*$D$23+$E$23*$J$94*'Default-Werte'!$D$68,0)","v":33985},{"$f":"SUM(D54:F54)","v":137995.83333333331},null,"Herstellung",{"$f":"IF($D$58=0,0,D54/$D$58)","v":0.61493739598179264},{"$f":"IF($E$58=0,0,E54/$E$58)","v":0.70007965543303174},{"$f":"IF($F$58=0,0,F54/$F$58)","v":0.58708732596832192},{"$f":"G54/$G$58","v":0.62334160174481446}]
[null,null,"Distribution",{"$f":"IF(OR($D$21>0,$E$21>0),('Default-Werte'!$C$72+$D$34*$J$34*'Default-Werte'!$C$78+$E$34*$K$34*'Default-Werte'!$C$77)*$J$91*$D$21+$J$94*$E$21*'Default-Werte'!$C$75,0)","v":3528},{"$f":"IF(OR($D$22>0,$E$22>0),('Default-Werte'!$C$73+'Default-Werte'!$C$78*$D$35*$J$35+'Default-Werte'!$C$77*$E$35*$K$35+'Default-Werte'!$C$76*$F$35*$L$35)*$J$92*$D$22+$J$94*$E$22*'Default-Werte'!$C$75,0)","v":865.29166666666674},{"$f":"IF(OR($D$23>0,$E$23>0),('Default-Werte'!$C$74+'Default-Werte'!$C$78*$D$36*$J$36+'Default-Werte'!$C$77*$E$36*$K$36)*$J$93*$D$23+$J$94*$E$23*'Default-Werte'!$C$75,0)","v":1678.5},{"$f":"SUM(D55:F55)","v":6071.791666666667},null,"Distribution",{"$f":"IF($D$58=0,0,D55/$D$58)","v":2.8751589870880834E-2},{"$f":"IF($E$58=0,0,E55/$E$58)","v":2.1214875535353523E-2},{"$f":"IF($F$58=0,0,F55/$F$58)","v":2.8995912215325239E-2},{"$f":"G55/$G$58","v":2.7426917549158977E-2}]
[null,null,"Nutzung",{"$f":"IF(OR($D$21>0,$E$21>0),$D$48*Konstante_Werte!$E$17,0)","v":42748.924506449781},{"$f":"IF(OR($D$22>0,$E$22>0),$D$49*Konstante_Werte!$E$17,0)","v":11136.025369284},{"$f":"IF(OR($D$23>0,$E$23>0),$D$50*Konstante_Werte!$E$17,0)","v":21918.136718837002},{"$f":"SUM(D56:F56)","v":75803.086594570777},null,"Nutzung",{"$f":"IF($D$58=0,0,D56/$D$58)","v":0.34838422472525254},0.27302862291277424,0.37863352292099761,0.34241046467630515]
[null,null,"Entsorgung",{"$f":"IF(OR($D$21>0,$E$21>0),('Default-Werte'!$C$82+$D$34*$J$34*'Default-Werte'!$C$88+$E$34*$K$34*'Default-Werte'!$C$87)*$J$91*$D$21+$J$94*$E$21*'Default-Werte'!$C$85,0)","v":972.66666666666663},{"$f":"IF(OR($D$22>0,$E$22>0),('Default-Werte'!$C$83+'Default-Werte'!$C$88*$D$35*$J$35+'Default-Werte'!$C$87*$E$35*$K$35+'Default-Werte'!$C$86*$F$35*$L$35)*$J$92*$D$22+$J$94*$E$22*'Default-Werte'!$C$85,0)","v":231.54166666666669},{"$f":"IF(OR($D$23>0,$E$23>0),('Default-Werte'!$C$84+'Default-Werte'!$C$88*$D$36*$J$36+'Default-Werte'!$C$87*$E$36*$K$36)*$J$93*$D$23+$J$94*$E$23*'Default-Werte'!$C$85,0)","v":305.83333333333337},{"$f":"SUM(D57:F57)","v":1510.0416666666665},null,"Entsorgung",{"$f":"IF($D$58=0,0,D57/$D$58)","v":7.9267894220739106E-3},5.6768461188404454E-3,5.2832388953551607E-3,6.8210160297212542E-3]
[null,null,"Summe",{"$f":"SUM(D54:D57)","v":122706.25783978311},{"$f":"SUM(E54:E57)","v":40787.025369284005},{"$f":"SUM(F54:F57)","v":57887.470052170342},{"$f":"SUM(D58:F58)","v":221380.75326123746},null,"Summe",{"$f":"SUM(J54:J57)","v":1},{"$f":"SUM(K54:K57)","v":0.99999999999999989},{"$f":"SUM(L54:L57)","v":1},{"$f":"SUM(M54:M57)","v":0.99999999999999978}]
[]
[null,"3.3 Kosten-Ergebnisse bezogen auf Betrachtungszeitraum und je Haushaltsjahr"]
[null,null,"Lebenszykluskosten-Ergebnisse bezogen auf Betrachtungszeitraum"]
[null,null,"Kosten in EURO / Betrachtungszeitraum","APC mit Desktop","APC mit Notebook","APC mit Mini-PC","Summe",null,"Kosten in % / Betrachtungszeitraum","APC mit Desktop","APC mit Notebook","APC mit Mini-PC","% (Summe)"]
[null,null,"Anschaffungskosten",{"$f":"IF(OR($D$21>0,$E$21>0),(Konstante_Werte!$E$63+$D$34*$J$34*Konstante_Werte!$E$67+$E$34*$K$34*Konstante_Werte!$E$68)*$J$91*$D$21+Konstante_Werte!$E$66*$J$94*$E$21,0)","v":89800},{"$f":"IF(OR($D$22>0,$E$22>0),(Konstante_Werte!$E$64+Konstante_Werte!$E$67*$D$35*$J$35+Konstante_Werte!$E$68*$E$35*$K$35+Konstante_Werte!$E$69*$F$35*$L$35)*$J$92*$D$22+Konstante_Werte!$E$66*$J$94*$E$22,0)","v":54791.666666666672},{"$f":"IF(OR($D$23>0,$E$23>0),(Konstante_Werte!$E$65+Konstante_Werte!$E$67*$D$36*$J$36+Konstante_Werte!$E$68*$E$36*$K$36)*$J$93*$D$23+Konstante_Werte!$E$66*$J$94*$E$23,0)","v":63116.666666666672},{"$f":"SUM(D63:F63)","v":207708.33333333337},null,{"$f":"C63","v":"Anschaffungskosten"},{"$f":"IF($D$67=0,0,D63/$D$67)","v":0.53664676383001952},{"$f":"IF($E$67=0,0,E63/$E$67)","v":0.62878314476680031},{"$f":"IF($F$67=0,0,F63/$F$67)","v":0.55629895681568731},{"$f":"G63/$G$67","v":0.56452792540612851}]
[null,null,"Energiekosten",{"$f":"IF(OR($D$21>0,$E$21>0),D141*$D$21+$G$141*$E21,0)","v":14923.281972357818},{"$f":"IF(OR($D$22>0,$E$22>0),(E141*$D$22+$G$141*$E$22),0)","v":3887.4907042885206},{"$f":"IF(OR($D$23>0,$E$23>0),(F141*$D$23+$G$141*$E$23),0)","v":7651.4330673873246},{"$f":"SUM(D64:F64)","v":26462.205744033665},null,{"$f":"C64","v":"Energiekosten"},{"$f":"IF($D$67=0,0,D64/$D$67)","v":8.9181859423036677E-2},{"$f":"IF($E$67=0,0,E64/$E$67)","v":4.4612416066206646E-2},{"$f":"IF($F$67=0,0,F64/$F$67)","v":6.7438355957738949E-2},{"$f":"G64/$G$67","v":7.1921303640599205E-2}]
[null,null,"Bruttopersonalkosten",{"$f":"IF(OR($D$21>0,$E$21>0),($K$13)*($J$91*$D$21+$E$21*$J$94),0)","v":34696.22926},{"$f":"IF(OR($D$22>0,$E$22>0),($K$13)*($J$92*$D$22+$E$22*$J$94),0)","v":15771.013300000002},{"$f":"IF(OR($D$23>0,$E$23>0),($K$13)*($J$93*$D$23+$E$23*$J$94),0)","v":23656.519949999998},{"$f":"SUM(D65:F65)","v":74123.76251},null,"Bruttopersonalkosten",0.20734542482720972,0.18098641531132531,0.2085043153431396,0.20146006277905809]
[null,null,"Sach-und Gemeinkosten",{"$f":"IF(OR($D$21>0,$E$21>0),($K$14)*($J$91*$D$21+$E$21*$J$94),0)","v":27915.887120000003},{"$f":"IF(OR($D$22>0,$E$22>0),($K$14)*($J$92*$D$22+$E$22*$J$94),0)","v":12689.039600000002},{"$f":"IF(OR($D$23>0,$E$23>0),($K$14)*($J$93*$D$23+$E$23*$J$94),0)","v":19033.559400000002},{"$f":"SUM(D66:F66)","v":59638.486120000001},null,"Sach-und Gemeinkosten",0.16682595191973412,0.14561802385566774,0.16775837188343418,0.16209070817421439]
[null,null,"Summe",{"$f":"SUM(D63:D66)","v":167335.39835235782},{"$f":"SUM(E63:E66)","v":87139.210270955198},{"$f":"SUM(F63:F66)","v":113458.17908405399},{"$f":"SUM(D67:F67)","v":367932.78770736698},null,"Summe",{"$f":"SUM(J63:J66)","v":1},{"$f":"SUM(K63:K66)","v":1},{"$f":"SUM(L63:L66)","v":1},{"$f":"SUM(M63:M66)","v":1.0000000000000002}]
[]
[null,null,"Kosten je Haushaltsjahr"]
[null,null,"Haushaltplan: erforderliche Haushaltsmittel (in €) je Haushaltsjahr im Betrachtungszeitraum"]
[null,null,"Hinweis: ","Die Summe kann höher sein als die  Lebenszykluskosten. Bei den Lebenszykluskosten wird die letzte Beschaffung einer Komponente nur anteilig einbezogen, sofern der Betrachtungszeitraum kein ganzzahliges Vielfaches der angenommenen Nutzungsdauer der Komponente ist."]
[]
[null,null,"Kosten in EURO / Betrachtungszeitraum","APC mit Desktop","APC mit Notebook","APC mit Mini-PC","Summe",null,"Kosten: Anteil der Ausstattung in % innerhalb eines Jahres","APC mit Desktop","APC mit Notebook","APC mit Mini-PC","Summe"]
[null,null,{"$f":"C146","v":1},{"$f":"IF(C74<=$F$89,M146,\"-\")","v":93076.998458400005},{"$f":"IF(C74<=$F$89,M163,\"-\")","v":48500.573400000001},{"$f":"IF(C74<=$F$89,M180,\"-\")","v":64319.6385716},{"$f":"IF(C74<=$F$89,(IF(SUM(D74:F74)>=0,SUM(D74:F74),0)),\"-\")","v":205897.21043000001},null,{"$f":"C74","v":1},{"$f":"IF(C74<=$F$89,(IF(G74=0,0,D74/$G$74)),\"-\")","v":0.45205565565466416},{"$f":"IF(C74<=$F$89,(IF(G74=0,0,E74/$G$74)),\"-\")","v":0.23555721468353261},{"$f":"IF(C74<=$F$89,(IF(G74=0,0,F74/$G$74)),\"-\")","v":0.31238712966180326},{"$f":"IF(C74<=$F$89,SUM(J74:L74),\"-\")","v":1}]
[null,null,2,1639.115349423158,426.98688505263158,840.40370000842108,2906.5059344842102,null,{"$f":"C75","v":2},{"$f":"IF(C75<=$F$89,(IF(G75=0,0,D75/$G$74)),\"-\")","v":7.9608429176869153E-3},2.0737866441264711E-3,{"$f":"IF(C75<=$F$89,(IF(G75=0,0,F75/$G$74)),\"-\")","v":4.0816662753871439E-3},{"$f":"IF(C75<=$F$89,SUM(J75:L75),\"-\")","v":1.4116295837200532E-2}]
[null,null,3,1648.5561329650193,2304.4461938245336,845.2441582607039,4798.2464850502565,null,3,8.0066948431313876E-3,1.1192216684295432E-2,4.1051753760795425E-3,2.3304086903506362E-2]
[null,null,4,1658.0512924200311,431.91966743345341,850.11249601434054,2940.0834558678253,null,4,8.0528108610957976E-3,2.0977441439416467E-3,4.1288198817213111E-3,1.4279374886758756E-2]
[null,null,5,1667.6011409761745,434.40738746435125,855.00887384639941,2957.0174022869251,null,5,8.0991924926691414E-3,2.1098264835989079E-3,4.152600572201931E-3,1.436161954846998E-2]
[null,null,6,1677.2059936252924,436.90943597209019,859.9334532588216,2974.0488828562038,null,6,8.1458412677013967E-3,2.1219784136931211E-3,4.1765182319027962E-3,1.4444337913297314E-2]
[null,null,7,92687.271468058898,48399.050152301024,64119.818586514099,205206.14020687403,null,7,0.45016283258276729,0.23506413734903667,0.31141664548346693,0.99664361541527091]
[null,null,8,1247.143655463412,324.8788957085165,639.43281530633635,2211.4553664782648,null,8,6.0571177863889035E-3,1.5778693408717518E-3,3.1055924165797662E-3,1.0740579543840421E-2]
[null,null,9,1254.3268066070943,2201.7500949092209,643.11574512637299,4099.1926466426885,null,9,6.0920048600344428E-3,1.069344305496437E-2,3.1234796420178627E-3,1.9908927557016676E-2]
[null,null,10,1261.5513304187341,328.63207162270021,646.81988745182775,2237.0032894932619,null,10,6.1270928721379181E-3,1.5960977370037125E-3,3.141469892190359E-3,1.086466050133199E-2]
[null,null,11,"-","-","-",{"$f":"IF(C84<=$F$89,(IF(SUM(D84:F84)>=0,SUM(D84:F84),0)),\"-\")","v":"-"},null,11,"-",{"$f":"IF(C84<=$F$89,(IF(G84=0,0,E84/$G$74)),\"-\")","v":"-"},"-","-"]
[null,null,12,"-","-","-",{"$f":"IF(C85<=$F$89,(IF(SUM(D85:F85)>=0,SUM(D85:F85),0)),\"-\")","v":"-"},null,12,"-","-","-","-"]
[]
[null,"4.Berechnungsweg: Stromverbrauch und Energiekosten"]
[null,null,"Berechnung des Stromverbrauchs innerhalb des Betrachtungszeitraums"]
[null,null,"Betrachtungszeitraum",null,null,{"$f":"E6","v":10},"Jahre"]
[null,null,{"$f":"C26","v":"Nutzungsdauer [Jahre]"},null,null,null,null,null,"IT-Gerät","Anzahl des Beschaffungszyklus","Einheit"]
[null,null,null,"Desktop-PC",null,{"$f":"D27","v":6},"Jahre",null,"Desktop-PC",{"$f":"IF(D21<>0,$E$6/D27, \"0\")","v":1.6666666666666667},"Anzahl des Beschaffungszyklus"]
[null,null,null,"Notebook",null,{"$f":"D28","v":6},"Jahre",null,"Notebook",{"$f":"IF(D22<>0,$E$6/D28,\"0\")","v":1.6666666666666667},"Anzahl des Beschaffungszyklus"]
[null,null,null,"Mini-PC",null,{"$f":"D29","v":6},"Jahre",null,"Mini-PC",{"$f":"IF(D23<>0,$E$6/D29, \"0\")","v":1.6666666666666667},"Anzahl des Beschaffungszyklus"]
[null,null,null,"Monitor",null,{"$f":"D30","v":6},"Jahre",null,"Monitor",{"$f":"IF(D30<>0,$E$6/D30, \"0\")","v":1.6666666666666667},"Anzahl des Beschaffungszyklus"]
[null,null,"Energieeffizienzsteigerung von 5% pro Jahr",null,null,0.05]
[]
[null,null,"Stromverbrauch","Wh/Gerät/pro Kalendertag",null,null,null,null,"Stromverbrauch","kWh/Gerät/das erste Jahr"]
[null,null,"IT-Gerät","Hohe Nutzungsintensität ","Mittlere Nutzungsintensität ","Geringe Nutzungsintensität ",null,null,"IT-Gerät","Hohe Nutzungsintensität ","Mittlere Nutzungsintensität ","Geringe Nutzungsintensität "]
[null,null,"Desktop-PC",{"$f":"IF($D$21>0,SUMPRODUCT(Konstante_Werte!$E$28:$G$28,Szen2_Variablen!$E$38:$G$38),0)","v":259.185},{"$f":"IF($D$21>0,SUMPRODUCT(Konstante_Werte!$E$29:$G$29,Szen2_Variablen!$E$38:$G$38),0)","v":213.72},{"$f":"IF($D$21>0,SUMPRODUCT(Konstante_Werte!$E$30:$G$30,Szen2_Variablen!$E$38:$G$38),0)","v":168.255},null,null,"Desktop-PC",{"$f":"IF($D$21>0,(D$99*$E$5+Szen2_Variablen!$G$38*24*(365-$E$5))/1000,0)","v":55.686074999999995},{"$f":"IF($D$21>0,(E$99*$E$5+Szen2_Variablen!$G$38*24*(365-$E$5))/1000,0)","v":46.456679999999992},{"$f":"IF($D$21>0,(F$99*$E$5+Szen2_Variablen!$G$38*24*(365-$E$5))/1000,0)","v":37.227284999999995}]
[null,null,"Notebook",{"$f":"IF($D$22>0,SUMPRODUCT(Konstante_Werte!$E$33:$G$33,Szen2_Variablen!$E$42:$G$42),0)","v":76.077500000000001},{"$f":"IF($D$22>0,SUMPRODUCT(Konstante_Werte!$E$34:$G$34,Szen2_Variablen!$E$42:$G$42),0)","v":63.61999999999999},{"$f":"IF($D$22>0,SUMPRODUCT(Konstante_Werte!$E$35:$G$35,Szen2_Variablen!$E$42:$G$42),0)","v":51.162499999999987},null,null,"Notebook",{"$f":"IF($D$22>0,(D$100*$E$5+Szen2_Variablen!$G$42*24*(365-$E$5))/1000,0)","v":17.232212500000003},{"$f":"IF($D$22>0,(E$100*$E$5+Szen2_Variablen!$G$42*24*(365-$E$5))/1000,0)","v":14.703339999999999},{"$f":"IF($D$22>0,(F$100*$E$5+Szen2_Variablen!$G$42*24*(365-$E$5))/1000,0)","v":12.174467499999997}]
[null,null,"Mini-PC",{"$f":"IF($D$23>0,SUMPRODUCT(Konstante_Werte!$E$38:$G$38,Szen2_Variablen!$E$46:$G$46),0)","v":139.065},{"$f":"IF($D$23>0,SUMPRODUCT(Konstante_Werte!$E$39:$G$39,Szen2_Variablen!$E$46:$G$46),0)","v":117.24},{"$f":"IF($D$23>0,SUMPRODUCT(Konstante_Werte!$E$40:$G$40,Szen2_Variablen!$E$46:$G$46),0)","v":95.414999999999992},null,null,"Mini-PC",{"$f":"IF($D$23>0,(D$101*$E$5+Szen2_Variablen!$G$46*24*(365-$E$5))/1000,0)","v":31.768275000000003},{"$f":"IF($D$23>0,(E$101*$E$5+Szen2_Variablen!$G$46*24*(365-$E$5))/1000,0)","v":27.337799999999994},{"$f":"IF($D$23>0,(F$101*$E$5+Szen2_Variablen!$G$46*24*(365-$E$5))/1000,0)","v":22.907324999999997}]
[null,null,"Monitor",{"$f":"IF($E$24>0,SUMPRODUCT(Konstante_Werte!$E$43:$G$43,Szen2_Variablen!$E$50:$G$50),0)","v":146.6},{"$f":"IF($E$24>0,SUMPRODUCT(Konstante_Werte!$E$44:$G$44,Szen2_Variablen!$E$50:$G$50),0)","v":119.12},{"$f":"IF($E$24>0,SUMPRODUCT(Konstante_Werte!$E$45:$G$45,Szen2_Variablen!$E$50:$G$50),0)","v":91.64},null,null,"Monitor",{"$f":"IF($E$24>0,(D$102*$E$5+Szen2_Variablen!$G$50*24*(365-$E$5))/1000,0)","v":30.926200000000001},{"$f":"IF($E$24>0,(E$102*$E$5+Szen2_Variablen!$G$50*24*(365-$E$5))/1000,0)","v":25.347760000000001},{"$f":"IF($E$24>0,(F$102*$E$5+Szen2_Variablen!$G$50*24*(365-$E$5))/1000,0)","v":19.769320000000004}]
[]
[null,null,"Stromverbrauch im ersten Jahr je Geräteklasse unter Berücksichtigung der Nutzungsprofile "]
[null,null,"IT-Gerät","kWh/Gerät/das erste Jahr"]
[null,null,"Desktop-PC",{"$f":"IF($D$21>0,SUMPRODUCT(J99:L99,$D$17:$F$17),0)","v":46.456679999999992}]
[null,null,"Notebook",{"$f":"IF($D$22>0,SUMPRODUCT(J100:L100,$D$17:$F$17),0)","v":14.703339999999999}]
[null,null,"Mini-PC",{"$f":"IF($D$23>0,SUMPRODUCT(J101:L101,$D$17:$F$17),0)","v":27.337799999999998}]
[null,null,"Monitor",{"$f":"IF($E$24>0,SUMPRODUCT(J102:L102,$D$17:$F$17),0)","v":25.347760000000005}]
[]
[null,null,"Energieeffizienzsteigerung von 5% pro Jahr der neubeschafften Geräte wird berücksichtigt"]
[null,null,"Jahr (max: 12 Jahre)","Desktop","Notebook","Mini-PC","Monitor","Einheit"]
[null,null,1,{"$f":"D106","v":46.456679999999992},{"$f":"D107","v":14.703339999999999},{"$f":"D108","v":27.337799999999998},{"$f":"D109","v":25.347760000000005},"kWh/a/Gerät"]
[null,null,{"$f":"C113+1","v":2},{"$f":"IF($D$113<>0,IF(MOD(C113,$F$91)=0,$D$113*(1-$F$95)^C113,D113),0)","v":46.456679999999992},{"$f":"IF($E$113<>0,IF(MOD(C113,$F$92)=0,$E$113*(1-$F$95)^C113,E113),0)","v":14.703339999999999},{"$f":"IF($F$113<>0,IF(MOD(C113,$F$93)=0,$F$113*(1-$F$95)^C113,F113),0)","v":27.337799999999998},{"$f":"IF($G$113<>0,IF(MOD(C113,$F$94)=0,$G$113*(1-$F$95)^C113,G113),0)","v":25.347760000000005},"kWh/a/Gerät"]
[null,null,{"$f":"C114+1","v":3},{"$f":"IF($D$113<>0,IF(MOD(C114,$F$91)=0,$D$113*(1-$F$95)^C114,D114),0)","v":46.456679999999992},{"$f":"IF($E$113<>0,IF(MOD(C114,$F$92)=0,$E$113*(1-$F$95)^C114,E114),0)","v":14.703339999999999},{"$f":"IF($F$113<>0,IF(MOD(C114,$F$93)=0,$F$113*(1-$F$95)^C114,F114),0)","v":27.337799999999998},{"$f":"IF($G$113<>0,IF(MOD(C114,$F$94)=0,$G$113*(1-$F$95)^C114,G114),0)","v":25.347760000000005},"kWh/a/Gerät"]
[null,null,4,46.456679999999992,14.703339999999999,27.337799999999998,25.347760000000005,"kWh/a/Gerät"]
[null,null,5,46.456679999999992,14.703339999999999,27.337799999999998,25.347760000000005,"kWh/a/Gerät"]
[null,null,6,46.456679999999992,14.703339999999999,27.337799999999998,25.347760000000005,"kWh/a/Gerät"]
[null,null,7,34.149928733360618,10.808305999102185,20.095795087528121,18.632932821508749,"kWh/a/Gerät"]
[null,null,8,34.149928733360618,10.808305999102185,20.095795087528121,18.632932821508749,"kWh/a/Gerät"]
[null,null,9,34.149928733360618,10.808305999102185,20.095795087528121,18.632932821508749,"kWh/a/Gerät"]
[null,null,10,34.149928733360618,10.808305999102185,20.095795087528121,18.632932821508749,"kWh/a/Gerät"]
[null,null,11,34.149928733360618,10.808305999102185,20.095795087528121,18.632932821508749,"kWh/a/Gerät"]
[null,null,12,34.149928733360618,10.808305999102185,20.095795087528121,18.632932821508749,"kWh/a/Gerät"]
[null,null,{"$f":"\"Summe über Betrachtungszeitraum von \" &$F$89 & \" Jahren\"","v":"Summe über Betrachtungszeitraum von 10 Jahren"},{"$f":"SUM(D113:OFFSET(D113,$F$89-1,0))","v":415.33979493344253},{"$f":"SUM(E113:OFFSET(E113,$F$89-1,0))","v":131.45326399640874},{"$f":"SUM(F113:OFFSET(F113,$F$89-1,0))","v":244.40998035011251},{"$f":"SUM(G113:OFFSET(G113,$F$89-1,0))","v":226.618291286035},"kWh/Betrachtungszeitraum/Gerät"]
[]
[null,null,"Berechnung der Energiekosten innerhalb des Betrachtungszeitraums"]
[null,null,"Jahr (max: 12 Jahre)","Desktop","Notebook","Mini-PC","Monitor","Einheit"]
[null,null,1,{"$f":"IF($D$21>0,D113*$G8,0)","v":9.8488161599999984},{"$f":"IF($D$22>0,E113*$G8,0)","v":3.1171080799999995},{"$f":"IF($D$23>0,F113*$G8,0)","v":5.7956135999999994},{"$f":"IF($E$24>0,G113*$G8,0)","v":5.3737251200000005},"Euro/a/Gerät"]
[null,null,{"$f":"C129+1","v":2},{"$f":"IF($D$21>0,D114*$G$8*(1+$G$9)^C129,0)","v":9.9055422113684202},{"$f":"IF($D$22>0,E114*$G$8*(1+$G$9)^C129,0)","v":3.1350616319999998},{"$f":"IF($D$23>0,F114*$G$8*(1+$G$9)^C129,0)","v":5.8289944926315789},{"$f":"IF($E$24>0,G114*$G$8*(1+$G$9)^C129,0)","v":5.4046760690526323},"Euro/a/Gerät"]
[null,null,{"$f":"C130+1","v":3},{"$f":"IF($D$21>0,D115*$G$8*(1+$G$9)^C130,0)","v":9.96259498676657},{"$f":"IF($D$22>0,E115*$G$8*(1+$G$9)^C130,0)","v":3.1531185907543193},{"$f":"IF($D$23>0,F115*$G$8*(1+$G$9)^C130,0)","v":5.862567648597083},{"$f":"IF($E$24>0,G115*$G$8*(1+$G$9)^C130,0)","v":5.4358052857363521},"Euro/a/Gerät"]
[null,null,4,10.019976368021034,3.1712795518530039,5.8963341752722203,5.4671137968160641,"Euro/a/Gerät"]
[null,null,5,10.077688247797125,3.1895451143165068,5.9302951864108291,5.498602634970517,"Euro/a/Gerät"]
[null,null,6,10.135732529661299,3.2079158806154497,5.9644518021816166,5.5302728388263542,"Euro/a/Gerät"]
[null,null,7,7.4936084224286921,2.371694930886854,4.4096730186201665,4.0886733151336072,"Euro/a/Gerät"]
[null,null,8,7.5367692256561858,2.3853551400220514,4.4350713339210568,4.1122227741482789,"Euro/a/Gerät"]
[null,null,9,7.5801786213948228,2.3990940276209871,4.4606159354471178,4.1359078705634342,"Euro/a/Gerät"]
[null,null,10,7.6238380414584679,2.4129120468466096,4.486307665760517,4.1597293856073945,"Euro/a/Gerät"]
[null,null,11,7.6677489259077829,2.4268096534719428,4.5121473722763179,4.1836881050081125,"Euro/a/Gerät"]
[null,null,12,7.7119127230977176,2.4407873058951175,4.5381359072904219,4.2077848190190821,"Euro/a/Gerät"]
[null,null,{"$f":"C125","v":"Summe über Betrachtungszeitraum von 10 Jahren"},{"$f":"SUM(D129:OFFSET(D129,$F$89-1,0))","v":90.184744814552616},{"$f":"SUM(E129:OFFSET(E129,$F$89-1,0))","v":28.54308499491578},{"$f":"SUM(F129:OFFSET(F129,$F$89-1,0))","v":53.069924858842185},{"$f":"SUM(G129:OFFSET(G129,$F$89-1,0))","v":49.206729090854637},"Euro/Betrachtungszeitraum/Gerät"]
[]
[null,null,"APC mit Desktop (für alle Geräte)"]
[null,null,"In EURO ","Anschaffungskosten",null,null,null,null,"Energiekosten",null,"Bruttopersonal-kosten","Sach-und Gemeinkosten","Summe",null,"Anteil"]
[null,null,"Jahr (max: 12 Jahre)","Desktop","Monitor","Ersatz HDD durch SSD","RAM hinzufügen","Wechsel des Akkus","Desktop","Monitor"]
[null,null,1,{"$f":"IF($D$21>0,(IF(MOD(($C146-1),$D$27)<>0,0,Konstante_Werte!$E$63*$D$21)),0)","v":31200},{"$f":"IF($E$21>0,(IF(MOD(($C146-1),$D$30)<>0,0,Konstante_Werte!$E$66*$E$21)),0)","v":22680},{"$f":"IF($D$21>0,(IF($D$27=1,$D$21*$D$34*$J$34*Konstante_Werte!$E$67, IF(AND($D$27<>1,$D$27/($J$34+1)<1),Konstante_Werte!$E$67*$D$34*$D$21*$J$34/$D$27,IF(MOD($C146,$D$27)=0,0,IF(INT(MOD(($C146-$D$27*INT(($C146-1)/$D$27)),($D$27/($J$34+1))))<>0,0,Konstante_Werte!$E$67*$D$34*$D$21))))),0)","v":0},{"$f":"IF($D$21>0,(IF($D$27=1,$D$21*$E$34*$K$34*Konstante_Werte!$E$68, IF(AND($D$27<>1,$D$27/($K$34+1)<1),Konstante_Werte!$E$68*$E$34*$D$21*$K$34/$D$27,IF(MOD($C146,$D$27)=0,0,IF(INT(MOD(($C146-$D$27*INT(($C146-1)/$D$27)),($D$27/($K$34+1))))<>0,0,Konstante_Werte!$E$68*$E$34*$D$21))))),0)","v":0},"-",{"$f":"IF($D$21>0, D129*$D$21,0)","v":984.88161599999989},{"$f":"G129*$E$21","v":644.84701440000003},{"$f":"IF($D$21>0,(IF(MOD(($C146-1),$D$27)<>0,0,$K$13*$D$21)),0)+IF($E$21>0,(IF(MOD(($C146-1),$D$30)<>0,0,$K$13*$E$21)),0)","v":20817.737556},{"$f":"IF($D$21>0,(IF(MOD(($C146-1),$D$27)<>0,0,$K$14*$D$21)),0)+IF($E$21>0,(IF(MOD(($C146-1),$D$30)<>0,0,$K$14*$E$21)),0)","v":16749.532272},{"$f":"SUM(D146:L146)","v":93076.998458400005},"Euro/a",{"$f":"IF($M$158<>0,(IF(C146<=$F$89,M146/$M$158,\"-\")),0)","v":0.47051877172757783}]
[null,null,{"$f":"C146+1","v":2},{"$f":"IF($D$21>0,(IF(MOD(($C147-1),$D$27)<>0,0,Konstante_Werte!$E$63*$D$21)),0)","v":0},{"$f":"IF($E$21>0,(IF(MOD(($C147-1),$D$30)<>0,0,Konstante_Werte!$E$66*$E$21)),0)","v":0},{"$f":"IF($D$21>0,(IF($D$27=1,$D$21*$D$34*$J$34*Konstante_Werte!$E$67, IF(AND($D$27<>1,$D$27/($J$34+1)<1),Konstante_Werte!$E$67*$D$34*$D$21*$J$34/$D$27,IF(MOD($C147,$D$27)=0,0,IF(INT(MOD(($C147-$D$27*INT(($C147-1)/$D$27)),($D$27/($J$34+1))))<>0,0,Konstante_Werte!$E$67*$D$34*$D$21))))),0)","v":0},{"$f":"IF($D$21>0,(IF($D$27=1,$D$21*$E$34*$K$34*Konstante_Werte!$E$68, IF(AND($D$27<>1,$D$27/($K$34+1)<1),Konstante_Werte!$E$68*$E$34*$D$21*$K$34/$D$27,IF(MOD($C147,$D$27)=0,0,IF(INT(MOD(($C147-$D$27*INT(($C147-1)/$D$27)),($D$27/($K$34+1))))<>0,0,Konstante_Werte!$E$68*$E$34*$D$21))))),0)","v":0},"-",990.55422113684199,648.56112828631592,0,0,{"$f":"SUM(D147:L147)","v":1639.115349423158},"Euro/a",8.2859842249328741E-3]
[null,null,{"$f":"C147+1","v":3},{"$f":"IF($D$21>0,(IF(MOD(($C148-1),$D$27)<>0,0,Konstante_Werte!$E$63*$D$21)),0)","v":0},{"$f":"IF($E$21>0,(IF(MOD(($C148-1),$D$30)<>0,0,Konstante_Werte!$E$66*$E$21)),0)","v":0},{"$f":"IF($D$21>0,(IF($D$27=1,$D$21*$D$34*$J$34*Konstante_Werte!$E$67, IF(AND($D$27<>1,$D$27/($J$34+1)<1),Konstante_Werte!$E$67*$D$34*$D$21*$J$34/$D$27,IF(MOD($C148,$D$27)=0,0,IF(INT(MOD(($C148-$D$27*INT(($C148-1)/$D$27)),($D$27/($J$34+1))))<>0,0,Konstante_Werte!$E$67*$D$34*$D$21))))),0)","v":0},{"$f":"IF($D$21>0,(IF($D$27=1,$D$21*$E$34*$K$34*Konstante_Werte!$E$68, IF(AND($D$27<>1,$D$27/($K$34+1)<1),Konstante_Werte!$E$68*$E$34*$D$21*$K$34/$D$27,IF(MOD($C148,$D$27)=0,0,IF(INT(MOD(($C148-$D$27*INT(($C148-1)/$D$27)),($D$27/($K$34+1))))<>0,0,Konstante_Werte!$E$68*$E$34*$D$21))))),0)","v":0},"-",996.25949867665702,652.29663428836227,0,0,1648.5561329650193,"Euro/a",8.3337088609851187E-3]
[null,null,4,{"$f":"IF($D$21>0,(IF(MOD(($C149-1),$D$27)<>0,0,Konstante_Werte!$E$63*$D$21)),0)","v":0},{"$f":"IF($E$21>0,(IF(MOD(($C149-1),$D$30)<>0,0,Konstante_Werte!$E$66*$E$21)),0)","v":0},{"$f":"IF($D$21>0,(IF($D$27=1,$D$21*$D$34*$J$34*Konstante_Werte!$E$67, IF(AND($D$27<>1,$D$27/($J$34+1)<1),Konstante_Werte!$E$67*$D$34*$D$21*$J$34/$D$27,IF(MOD($C149,$D$27)=0,0,IF(INT(MOD(($C149-$D$27*INT(($C149-1)/$D$27)),($D$27/($J$34+1))))<>0,0,Konstante_Werte!$E$67*$D$34*$D$21))))),0)","v":0},{"$f":"IF($D$21>0,(IF($D$27=1,$D$21*$E$34*$K$34*Konstante_Werte!$E$68, IF(AND($D$27<>1,$D$27/($K$34+1)<1),Konstante_Werte!$E$68*$E$34*$D$21*$K$34/$D$27,IF(MOD($C149,$D$27)=0,0,IF(INT(MOD(($C149-$D$27*INT(($C149-1)/$D$27)),($D$27/($K$34+1))))<>0,0,Konstante_Werte!$E$68*$E$34*$D$21))))),0)","v":0},"-",1001.9976368021034,656.05365561792769,0,0,1658.0512924200311,"Euro/a",8.3817083757752996E-3]
[null,null,5,{"$f":"IF($D$21>0,(IF(MOD(($C150-1),$D$27)<>0,0,Konstante_Werte!$E$63*$D$21)),0)","v":0},{"$f":"IF($E$21>0,(IF(MOD(($C150-1),$D$30)<>0,0,Konstante_Werte!$E$66*$E$21)),0)","v":0},{"$f":"IF($D$21>0,(IF($D$27=1,$D$21*$D$34*$J$34*Konstante_Werte!$E$67, IF(AND($D$27<>1,$D$27/($J$34+1)<1),Konstante_Werte!$E$67*$D$34*$D$21*$J$34/$D$27,IF(MOD($C150,$D$27)=0,0,IF(INT(MOD(($C150-$D$27*INT(($C150-1)/$D$27)),($D$27/($J$34+1))))<>0,0,Konstante_Werte!$E$67*$D$34*$D$21))))),0)","v":0},{"$f":"IF($D$21>0,(IF($D$27=1,$D$21*$E$34*$K$34*Konstante_Werte!$E$68, IF(AND($D$27<>1,$D$27/($K$34+1)<1),Konstante_Werte!$E$68*$E$34*$D$21*$K$34/$D$27,IF(MOD($C150,$D$27)=0,0,IF(INT(MOD(($C150-$D$27*INT(($C150-1)/$D$27)),($D$27/($K$34+1))))<>0,0,Konstante_Werte!$E$68*$E$34*$D$21))))),0)","v":0},"-",1007.7688247797125,659.83231619646199,0,0,1667.6011409761745,"Euro/a",8.4299843525176017E-3]
[null,null,6,{"$f":"IF($D$21>0,(IF(MOD(($C151-1),$D$27)<>0,0,Konstante_Werte!$E$63*$D$21)),0)","v":0},{"$f":"IF($E$21>0,(IF(MOD(($C151-1),$D$30)<>0,0,Konstante_Werte!$E$66*$E$21)),0)","v":0},{"$f":"IF($D$21>0,(IF($D$27=1,$D$21*$D$34*$J$34*Konstante_Werte!$E$67, IF(AND($D$27<>1,$D$27/($J$34+1)<1),Konstante_Werte!$E$67*$D$34*$D$21*$J$34/$D$27,IF(MOD($C151,$D$27)=0,0,IF(INT(MOD(($C151-$D$27*INT(($C151-1)/$D$27)),($D$27/($J$34+1))))<>0,0,Konstante_Werte!$E$67*$D$34*$D$21))))),0)","v":0},{"$f":"IF($D$21>0,(IF($D$27=1,$D$21*$E$34*$K$34*Konstante_Werte!$E$68, IF(AND($D$27<>1,$D$27/($K$34+1)<1),Konstante_Werte!$E$68*$E$34*$D$21*$K$34/$D$27,IF(MOD($C151,$D$27)=0,0,IF(INT(MOD(($C151-$D$27*INT(($C151-1)/$D$27)),($D$27/($K$34+1))))<>0,0,Konstante_Werte!$E$68*$E$34*$D$21))))),0)","v":0},"-",1013.5732529661299,663.63274065916255,0,0,1677.2059936252924,"Euro/a",8.4785383835450107E-3]
[null,null,7,{"$f":"IF($D$21>0,(IF(MOD(($C152-1),$D$27)<>0,0,Konstante_Werte!$E$63*$D$21)),0)","v":31200},{"$f":"IF($E$21>0,(IF(MOD(($C152-1),$D$30)<>0,0,Konstante_Werte!$E$66*$E$21)),0)","v":22680},{"$f":"IF($D$21>0,(IF($D$27=1,$D$21*$D$34*$J$34*Konstante_Werte!$E$67, IF(AND($D$27<>1,$D$27/($J$34+1)<1),Konstante_Werte!$E$67*$D$34*$D$21*$J$34/$D$27,IF(MOD($C152,$D$27)=0,0,IF(INT(MOD(($C152-$D$27*INT(($C152-1)/$D$27)),($D$27/($J$34+1))))<>0,0,Konstante_Werte!$E$67*$D$34*$D$21))))),0)","v":0},{"$f":"IF($D$21>0,(IF($D$27=1,$D$21*$E$34*$K$34*Konstante_Werte!$E$68, IF(AND($D$27<>1,$D$27/($K$34+1)<1),Konstante_Werte!$E$68*$E$34*$D$21*$K$34/$D$27,IF(MOD($C152,$D$27)=0,0,IF(INT(MOD(($C152-$D$27*INT(($C152-1)/$D$27)),($D$27/($K$34+1))))<>0,0,Konstante_Werte!$E$68*$E$34*$D$21))))),0)","v":0},"-",749.36084224286924,490.64079781603289,20817.737556,16749.532272,92687.271468058898,"Euro/a",0.46854864089137188]
[null,null,8,{"$f":"IF($D$21>0,(IF(MOD(($C153-1),$D$27)<>0,0,Konstante_Werte!$E$63*$D$21)),0)","v":0},{"$f":"IF($E$21>0,(IF(MOD(($C153-1),$D$30)<>0,0,Konstante_Werte!$E$66*$E$21)),0)","v":0},{"$f":"IF($D$21>0,(IF($D$27=1,$D$21*$D$34*$J$34*Konstante_Werte!$E$67, IF(AND($D$27<>1,$D$27/($J$34+1)<1),Konstante_Werte!$E$67*$D$34*$D$21*$J$34/$D$27,IF(MOD($C153,$D$27)=0,0,IF(INT(MOD(($C153-$D$27*INT(($C153-1)/$D$27)),($D$27/($J$34+1))))<>0,0,Konstante_Werte!$E$67*$D$34*$D$21))))),0)","v":0},{"$f":"IF($D$21>0,(IF($D$27=1,$D$21*$E$34*$K$34*Konstante_Werte!$E$68, IF(AND($D$27<>1,$D$27/($K$34+1)<1),Konstante_Werte!$E$68*$E$34*$D$21*$K$34/$D$27,IF(MOD($C153,$D$27)=0,0,IF(INT(MOD(($C153-$D$27*INT(($C153-1)/$D$27)),($D$27/($K$34+1))))<>0,0,Konstante_Werte!$E$68*$E$34*$D$21))))),0)","v":0},"-",753.67692256561861,493.46673289779346,0,0,1247.143655463412,"Euro/a",6.3045060611699195E-3]
[null,null,9,{"$f":"IF($D$21>0,(IF(MOD(($C154-1),$D$27)<>0,0,Konstante_Werte!$E$63*$D$21)),0)","v":0},{"$f":"IF($E$21>0,(IF(MOD(($C154-1),$D$30)<>0,0,Konstante_Werte!$E$66*$E$21)),0)","v":0},{"$f":"IF($D$21>0,(IF($D$27=1,$D$21*$D$34*$J$34*Konstante_Werte!$E$67, IF(AND($D$27<>1,$D$27/($J$34+1)<1),Konstante_Werte!$E$67*$D$34*$D$21*$J$34/$D$27,IF(MOD($C154,$D$27)=0,0,IF(INT(MOD(($C154-$D$27*INT(($C154-1)/$D$27)),($D$27/($J$34+1))))<>0,0,Konstante_Werte!$E$67*$D$34*$D$21))))),0)","v":0},{"$f":"IF($D$21>0,(IF($D$27=1,$D$21*$E$34*$K$34*Konstante_Werte!$E$68, IF(AND($D$27<>1,$D$27/($K$34+1)<1),Konstante_Werte!$E$68*$E$34*$D$21*$K$34/$D$27,IF(MOD($C154,$D$27)=0,0,IF(INT(MOD(($C154-$D$27*INT(($C154-1)/$D$27)),($D$27/($K$34+1))))<>0,0,Konstante_Werte!$E$68*$E$34*$D$21))))),0)","v":0},"-",758.0178621394823,496.30894446761209,0,0,1254.3268066070943,"Euro/a",6.3408180126642462E-3]
[null,null,10,{"$f":"IF($D$21>0,(IF(MOD(($C155-1),$D$27)<>0,0,Konstante_Werte!$E$63*$D$21)),0)","v":0},{"$f":"IF($E$21>0,(IF(MOD(($C155-1),$D$30)<>0,0,Konstante_Werte!$E$66*$E$21)),0)","v":0},{"$f":"IF($D$21>0,(IF($D$27=1,$D$21*$D$34*$J$34*Konstante_Werte!$E$67, IF(AND($D$27<>1,$D$27/($J$34+1)<1),Konstante_Werte!$E$67*$D$34*$D$21*$J$34/$D$27,IF(MOD($C155,$D$27)=0,0,IF(INT(MOD(($C155-$D$27*INT(($C155-1)/$D$27)),($D$27/($J$34+1))))<>0,0,Konstante_Werte!$E$67*$D$34*$D$21))))),0)","v":0},{"$f":"IF($D$21>0,(IF($D$27=1,$D$21*$E$34*$K$34*Konstante_Werte!$E$68, IF(AND($D$27<>1,$D$27/($K$34+1)<1),Konstante_Werte!$E$68*$E$34*$D$21*$K$34/$D$27,IF(MOD($C155,$D$27)=0,0,IF(INT(MOD(($C155-$D$27*INT(($C155-1)/$D$27)),($D$27/($K$34+1))))<>0,0,Konstante_Werte!$E$68*$E$34*$D$21))))),0)","v":0},"-",762.38380414584674,499.16752627288736,0,0,1261.5513304187341,"Euro/a",6.3773391094601286E-3]
[null,null,11,{"$f":"IF($D$21>0,(IF(MOD(($C156-1),$D$27)<>0,0,Konstante_Werte!$E$63*$D$21)),0)","v":0},{"$f":"IF($E$21>0,(IF(MOD(($C156-1),$D$30)<>0,0,Konstante_Werte!$E$66*$E$21)),0)","v":0},{"$f":"IF($D$21>0,(IF($D$27=1,$D$21*$D$34*$J$34*Konstante_Werte!$E$67, IF(AND($D$27<>1,$D$27/($J$34+1)<1),Konstante_Werte!$E$67*$D$34*$D$21*$J$34/$D$27,IF(MOD($C156,$D$27)=0,0,IF(INT(MOD(($C156-$D$27*INT(($C156-1)/$D$27)),($D$27/($J$34+1))))<>0,0,Konstante_Werte!$E$67*$D$34*$D$21))))),0)","v":0},{"$f":"IF($D$21>0,(IF($D$27=1,$D$21*$E$34*$K$34*Konstante_Werte!$E$68, IF(AND($D$27<>1,$D$27/($K$34+1)<1),Konstante_Werte!$E$68*$E$34*$D$21*$K$34/$D$27,IF(MOD($C156,$D$27)=0,0,IF(INT(MOD(($C156-$D$27*INT(($C156-1)/$D$27)),($D$27/($K$34+1))))<>0,0,Konstante_Werte!$E$68*$E$34*$D$21))))),0)","v":0},"-",766.77489259077834,502.04257260097347,0,0,1268.8174651917518,"Euro/a","-"]
[null,null,12,{"$f":"IF($D$21>0,(IF(MOD(($C157-1),$D$27)<>0,0,Konstante_Werte!$E$63*$D$21)),0)","v":0},{"$f":"IF($E$21>0,(IF(MOD(($C157-1),$D$30)<>0,0,Konstante_Werte!$E$66*$E$21)),0)","v":0},{"$f":"IF($D$21>0,(IF($D$27=1,$D$21*$D$34*$J$34*Konstante_Werte!$E$67, IF(AND($D$27<>1,$D$27/($J$34+1)<1),Konstante_Werte!$E$67*$D$34*$D$21*$J$34/$D$27,IF(MOD($C157,$D$27)=0,0,IF(INT(MOD(($C157-$D$27*INT(($C157-1)/$D$27)),($D$27/($J$34+1))))<>0,0,Konstante_Werte!$E$67*$D$34*$D$21))))),0)","v":0},{"$f":"IF($D$21>0,(IF($D$27=1,$D$21*$E$34*$K$34*Konstante_Werte!$E$68, IF(AND($D$27<>1,$D$27/($K$34+1)<1),Konstante_Werte!$E$68*$E$34*$D$21*$K$34/$D$27,IF(MOD($C157,$D$27)=0,0,IF(INT(MOD(($C157-$D$27*INT(($C157-1)/$D$27)),($D$27/($K$34+1))))<>0,0,Konstante_Werte!$E$68*$E$34*$D$21))))),0)","v":0},"-",771.19127230977176,504.93417828228985,0,0,1276.1254505920615,"Euro/a","-"]
[null,null,"Summe über Betrachtungszeitraum",{"$f":"SUM(D146:OFFSET(D146,$F$89-1,0))","v":62400},{"$f":"SUM(E146:OFFSET(E146,$F$89-1,0))","v":45360},{"$f":"SUM(F146:OFFSET(F146,$F$89-1,0))","v":0},{"$f":"SUM(G146:OFFSET(G146,$F$89-1,0))","v":0},"-",{"$f":"SUM(I146:OFFSET(I146,$F$89-1,0))","v":9018.4744814552632},{"$f":"SUM(J146:OFFSET(J146,$F$89-1,0))","v":5904.8074909025572},{"$f":"SUM(K146:OFFSET(K146,$F$89-1,0))","v":41635.475112},{"$f":"SUM(L146:OFFSET(L146,$F$89-1,0))","v":33499.064544000001},{"$f":"SUM(M146:OFFSET(M146,$F$89-1,0))","v":197817.82162835784},"Euro/Betrachtungszeitraum","-"]
[]
[null,null,"APC mit Notebook (für alle Geräte)"]
[null,null,"In EURO ","Anschaffungskosten",null,null,null,null,"Energiekosten",null,"Bruttopersonal-kosten","Sach-und Gemeinkosten","Summe",null,"Anteil"]
[null,null,"Jahr (max: 12 Jahre)","Notebook","Monitor","Ersatz HDD durch SSD","RAM hinzufügen","Wechsel des Akkus",{"$f":"E128","v":"Notebook"},{"$f":"G128","v":"Monitor"}]
[null,null,1,{"$f":"IF($D$22>0,(IF(MOD(($C146-1),$D$28)<>0,0,Konstante_Werte!$E$64*$D$22)),0)","v":21550},{"$f":"IF($E$22>0,(IF(MOD(($C163-1),$D$30)<>0,0,Konstante_Werte!$E$66*$E$22)),0)","v":9450},{"$f":"IF($D$22>0,(IF($D$28=1,$D$22*$D$35*$J$35*Konstante_Werte!$E$67, IF(AND($D$28<>1,$D$28/($J$35+1)<1),Konstante_Werte!$E$67*$D$35*$D$22*$J$35/$D$28,IF(MOD($C163,$D$28)=0,0,IF(INT(MOD(($C163-$D$28*INT(($C163-1)/$D$28)),($D$28/($J$35+1))))<>0,0,Konstante_Werte!$E$67*$D$35*$D$22))))),0)","v":0},{"$f":"IF($D$22>0,(IF($D$28=1,$D$22*$E$35*$K$35*Konstante_Werte!$E$68, IF(AND($D$28<>1,$D$28/($K$35+1)<1),Konstante_Werte!$E$68*$E$35*$D$22*$K$35/$D$28,IF(MOD($C163,$D$28)=0,0,IF(INT(MOD(($C163-$D$28*INT(($C163-1)/$D$28)),($D$28/($K$35+1))))<>0,0,Konstante_Werte!$E$68*$E$35*$D$22))))),0)","v":0},{"$f":"IF($D$22>0,(IF($D$28=1,$D$22*$F$35*$L$35*Konstante_Werte!$E$69, IF(AND($D$28<>1,$D$28/($L$35+1)<1),Konstante_Werte!$E$69*$F$35*$D$22*$L$35/$D$28,IF(MOD($C163,$D$28)=0,0,IF(INT(MOD(($C163-$D$28*INT(($C163-1)/$D$28)),($D$28/($L$35+1))))<>0,0,Konstante_Werte!$E$69*$F$35*$D$22))))),0)","v":0},{"$f":"IF($D$22>0, E129*$D$22,\"0\")","v":155.85540399999996},{"$f":"G129*$E$22","v":268.68625600000001},{"$f":"IF($D$22>0,(IF(MOD(($C163-1),$D$28)<>0,0,$K$13*$D$22)),0)+IF($E$22>0,(IF(MOD(($C163-1),$D$30)<>0,0,$K$13*$E$22)),0)","v":9462.6079800000007},{"$f":"IF($D$22>0,(IF(MOD(($C163-1),$D$28)<>0,0,$K$14*$D$22)),0)+IF($E$22>0,(IF(MOD(($C163-1),$D$30)<>0,0,$K$14*$E$22)),0)","v":7613.4237600000006},{"$f":"SUM(D163:L163)","v":48500.573400000001},"Euro/a",{"$f":"IF($M$175<>0,(IF(C163<=$F$89,M163/$M$175,\"-\")),0)","v":0.4672972514544429}]
[null,null,{"$f":"C163+1","v":2},{"$f":"IF($D$22>0,(IF(MOD(($C147-1),$D$28)<>0,0,Konstante_Werte!$E$64*$D$22)),0)","v":0},{"$f":"IF($E$22>0,(IF(MOD(($C164-1),$D$30)<>0,0,Konstante_Werte!$E$66*$E$22)),0)","v":0},{"$f":"IF($D$22>0,(IF($D$28=1,$D$22*$D$35*$J$35*Konstante_Werte!$E$67, IF(AND($D$28<>1,$D$28/($J$35+1)<1),Konstante_Werte!$E$67*$D$35*$D$22*$J$35/$D$28,IF(MOD($C164,$D$28)=0,0,IF(INT(MOD(($C164-$D$28*INT(($C164-1)/$D$28)),($D$28/($J$35+1))))<>0,0,Konstante_Werte!$E$67*$D$35*$D$22))))),0)","v":0},{"$f":"IF($D$22>0,(IF($D$28=1,$D$22*$E$35*$K$35*Konstante_Werte!$E$68, IF(AND($D$28<>1,$D$28/($K$35+1)<1),Konstante_Werte!$E$68*$E$35*$D$22*$K$35/$D$28,IF(MOD($C164,$D$28)=0,0,IF(INT(MOD(($C164-$D$28*INT(($C164-1)/$D$28)),($D$28/($K$35+1))))<>0,0,Konstante_Werte!$E$68*$E$35*$D$22))))),0)","v":0},{"$f":"IF($D$22>0,(IF($D$28=1,$D$22*$F$35*$L$35*Konstante_Werte!$E$69, IF(AND($D$28<>1,$D$28/($L$35+1)<1),Konstante_Werte!$E$69*$F$35*$D$22*$L$35/$D$28,IF(MOD($C164,$D$28)=0,0,IF(INT(MOD(($C164-$D$28*INT(($C164-1)/$D$28)),($D$28/($L$35+1))))<>0,0,Konstante_Werte!$E$69*$F$35*$D$22))))),0)","v":0},156.7530816,270.23380345263161,0,0,{"$f":"SUM(D164:L164)","v":426.98688505263158},"Euro/a",4.1139678111968237E-3]
[null,null,{"$f":"C164+1","v":3},{"$f":"IF($D$22>0,(IF(MOD(($C148-1),$D$28)<>0,0,Konstante_Werte!$E$64*$D$22)),0)","v":0},{"$f":"IF($E$22>0,(IF(MOD(($C165-1),$D$30)<>0,0,Konstante_Werte!$E$66*$E$22)),0)","v":0},{"$f":"IF($D$22>0,(IF($D$28=1,$D$22*$D$35*$J$35*Konstante_Werte!$E$67, IF(AND($D$28<>1,$D$28/($J$35+1)<1),Konstante_Werte!$E$67*$D$35*$D$22*$J$35/$D$28,IF(MOD($C165,$D$28)=0,0,IF(INT(MOD(($C165-$D$28*INT(($C165-1)/$D$28)),($D$28/($J$35+1))))<>0,0,Konstante_Werte!$E$67*$D$35*$D$22))))),0)","v":0},{"$f":"IF($D$22>0,(IF($D$28=1,$D$22*$E$35*$K$35*Konstante_Werte!$E$68, IF(AND($D$28<>1,$D$28/($K$35+1)<1),Konstante_Werte!$E$68*$E$35*$D$22*$K$35/$D$28,IF(MOD($C165,$D$28)=0,0,IF(INT(MOD(($C165-$D$28*INT(($C165-1)/$D$28)),($D$28/($K$35+1))))<>0,0,Konstante_Werte!$E$68*$E$35*$D$22))))),0)","v":0},{"$f":"IF($D$22>0,(IF($D$28=1,$D$22*$F$35*$L$35*Konstante_Werte!$E$69, IF(AND($D$28<>1,$D$28/($L$35+1)<1),Konstante_Werte!$E$69*$F$35*$D$22*$L$35/$D$28,IF(MOD($C165,$D$28)=0,0,IF(INT(MOD(($C165-$D$28*INT(($C165-1)/$D$28)),($D$28/($L$35+1))))<>0,0,Konstante_Werte!$E$69*$F$35*$D$22))))),0)","v":1875},157.65592953771596,271.7902642868176,0,0,2304.4461938245336,"Euro/a",2.2203064768278737E-2]
[null,null,4,{"$f":"IF($D$22>0,(IF(MOD(($C149-1),$D$28)<>0,0,Konstante_Werte!$E$64*$D$22)),0)","v":0},{"$f":"IF($E$22>0,(IF(MOD(($C166-1),$D$30)<>0,0,Konstante_Werte!$E$66*$E$22)),0)","v":0},{"$f":"IF($D$22>0,(IF($D$28=1,$D$22*$D$35*$J$35*Konstante_Werte!$E$67, IF(AND($D$28<>1,$D$28/($J$35+1)<1),Konstante_Werte!$E$67*$D$35*$D$22*$J$35/$D$28,IF(MOD($C166,$D$28)=0,0,IF(INT(MOD(($C166-$D$28*INT(($C166-1)/$D$28)),($D$28/($J$35+1))))<>0,0,Konstante_Werte!$E$67*$D$35*$D$22))))),0)","v":0},{"$f":"IF($D$22>0,(IF($D$28=1,$D$22*$E$35*$K$35*Konstante_Werte!$E$68, IF(AND($D$28<>1,$D$28/($K$35+1)<1),Konstante_Werte!$E$68*$E$35*$D$22*$K$35/$D$28,IF(MOD($C166,$D$28)=0,0,IF(INT(MOD(($C166-$D$28*INT(($C166-1)/$D$28)),($D$28/($K$35+1))))<>0,0,Konstante_Werte!$E$68*$E$35*$D$22))))),0)","v":0},{"$f":"IF($D$22>0,(IF($D$28=1,$D$22*$F$35*$L$35*Konstante_Werte!$E$69, IF(AND($D$28<>1,$D$28/($L$35+1)<1),Konstante_Werte!$E$69*$F$35*$D$22*$L$35/$D$28,IF(MOD($C166,$D$28)=0,0,IF(INT(MOD(($C166-$D$28*INT(($C166-1)/$D$28)),($D$28/($L$35+1))))<>0,0,Konstante_Werte!$E$69*$F$35*$D$22))))),0)","v":0},158.56397759265019,273.35568984080322,0,0,431.91966743345341,"Euro/a",4.1614945822634301E-3]
[null,null,5,{"$f":"IF($D$22>0,(IF(MOD(($C150-1),$D$28)<>0,0,Konstante_Werte!$E$64*$D$22)),0)","v":0},{"$f":"IF($E$22>0,(IF(MOD(($C167-1),$D$30)<>0,0,Konstante_Werte!$E$66*$E$22)),0)","v":0},{"$f":"IF($D$22>0,(IF($D$28=1,$D$22*$D$35*$J$35*Konstante_Werte!$E$67, IF(AND($D$28<>1,$D$28/($J$35+1)<1),Konstante_Werte!$E$67*$D$35*$D$22*$J$35/$D$28,IF(MOD($C167,$D$28)=0,0,IF(INT(MOD(($C167-$D$28*INT(($C167-1)/$D$28)),($D$28/($J$35+1))))<>0,0,Konstante_Werte!$E$67*$D$35*$D$22))))),0)","v":0},{"$f":"IF($D$22>0,(IF($D$28=1,$D$22*$E$35*$K$35*Konstante_Werte!$E$68, IF(AND($D$28<>1,$D$28/($K$35+1)<1),Konstante_Werte!$E$68*$E$35*$D$22*$K$35/$D$28,IF(MOD($C167,$D$28)=0,0,IF(INT(MOD(($C167-$D$28*INT(($C167-1)/$D$28)),($D$28/($K$35+1))))<>0,0,Konstante_Werte!$E$68*$E$35*$D$22))))),0)","v":0},{"$f":"IF($D$22>0,(IF($D$28=1,$D$22*$F$35*$L$35*Konstante_Werte!$E$69, IF(AND($D$28<>1,$D$28/($L$35+1)<1),Konstante_Werte!$E$69*$F$35*$D$22*$L$35/$D$28,IF(MOD($C167,$D$28)=0,0,IF(INT(MOD(($C167-$D$28*INT(($C167-1)/$D$28)),($D$28/($L$35+1))))<>0,0,Konstante_Werte!$E$69*$F$35*$D$22))))),0)","v":0},159.47725571582535,274.93013174852587,0,0,434.40738746435125,"Euro/a",4.1854634686359507E-3]
[null,null,6,{"$f":"IF($D$22>0,(IF(MOD(($C151-1),$D$28)<>0,0,Konstante_Werte!$E$64*$D$22)),0)","v":0},{"$f":"IF($E$22>0,(IF(MOD(($C168-1),$D$30)<>0,0,Konstante_Werte!$E$66*$E$22)),0)","v":0},{"$f":"IF($D$22>0,(IF($D$28=1,$D$22*$D$35*$J$35*Konstante_Werte!$E$67, IF(AND($D$28<>1,$D$28/($J$35+1)<1),Konstante_Werte!$E$67*$D$35*$D$22*$J$35/$D$28,IF(MOD($C168,$D$28)=0,0,IF(INT(MOD(($C168-$D$28*INT(($C168-1)/$D$28)),($D$28/($J$35+1))))<>0,0,Konstante_Werte!$E$67*$D$35*$D$22))))),0)","v":0},{"$f":"IF($D$22>0,(IF($D$28=1,$D$22*$E$35*$K$35*Konstante_Werte!$E$68, IF(AND($D$28<>1,$D$28/($K$35+1)<1),Konstante_Werte!$E$68*$E$35*$D$22*$K$35/$D$28,IF(MOD($C168,$D$28)=0,0,IF(INT(MOD(($C168-$D$28*INT(($C168-1)/$D$28)),($D$28/($K$35+1))))<>0,0,Konstante_Werte!$E$68*$E$35*$D$22))))),0)","v":0},{"$f":"IF($D$22>0,(IF($D$28=1,$D$22*$F$35*$L$35*Konstante_Werte!$E$69, IF(AND($D$28<>1,$D$28/($L$35+1)<1),Konstante_Werte!$E$69*$F$35*$D$22*$L$35/$D$28,IF(MOD($C168,$D$28)=0,0,IF(INT(MOD(($C168-$D$28*INT(($C168-1)/$D$28)),($D$28/($L$35+1))))<>0,0,Konstante_Werte!$E$69*$F$35*$D$22))))),0)","v":0},160.39579403077249,276.5136419413177,0,0,436.90943597209019,"Euro/a",4.2095704081772491E-3]
[null,null,7,{"$f":"IF($D$22>0,(IF(MOD(($C152-1),$D$28)<>0,0,Konstante_Werte!$E$64*$D$22)),0)","v":21550},{"$f":"IF($E$22>0,(IF(MOD(($C169-1),$D$30)<>0,0,Konstante_Werte!$E$66*$E$22)),0)","v":9450},{"$f":"IF($D$22>0,(IF($D$28=1,$D$22*$D$35*$J$35*Konstante_Werte!$E$67, IF(AND($D$28<>1,$D$28/($J$35+1)<1),Konstante_Werte!$E$67*$D$35*$D$22*$J$35/$D$28,IF(MOD($C169,$D$28)=0,0,IF(INT(MOD(($C169-$D$28*INT(($C169-1)/$D$28)),($D$28/($J$35+1))))<>0,0,Konstante_Werte!$E$67*$D$35*$D$22))))),0)","v":0},{"$f":"IF($D$22>0,(IF($D$28=1,$D$22*$E$35*$K$35*Konstante_Werte!$E$68, IF(AND($D$28<>1,$D$28/($K$35+1)<1),Konstante_Werte!$E$68*$E$35*$D$22*$K$35/$D$28,IF(MOD($C169,$D$28)=0,0,IF(INT(MOD(($C169-$D$28*INT(($C169-1)/$D$28)),($D$28/($K$35+1))))<>0,0,Konstante_Werte!$E$68*$E$35*$D$22))))),0)","v":0},{"$f":"IF($D$22>0,(IF($D$28=1,$D$22*$F$35*$L$35*Konstante_Werte!$E$69, IF(AND($D$28<>1,$D$28/($L$35+1)<1),Konstante_Werte!$E$69*$F$35*$D$22*$L$35/$D$28,IF(MOD($C169,$D$28)=0,0,IF(INT(MOD(($C169-$D$28*INT(($C169-1)/$D$28)),($D$28/($L$35+1))))<>0,0,Konstante_Werte!$E$69*$F$35*$D$22))))),0)","v":0},118.58474654434271,204.43366575668037,9462.6079800000007,7613.4237600000006,48399.050152301024,"Euro/a",0.46631908704765962]
[null,null,8,{"$f":"IF($D$22>0,(IF(MOD(($C153-1),$D$28)<>0,0,Konstante_Werte!$E$64*$D$22)),0)","v":0},{"$f":"IF($E$22>0,(IF(MOD(($C170-1),$D$30)<>0,0,Konstante_Werte!$E$66*$E$22)),0)","v":0},{"$f":"IF($D$22>0,(IF($D$28=1,$D$22*$D$35*$J$35*Konstante_Werte!$E$67, IF(AND($D$28<>1,$D$28/($J$35+1)<1),Konstante_Werte!$E$67*$D$35*$D$22*$J$35/$D$28,IF(MOD($C170,$D$28)=0,0,IF(INT(MOD(($C170-$D$28*INT(($C170-1)/$D$28)),($D$28/($J$35+1))))<>0,0,Konstante_Werte!$E$67*$D$35*$D$22))))),0)","v":0},{"$f":"IF($D$22>0,(IF($D$28=1,$D$22*$E$35*$K$35*Konstante_Werte!$E$68, IF(AND($D$28<>1,$D$28/($K$35+1)<1),Konstante_Werte!$E$68*$E$35*$D$22*$K$35/$D$28,IF(MOD($C170,$D$28)=0,0,IF(INT(MOD(($C170-$D$28*INT(($C170-1)/$D$28)),($D$28/($K$35+1))))<>0,0,Konstante_Werte!$E$68*$E$35*$D$22))))),0)","v":0},{"$f":"IF($D$22>0,(IF($D$28=1,$D$22*$F$35*$L$35*Konstante_Werte!$E$69, IF(AND($D$28<>1,$D$28/($L$35+1)<1),Konstante_Werte!$E$69*$F$35*$D$22*$L$35/$D$28,IF(MOD($C170,$D$28)=0,0,IF(INT(MOD(($C170-$D$28*INT(($C170-1)/$D$28)),($D$28/($L$35+1))))<>0,0,Konstante_Werte!$E$69*$F$35*$D$22))))),0)","v":0},119.26775700110257,205.61113870741394,0,0,324.8788957085165,"Euro/a",3.1301694882672122E-3]
[null,null,9,{"$f":"IF($D$22>0,(IF(MOD(($C154-1),$D$28)<>0,0,Konstante_Werte!$E$64*$D$22)),0)","v":0},{"$f":"IF($E$22>0,(IF(MOD(($C171-1),$D$30)<>0,0,Konstante_Werte!$E$66*$E$22)),0)","v":0},{"$f":"IF($D$22>0,(IF($D$28=1,$D$22*$D$35*$J$35*Konstante_Werte!$E$67, IF(AND($D$28<>1,$D$28/($J$35+1)<1),Konstante_Werte!$E$67*$D$35*$D$22*$J$35/$D$28,IF(MOD($C171,$D$28)=0,0,IF(INT(MOD(($C171-$D$28*INT(($C171-1)/$D$28)),($D$28/($J$35+1))))<>0,0,Konstante_Werte!$E$67*$D$35*$D$22))))),0)","v":0},{"$f":"IF($D$22>0,(IF($D$28=1,$D$22*$E$35*$K$35*Konstante_Werte!$E$68, IF(AND($D$28<>1,$D$28/($K$35+1)<1),Konstante_Werte!$E$68*$E$35*$D$22*$K$35/$D$28,IF(MOD($C171,$D$28)=0,0,IF(INT(MOD(($C171-$D$28*INT(($C171-1)/$D$28)),($D$28/($K$35+1))))<>0,0,Konstante_Werte!$E$68*$E$35*$D$22))))),0)","v":0},{"$f":"IF($D$22>0,(IF($D$28=1,$D$22*$F$35*$L$35*Konstante_Werte!$E$69, IF(AND($D$28<>1,$D$28/($L$35+1)<1),Konstante_Werte!$E$69*$F$35*$D$22*$L$35/$D$28,IF(MOD($C171,$D$28)=0,0,IF(INT(MOD(($C171-$D$28*INT(($C171-1)/$D$28)),($D$28/($L$35+1))))<>0,0,Konstante_Werte!$E$69*$F$35*$D$22))))),0)","v":1875},119.95470138104936,206.7953935281717,0,0,2201.7500949092209,"Euro/a",2.1213600079636123E-2]
[null,null,10,{"$f":"IF($D$22>0,(IF(MOD(($C155-1),$D$28)<>0,0,Konstante_Werte!$E$64*$D$22)),0)","v":0},{"$f":"IF($E$22>0,(IF(MOD(($C172-1),$D$30)<>0,0,Konstante_Werte!$E$66*$E$22)),0)","v":0},{"$f":"IF($D$22>0,(IF($D$28=1,$D$22*$D$35*$J$35*Konstante_Werte!$E$67, IF(AND($D$28<>1,$D$28/($J$35+1)<1),Konstante_Werte!$E$67*$D$35*$D$22*$J$35/$D$28,IF(MOD($C172,$D$28)=0,0,IF(INT(MOD(($C172-$D$28*INT(($C172-1)/$D$28)),($D$28/($J$35+1))))<>0,0,Konstante_Werte!$E$67*$D$35*$D$22))))),0)","v":0},{"$f":"IF($D$22>0,(IF($D$28=1,$D$22*$E$35*$K$35*Konstante_Werte!$E$68, IF(AND($D$28<>1,$D$28/($K$35+1)<1),Konstante_Werte!$E$68*$E$35*$D$22*$K$35/$D$28,IF(MOD($C172,$D$28)=0,0,IF(INT(MOD(($C172-$D$28*INT(($C172-1)/$D$28)),($D$28/($K$35+1))))<>0,0,Konstante_Werte!$E$68*$E$35*$D$22))))),0)","v":0},{"$f":"IF($D$22>0,(IF($D$28=1,$D$22*$F$35*$L$35*Konstante_Werte!$E$69, IF(AND($D$28<>1,$D$28/($L$35+1)<1),Konstante_Werte!$E$69*$F$35*$D$22*$L$35/$D$28,IF(MOD($C172,$D$28)=0,0,IF(INT(MOD(($C172-$D$28*INT(($C172-1)/$D$28)),($D$28/($L$35+1))))<>0,0,Konstante_Werte!$E$69*$F$35*$D$22))))),0)","v":0},120.64560234233048,207.98646928036973,0,0,328.63207162270021,"Euro/a",3.1663308914419435E-3]
[null,null,11,{"$f":"IF($D$22>0,(IF(MOD(($C156-1),$D$28)<>0,0,Konstante_Werte!$E$64*$D$22)),0)","v":0},{"$f":"IF($E$22>0,(IF(MOD(($C173-1),$D$30)<>0,0,Konstante_Werte!$E$66*$E$22)),0)","v":0},{"$f":"IF($D$22>0,(IF($D$28=1,$D$22*$D$35*$J$35*Konstante_Werte!$E$67, IF(AND($D$28<>1,$D$28/($J$35+1)<1),Konstante_Werte!$E$67*$D$35*$D$22*$J$35/$D$28,IF(MOD($C173,$D$28)=0,0,IF(INT(MOD(($C173-$D$28*INT(($C173-1)/$D$28)),($D$28/($J$35+1))))<>0,0,Konstante_Werte!$E$67*$D$35*$D$22))))),0)","v":0},{"$f":"IF($D$22>0,(IF($D$28=1,$D$22*$E$35*$K$35*Konstante_Werte!$E$68, IF(AND($D$28<>1,$D$28/($K$35+1)<1),Konstante_Werte!$E$68*$E$35*$D$22*$K$35/$D$28,IF(MOD($C173,$D$28)=0,0,IF(INT(MOD(($C173-$D$28*INT(($C173-1)/$D$28)),($D$28/($K$35+1))))<>0,0,Konstante_Werte!$E$68*$E$35*$D$22))))),0)","v":0},{"$f":"IF($D$22>0,(IF($D$28=1,$D$22*$F$35*$L$35*Konstante_Werte!$E$69, IF(AND($D$28<>1,$D$28/($L$35+1)<1),Konstante_Werte!$E$69*$F$35*$D$22*$L$35/$D$28,IF(MOD($C173,$D$28)=0,0,IF(INT(MOD(($C173-$D$28*INT(($C173-1)/$D$28)),($D$28/($L$35+1))))<>0,0,Konstante_Werte!$E$69*$F$35*$D$22))))),0)","v":0},121.34048267359714,209.18440525040563,0,0,330.52488792400277,"Euro/a","-"]
[null,null,12,{"$f":"IF($D$22>0,(IF(MOD(($C157-1),$D$28)<>0,0,Konstante_Werte!$E$64*$D$22)),0)","v":0},{"$f":"IF($E$22>0,(IF(MOD(($C174-1),$D$30)<>0,0,Konstante_Werte!$E$66*$E$22)),0)","v":0},{"$f":"IF($D$22>0,(IF($D$28=1,$D$22*$D$35*$J$35*Konstante_Werte!$E$67, IF(AND($D$28<>1,$D$28/($J$35+1)<1),Konstante_Werte!$E$67*$D$35*$D$22*$J$35/$D$28,IF(MOD($C174,$D$28)=0,0,IF(INT(MOD(($C174-$D$28*INT(($C174-1)/$D$28)),($D$28/($J$35+1))))<>0,0,Konstante_Werte!$E$67*$D$35*$D$22))))),0)","v":0},{"$f":"IF($D$22>0,(IF($D$28=1,$D$22*$E$35*$K$35*Konstante_Werte!$E$68, IF(AND($D$28<>1,$D$28/($K$35+1)<1),Konstante_Werte!$E$68*$E$35*$D$22*$K$35/$D$28,IF(MOD($C174,$D$28)=0,0,IF(INT(MOD(($C174-$D$28*INT(($C174-1)/$D$28)),($D$28/($K$35+1))))<>0,0,Konstante_Werte!$E$68*$E$35*$D$22))))),0)","v":0},{"$f":"IF($D$22>0,(IF($D$28=1,$D$22*$F$35*$L$35*Konstante_Werte!$E$69, IF(AND($D$28<>1,$D$28/($L$35+1)<1),Konstante_Werte!$E$69*$F$35*$D$22*$L$35/$D$28,IF(MOD($C174,$D$28)=0,0,IF(INT(MOD(($C174-$D$28*INT(($C174-1)/$D$28)),($D$28/($L$35+1))))<>0,0,Konstante_Werte!$E$69*$F$35*$D$22))))),0)","v":0},122.03936529475587,210.3892409509541,0,0,332.42860624570994,"Euro/a","-"]
[null,null,"Summe über Betrachtungszeitraum",{"$f":"SUM(D163:OFFSET(D163,$F$89-1,0))","v":43100},{"$f":"SUM(E163:OFFSET(E163,$F$89-1,0))","v":18900},{"$f":"SUM(F163:OFFSET(F163,$F$89-1,0))","v":0},{"$f":"SUM(G163:OFFSET(G163,$F$89-1,0))","v":0},{"$f":"SUM(H163:OFFSET(H163,$F$89-1,0))","v":3750},{"$f":"SUM(I163:OFFSET(I163,$F$89-1,0))","v":1427.1542497457892},{"$f":"SUM(J163:OFFSET(J163,$F$89-1,0))","v":2460.3364545427316},{"$f":"SUM(K163:OFFSET(K163,$F$89-1,0))","v":18925.215960000001},{"$f":"SUM(L163:OFFSET(L163,$F$89-1,0))","v":15226.847520000001},{"$f":"SUM(M163:OFFSET(M163,$F$89-1,0))","v":103789.55418428853},"Euro/Betrachtungszeitraum",{"$f":"SUM(O163:O174)","v":1}]
[]
[null,null,"APC mit Mini-PC (für alle Geräte)"]
[null,null,"In EURO  ","Anschaffungskosten",null,null,null,null,"Energiekosten",null,"Bruttopersonal-kosten","Sach-und Gemeinkosten","Summe",null,"Anteil"]
[null,null,"Jahr (max: 12 Jahre)","Mini-PC","Monitor","Ersatz HDD durch SSD","RAM hinzufügen","Wechsel des Akkus","Desktop","Monitor"]
[null,null,1,{"$f":"IF($D$23>0,(IF(MOD(($C146-1),$D$29)<>0,0,Konstante_Werte!$E$65*$D$23)),0)","v":22750},{"$f":"IF($E$23>0,(IF(MOD(($C180-1),$D$30)<>0,0,Konstante_Werte!$E$66*$E$23)),0)","v":15120},{"$f":"IF($D$23>0,(IF($D$29=1,$D$23*$D$36*$J$36*Konstante_Werte!$E$67, IF(AND($D$29<>1,$D$29/($J$36+1)<1),Konstante_Werte!$E$67*$D$36*$D$23*$J$36/$D$29,IF(MOD($C180,$D$29)=0,0,IF(INT(MOD(($C180-$D$29*INT(($C180-1)/$D$29)),($D$29/($J$36+1))))<>0,0,Konstante_Werte!$E$67*$D$36*$D$23))))),0)","v":0},{"$f":"IF($D$23>0,(IF($D$29=1,$D$23*$E$36*$K$36*Konstante_Werte!$E$68, IF(AND($D$29<>1,$D$29/($K$36+1)<1),Konstante_Werte!$E$68*$E$36*$D$23*$K$36/$D$29,IF(MOD($C180,$D$29)=0,0,IF(INT(MOD(($C180-$D$29*INT(($C180-1)/$D$29)),($D$29/($K$36+1))))<>0,0,Konstante_Werte!$E$68*$E$36*$D$23))))),0)","v":0},"-",{"$f":"IF($D$23>0, F129*$D$23,0)","v":405.69295199999993},{"$f":"G129*$E$23","v":429.89800960000002},{"$f":"IF($D$23>0,(IF(MOD(($C180-1),$D$29)<>0,0,$K$13*$D$23)),0)+IF($E$23>0,(IF(MOD(($C180-1),$D$30)<>0,0,$K$13*$E$23)),0)","v":14193.911970000001},{"$f":"IF($D$23>0,(IF(MOD(($C180-1),$D$29)<>0,0,$K$14*$D$23)),0)+IF($E$23>0,(IF(MOD(($C180-1),$D$30)<>0,0,$K$14*$E$23)),0)","v":11420.13564},{"$f":"SUM(D180:L180)","v":64319.6385716},"Euro/a",{"$f":"IF($M$192<>0,(IF(C180<=$F$89,M180/$M$192,\"-\")),0)","v":0.47778832231747015}]
[null,null,{"$f":"C180+1","v":2},{"$f":"IF($D$23>0,(IF(MOD(($C147-1),$D$29)<>0,0,Konstante_Werte!$E$65*$D$23)),0)","v":0},{"$f":"IF($E$23>0,(IF(MOD(($C181-1),$D$30)<>0,0,Konstante_Werte!$E$66*$E$23)),0)","v":0},{"$f":"IF($D$23>0,(IF($D$29=1,$D$23*$D$36*$J$36*Konstante_Werte!$E$67, IF(AND($D$29<>1,$D$29/($J$36+1)<1),Konstante_Werte!$E$67*$D$36*$D$23*$J$36/$D$29,IF(MOD($C181,$D$29)=0,0,IF(INT(MOD(($C181-$D$29*INT(($C181-1)/$D$29)),($D$29/($J$36+1))))<>0,0,Konstante_Werte!$E$67*$D$36*$D$23))))),0)","v":0},{"$f":"IF($D$23>0,(IF($D$29=1,$D$23*$E$36*$K$36*Konstante_Werte!$E$68, IF(AND($D$29<>1,$D$29/($K$36+1)<1),Konstante_Werte!$E$68*$E$36*$D$23*$K$36/$D$29,IF(MOD($C181,$D$29)=0,0,IF(INT(MOD(($C181-$D$29*INT(($C181-1)/$D$29)),($D$29/($K$36+1))))<>0,0,Konstante_Werte!$E$68*$E$36*$D$23))))),0)","v":0},"-",408.02961448421053,432.37408552421061,0,0,840.40370000842108,"Euro/a",6.2428067509961681E-3]
[null,null,{"$f":"C181+1","v":3},{"$f":"IF($D$23>0,(IF(MOD(($C148-1),$D$29)<>0,0,Konstante_Werte!$E$65*$D$23)),0)","v":0},{"$f":"IF($E$23>0,(IF(MOD(($C182-1),$D$30)<>0,0,Konstante_Werte!$E$66*$E$23)),0)","v":0},{"$f":"IF($D$23>0,(IF($D$29=1,$D$23*$D$36*$J$36*Konstante_Werte!$E$67, IF(AND($D$29<>1,$D$29/($J$36+1)<1),Konstante_Werte!$E$67*$D$36*$D$23*$J$36/$D$29,IF(MOD($C182,$D$29)=0,0,IF(INT(MOD(($C182-$D$29*INT(($C182-1)/$D$29)),($D$29/($J$36+1))))<>0,0,Konstante_Werte!$E$67*$D$36*$D$23))))),0)","v":0},{"$f":"IF($D$23>0,(IF($D$29=1,$D$23*$E$36*$K$36*Konstante_Werte!$E$68, IF(AND($D$29<>1,$D$29/($K$36+1)<1),Konstante_Werte!$E$68*$E$36*$D$23*$K$36/$D$29,IF(MOD($C182,$D$29)=0,0,IF(INT(MOD(($C182-$D$29*INT(($C182-1)/$D$29)),($D$29/($K$36+1))))<>0,0,Konstante_Werte!$E$68*$E$36*$D$23))))),0)","v":0},"-",410.37973540179581,434.86442285890814,0,0,845.2441582607039,"Euro/a",6.2787633340704255E-3]
[null,null,4,{"$f":"IF($D$23>0,(IF(MOD(($C149-1),$D$29)<>0,0,Konstante_Werte!$E$65*$D$23)),0)","v":0},{"$f":"IF($E$23>0,(IF(MOD(($C183-1),$D$30)<>0,0,Konstante_Werte!$E$66*$E$23)),0)","v":0},{"$f":"IF($D$23>0,(IF($D$29=1,$D$23*$D$36*$J$36*Konstante_Werte!$E$67, IF(AND($D$29<>1,$D$29/($J$36+1)<1),Konstante_Werte!$E$67*$D$36*$D$23*$J$36/$D$29,IF(MOD($C183,$D$29)=0,0,IF(INT(MOD(($C183-$D$29*INT(($C183-1)/$D$29)),($D$29/($J$36+1))))<>0,0,Konstante_Werte!$E$67*$D$36*$D$23))))),0)","v":0},{"$f":"IF($D$23>0,(IF($D$29=1,$D$23*$E$36*$K$36*Konstante_Werte!$E$68, IF(AND($D$29<>1,$D$29/($K$36+1)<1),Konstante_Werte!$E$68*$E$36*$D$23*$K$36/$D$29,IF(MOD($C183,$D$29)=0,0,IF(INT(MOD(($C183-$D$29*INT(($C183-1)/$D$29)),($D$29/($K$36+1))))<>0,0,Konstante_Werte!$E$68*$E$36*$D$23))))),0)","v":0},"-",412.74339226905539,437.36910374528514,0,0,850.11249601434054,"Euro/a",6.3149270156370677E-3]
[null,null,5,{"$f":"IF($D$23>0,(IF(MOD(($C150-1),$D$29)<>0,0,Konstante_Werte!$E$65*$D$23)),0)","v":0},{"$f":"IF($E$23>0,(IF(MOD(($C184-1),$D$30)<>0,0,Konstante_Werte!$E$66*$E$23)),0)","v":0},{"$f":"IF($D$23>0,(IF($D$29=1,$D$23*$D$36*$J$36*Konstante_Werte!$E$67, IF(AND($D$29<>1,$D$29/($J$36+1)<1),Konstante_Werte!$E$67*$D$36*$D$23*$J$36/$D$29,IF(MOD($C184,$D$29)=0,0,IF(INT(MOD(($C184-$D$29*INT(($C184-1)/$D$29)),($D$29/($J$36+1))))<>0,0,Konstante_Werte!$E$67*$D$36*$D$23))))),0)","v":0},{"$f":"IF($D$23>0,(IF($D$29=1,$D$23*$E$36*$K$36*Konstante_Werte!$E$68, IF(AND($D$29<>1,$D$29/($K$36+1)<1),Konstante_Werte!$E$68*$E$36*$D$23*$K$36/$D$29,IF(MOD($C184,$D$29)=0,0,IF(INT(MOD(($C184-$D$29*INT(($C184-1)/$D$29)),($D$29/($K$36+1))))<>0,0,Konstante_Werte!$E$68*$E$36*$D$23))))),0)","v":0},"-",415.12066304875805,439.88821079764136,0,0,855.00887384639941,"Euro/a",6.3512989885175994E-3]
[null,null,6,{"$f":"IF($D$23>0,(IF(MOD(($C151-1),$D$29)<>0,0,Konstante_Werte!$E$65*$D$23)),0)","v":0},{"$f":"IF($E$23>0,(IF(MOD(($C185-1),$D$30)<>0,0,Konstante_Werte!$E$66*$E$23)),0)","v":0},{"$f":"IF($D$23>0,(IF($D$29=1,$D$23*$D$36*$J$36*Konstante_Werte!$E$67, IF(AND($D$29<>1,$D$29/($J$36+1)<1),Konstante_Werte!$E$67*$D$36*$D$23*$J$36/$D$29,IF(MOD($C185,$D$29)=0,0,IF(INT(MOD(($C185-$D$29*INT(($C185-1)/$D$29)),($D$29/($J$36+1))))<>0,0,Konstante_Werte!$E$67*$D$36*$D$23))))),0)","v":0},{"$f":"IF($D$23>0,(IF($D$29=1,$D$23*$E$36*$K$36*Konstante_Werte!$E$68, IF(AND($D$29<>1,$D$29/($K$36+1)<1),Konstante_Werte!$E$68*$E$36*$D$23*$K$36/$D$29,IF(MOD($C185,$D$29)=0,0,IF(INT(MOD(($C185-$D$29*INT(($C185-1)/$D$29)),($D$29/($K$36+1))))<>0,0,Konstante_Werte!$E$68*$E$36*$D$23))))),0)","v":0},"-",417.51162615271318,442.42182710610837,0,0,859.9334532588216,"Euro/a",6.3878804524037987E-3]
[null,null,7,{"$f":"IF($D$23>0,(IF(MOD(($C152-1),$D$29)<>0,0,Konstante_Werte!$E$65*$D$23)),0)","v":22750},{"$f":"IF($E$23>0,(IF(MOD(($C186-1),$D$30)<>0,0,Konstante_Werte!$E$66*$E$23)),0)","v":15120},{"$f":"IF($D$23>0,(IF($D$29=1,$D$23*$D$36*$J$36*Konstante_Werte!$E$67, IF(AND($D$29<>1,$D$29/($J$36+1)<1),Konstante_Werte!$E$67*$D$36*$D$23*$J$36/$D$29,IF(MOD($C186,$D$29)=0,0,IF(INT(MOD(($C186-$D$29*INT(($C186-1)/$D$29)),($D$29/($J$36+1))))<>0,0,Konstante_Werte!$E$67*$D$36*$D$23))))),0)","v":0},{"$f":"IF($D$23>0,(IF($D$29=1,$D$23*$E$36*$K$36*Konstante_Werte!$E$68, IF(AND($D$29<>1,$D$29/($K$36+1)<1),Konstante_Werte!$E$68*$E$36*$D$23*$K$36/$D$29,IF(MOD($C186,$D$29)=0,0,IF(INT(MOD(($C186-$D$29*INT(($C186-1)/$D$29)),($D$29/($K$36+1))))<>0,0,Konstante_Werte!$E$68*$E$36*$D$23))))),0)","v":0},"-",308.67711130341166,327.09386521068859,14193.911970000001,11420.13564,64119.818586514099,"Euro/a",0.47630399097544285]
[null,null,8,{"$f":"IF($D$23>0,(IF(MOD(($C153-1),$D$29)<>0,0,Konstante_Werte!$E$65*$D$23)),0)","v":0},{"$f":"IF($E$23>0,(IF(MOD(($C187-1),$D$30)<>0,0,Konstante_Werte!$E$66*$E$23)),0)","v":0},{"$f":"IF($D$23>0,(IF($D$29=1,$D$23*$D$36*$J$36*Konstante_Werte!$E$67, IF(AND($D$29<>1,$D$29/($J$36+1)<1),Konstante_Werte!$E$67*$D$36*$D$23*$J$36/$D$29,IF(MOD($C187,$D$29)=0,0,IF(INT(MOD(($C187-$D$29*INT(($C187-1)/$D$29)),($D$29/($J$36+1))))<>0,0,Konstante_Werte!$E$67*$D$36*$D$23))))),0)","v":0},{"$f":"IF($D$23>0,(IF($D$29=1,$D$23*$E$36*$K$36*Konstante_Werte!$E$68, IF(AND($D$29<>1,$D$29/($K$36+1)<1),Konstante_Werte!$E$68*$E$36*$D$23*$K$36/$D$29,IF(MOD($C187,$D$29)=0,0,IF(INT(MOD(($C187-$D$29*INT(($C187-1)/$D$29)),($D$29/($K$36+1))))<>0,0,Konstante_Werte!$E$68*$E$36*$D$23))))),0)","v":0},"-",310.45499337447399,328.97782193186231,0,0,639.43281530633635,"Euro/a",4.7499261321230293E-3]
[null,null,9,{"$f":"IF($D$23>0,(IF(MOD(($C154-1),$D$29)<>0,0,Konstante_Werte!$E$65*$D$23)),0)","v":0},{"$f":"IF($E$23>0,(IF(MOD(($C188-1),$D$30)<>0,0,Konstante_Werte!$E$66*$E$23)),0)","v":0},{"$f":"IF($D$23>0,(IF($D$29=1,$D$23*$D$36*$J$36*Konstante_Werte!$E$67, IF(AND($D$29<>1,$D$29/($J$36+1)<1),Konstante_Werte!$E$67*$D$36*$D$23*$J$36/$D$29,IF(MOD($C188,$D$29)=0,0,IF(INT(MOD(($C188-$D$29*INT(($C188-1)/$D$29)),($D$29/($J$36+1))))<>0,0,Konstante_Werte!$E$67*$D$36*$D$23))))),0)","v":0},{"$f":"IF($D$23>0,(IF($D$29=1,$D$23*$E$36*$K$36*Konstante_Werte!$E$68, IF(AND($D$29<>1,$D$29/($K$36+1)<1),Konstante_Werte!$E$68*$E$36*$D$23*$K$36/$D$29,IF(MOD($C188,$D$29)=0,0,IF(INT(MOD(($C188-$D$29*INT(($C188-1)/$D$29)),($D$29/($K$36+1))))<>0,0,Konstante_Werte!$E$68*$E$36*$D$23))))),0)","v":0},"-",312.24311548129822,330.87262964507477,0,0,643.11574512637299,"Euro/a",4.7772841972335703E-3]
[null,null,10,{"$f":"IF($D$23>0,(IF(MOD(($C155-1),$D$29)<>0,0,Konstante_Werte!$E$65*$D$23)),0)","v":0},{"$f":"IF($E$23>0,(IF(MOD(($C189-1),$D$30)<>0,0,Konstante_Werte!$E$66*$E$23)),0)","v":0},{"$f":"IF($D$23>0,(IF($D$29=1,$D$23*$D$36*$J$36*Konstante_Werte!$E$67, IF(AND($D$29<>1,$D$29/($J$36+1)<1),Konstante_Werte!$E$67*$D$36*$D$23*$J$36/$D$29,IF(MOD($C189,$D$29)=0,0,IF(INT(MOD(($C189-$D$29*INT(($C189-1)/$D$29)),($D$29/($J$36+1))))<>0,0,Konstante_Werte!$E$67*$D$36*$D$23))))),0)","v":0},{"$f":"IF($D$23>0,(IF($D$29=1,$D$23*$E$36*$K$36*Konstante_Werte!$E$68, IF(AND($D$29<>1,$D$29/($K$36+1)<1),Konstante_Werte!$E$68*$E$36*$D$23*$K$36/$D$29,IF(MOD($C189,$D$29)=0,0,IF(INT(MOD(($C189-$D$29*INT(($C189-1)/$D$29)),($D$29/($K$36+1))))<>0,0,Konstante_Werte!$E$68*$E$36*$D$23))))),0)","v":0},"-",314.04153660323618,332.77835084859157,0,0,646.81988745182775,"Euro/a",4.8047998361054221E-3]
[null,null,11,{"$f":"IF($D$23>0,(IF(MOD(($C156-1),$D$29)<>0,0,Konstante_Werte!$E$65*$D$23)),0)","v":0},{"$f":"IF($E$23>0,(IF(MOD(($C190-1),$D$30)<>0,0,Konstante_Werte!$E$66*$E$23)),0)","v":0},{"$f":"IF($D$23>0,(IF($D$29=1,$D$23*$D$36*$J$36*Konstante_Werte!$E$67, IF(AND($D$29<>1,$D$29/($J$36+1)<1),Konstante_Werte!$E$67*$D$36*$D$23*$J$36/$D$29,IF(MOD($C190,$D$29)=0,0,IF(INT(MOD(($C190-$D$29*INT(($C190-1)/$D$29)),($D$29/($J$36+1))))<>0,0,Konstante_Werte!$E$67*$D$36*$D$23))))),0)","v":0},{"$f":"IF($D$23>0,(IF($D$29=1,$D$23*$E$36*$K$36*Konstante_Werte!$E$68, IF(AND($D$29<>1,$D$29/($K$36+1)<1),Konstante_Werte!$E$68*$E$36*$D$23*$K$36/$D$29,IF(MOD($C190,$D$29)=0,0,IF(INT(MOD(($C190-$D$29*INT(($C190-1)/$D$29)),($D$29/($K$36+1))))<>0,0,Konstante_Werte!$E$68*$E$36*$D$23))))),0)","v":0},"-",315.85031605934228,334.695048400649,0,0,650.54536445999133,"Euro/a","-"]
[null,null,12,{"$f":"IF($D$23>0,(IF(MOD(($C157-1),$D$29)<>0,0,Konstante_Werte!$E$65*$D$23)),0)","v":0},{"$f":"IF($E$23>0,(IF(MOD(($C191-1),$D$30)<>0,0,Konstante_Werte!$E$66*$E$23)),0)","v":0},{"$f":"IF($D$23>0,(IF($D$29=1,$D$23*$D$36*$J$36*Konstante_Werte!$E$67, IF(AND($D$29<>1,$D$29/($J$36+1)<1),Konstante_Werte!$E$67*$D$36*$D$23*$J$36/$D$29,IF(MOD($C191,$D$29)=0,0,IF(INT(MOD(($C191-$D$29*INT(($C191-1)/$D$29)),($D$29/($J$36+1))))<>0,0,Konstante_Werte!$E$67*$D$36*$D$23))))),0)","v":0},{"$f":"IF($D$23>0,(IF($D$29=1,$D$23*$E$36*$K$36*Konstante_Werte!$E$68, IF(AND($D$29<>1,$D$29/($K$36+1)<1),Konstante_Werte!$E$68*$E$36*$D$23*$K$36/$D$29,IF(MOD($C191,$D$29)=0,0,IF(INT(MOD(($C191-$D$29*INT(($C191-1)/$D$29)),($D$29/($K$36+1))))<>0,0,Konstante_Werte!$E$68*$E$36*$D$23))))),0)","v":0},"-",317.66951351032952,336.62278552152657,0,0,654.29229903185615,"Euro/a","-"]
[null,null,"Summe über Betrachtungszeitraum",{"$f":"SUM(D180:OFFSET(D180,$F$89-1,0))","v":45500},{"$f":"SUM(E180:OFFSET(E180,$F$89-1,0))","v":30240},{"$f":"SUM(F180:OFFSET(F180,$F$89-1,0))","v":0},{"$f":"SUM(G180:OFFSET(G180,$F$89-1,0))","v":0},"-",{"$f":"SUM(I180:OFFSET(I180,$F$89-1,0))","v":3714.894740118953},{"$f":"SUM(J180:OFFSET(J180,$F$89-1,0))","v":3936.5383272683712},{"$f":"SUM(K180:OFFSET(K180,$F$89-1,0))","v":28387.823940000002},{"$f":"SUM(L180:OFFSET(L180,$F$89-1,0))","v":22840.271280000001},{"$f":"SUM(M180:OFFSET(M180,$F$89-1,0))","v":134619.52828738731},"Euro/Betrachtungszeitraum",{"$f":"SUM(O180:O191)","v":0.99999999999999989}]

{"sheet":"Berechnung_Szen3","index":13,"n_rows":192,"n_cols":15,"rows_kept":192,"cut":false,"hidden":true,"merged":[[31,8,31,11],[105,3,105,4],[106,3,106,4],[107,3,107,4],[108,3,108,4],[40,3,40,5],[143,12,144,13],[177,10,178,10],[177,11,178,11],[177,12,178,13],[46,3,46,6],[47,3,47,6],[48,3,48,6],[143,3,143,7],[177,3,177,7],[49,3,49,6],[160,3,160,7],[160,8,160,9],[143,10,144,10],[143,11,144,11],[143,8,143,9],[177,8,177,9],[1,5,1,7],[1,3,1,4],[177,14,178,14],[143,14,144,14],[160,10,161,10],[160,11,161,11],[160,12,161,13],[160,14,161,14],[4,2,4,3],[5,2,5,3],[41,3,41,5],[31,2,31,5],[70,3,71,12],[42,3,42,5],[43,3,43,5],[44,3,44,5]]}
[null,"Berechnung der CO2-Äquivalente und der Kosten"]
[null,null,null,null,null,"Zurück zum Inhaltsverzeichnis"]
[null,{"$f":"Szen3_Variablen!B3","v":"Bezeichnung:"},null,{"$f":"Szen3_Variablen!C3","v":"Szenario 3"}]
[null,"1. Feste Daten"]
[null,null,{"$f":"'Default-Werte'!B4","v":"Anzahl von Arbeitstagen/Jahr"},null,203,"d/a"]
[null,null,{"$f":"'Default-Werte'!B5","v":"Betrachtungszeitraum [Jahr]"},null,{"$f":"IF(Konstante_Werte!E16<>\"0\", Konstante_Werte!E16, Konstante_Werte!L16)","v":10},"Jahre"]
[]
[null,null,{"$f":"Konstante_Werte!C18","v":"Strompreis: [€/kWh]"},null,null,null,{"$f":"Konstante_Werte!E18","v":0.21199999999999999}]
[null,null,{"$f":"Konstante_Werte!C19","v":"Reale Preissteigerungsrate Strom: [%/Jahr]"},null,null,null,{"$f":"Konstante_Werte!E19","v":5.7596822244290191E-3}]
[]
[null,null,"Durchschnittlicher Verwaltungsaufwand eines Beschaffungszyklus",null,null,null,null,{"$f":"Konstante_Werte!E59","v":"Höherer Dienst"},{"$f":"Konstante_Werte!F59","v":"Gehobener Dienst "},{"$f":"Konstante_Werte!G59","v":"Mittlerer Dienst"},"Summe"]
[null,null,{"$f":"Konstante_Werte!C60","v":"Personalaufwand [d/Stück]"},null,null,null,null,{"$f":"Konstante_Werte!$E$60","v":1.1619999999999998E-2},{"$f":"Konstante_Werte!F60","v":8.7660000000000002E-2},{"$f":"Konstante_Werte!G60","v":0.18442},{"$f":"SUM(H12:J12)","v":0.28370000000000001}]
[null,null,"Personalkosten pro Gerät [EUR/Stck]",null,null,null,null,{"$f":"$H$12*Konstante_Werte!E55","v":6.2047313999999991},{"$f":"$I$12*Konstante_Werte!F55","v":35.8450506},{"$f":"$J$12*Konstante_Werte!G55","v":52.576297799999999},{"$f":"SUM(H13:J13)","v":94.626079799999999}]
[null,null,"Sach- und Gemeinkosten pro Gerät [EUR/Stck]",null,null,null,null,{"$f":"$H$12*Konstante_Werte!E56","v":4.0034385999999991},{"$f":"$I$12*Konstante_Werte!F56","v":26.035019999999999},{"$f":"$J$12*Konstante_Werte!G56","v":46.095779},{"$f":"SUM(H14:J14)","v":76.134237600000006}]
[]
[null,null,{"$f":"Konstante_Werte!B47","v":"Anteil Nutzer nach Nutzungsintensität"},{"$f":"Konstante_Werte!C48","v":"Hohe Nutzungsintensität [%]"},{"$f":"Konstante_Werte!C49","v":"Mittlere Nutzungsintensität [%]"},{"$f":"Konstante_Werte!C50","v":"Geringe Nutzungsintensität [%]"}]
[null,null,"Geräte ",{"$f":"Konstante_Werte!E48","v":0.25},{"$f":"Konstante_Werte!E49","v":0.5},{"$f":"Konstante_Werte!E50","v":0.25}]
[]
[null,"2. Variable Daten"]
[null,null,{"$f":"Szen3_Variablen!B13","v":"Anzahl der Geräte [Stück]"},{"$f":"Szen3_Variablen!E13","v":"Anzahl der Geräte [Stück]"},{"$f":"Szen3_Variablen!F13","v":"Anzahl der zugeordneten Monitore"}]
[null,null,{"$f":"Szen3_Variablen!C14","v":"APC-Desktop-PC"},{"$f":"Szen3_Variablen!E14","v":100},{"$f":"Szen3_Variablen!F14","v":120}]
[null,null,{"$f":"Szen3_Variablen!C15","v":"APC-Notebook"},{"$f":"Szen3_Variablen!E15","v":50},{"$f":"Szen3_Variablen!F15","v":50}]
[null,null,{"$f":"Szen3_Variablen!C16","v":"APC-Mini-PC"},{"$f":"Szen3_Variablen!E16","v":70},{"$f":"Szen3_Variablen!F16","v":80}]
[null,null,{"$f":"Szen3_Variablen!C17","v":"Summe "},{"$f":"Szen3_Variablen!E17","v":220},{"$f":"SUM(E21:E23)","v":250}]
[]
[null,null,{"$f":"Szen3_Variablen!$B$19","v":"Nutzungsdauer [Jahre]"}]
[null,null,{"$f":"Szen3_Variablen!C20","v":"Desktop-PC"},{"$f":"ROUND(Szen3_Variablen!E20,0)","v":6}]
[null,null,{"$f":"Szen3_Variablen!C21","v":"Notebook"},{"$f":"ROUND(Szen3_Variablen!E21,0)","v":6}]
[null,null,{"$f":"Szen3_Variablen!C22","v":"Mini-PC"},{"$f":"ROUND(Szen3_Variablen!E22,0)","v":6}]
[null,null,{"$f":"Szen3_Variablen!C23","v":"Monitor"},{"$f":"ROUND(Szen3_Variablen!E23,0)","v":6}]
[]
[null,null,{"$f":"Szen3_Variablen!B31","v":"Prozentualer Anteil der Geräte, bei denen während der Nutzungsphase folgende Komponenten nachgerüstet bzw. ausgetauscht werden [%]"},null,null,null,null,null,{"$f":"Szen3_Variablen!B25","v":"Anzahl der Austauschvorgänge von Komponenten je Gerät während der Nutzungsphase"}]
[null,null,null,{"$f":"Szen3_Variablen!E32","v":"Ersatz HDD durch SSD"},{"$f":"Szen3_Variablen!F32","v":"RAM hinzufügen"},{"$f":"Szen3_Variablen!G32","v":"Wechsel des Akkus"},null,null,null,{"$f":"Szen3_Variablen!E26","v":"Ersatz HDD durch SSD"},{"$f":"Szen3_Variablen!F26","v":"RAM hinzufügen"},{"$f":"Szen3_Variablen!G26","v":"Wechsel des Akkus"}]
[null,null,{"$f":"Szen3_Variablen!C33","v":"Desktop-PC"},{"$f":"Szen3_Variablen!E33","v":0},{"$f":"Szen3_Variablen!F33","v":0},{"$f":"Szen3_Variablen!G33","v":"-"},null,null,{"$f":"Szen3_Variablen!C27","v":"Desktop-PC"},{"$f":"Szen3_Variablen!E27","v":1},{"$f":"Szen3_Variablen!F27","v":1},{"$f":"Szen3_Variablen!G27","v":"-"}]
[null,null,{"$f":"Szen3_Variablen!C34","v":"Notebook"},{"$f":"Szen3_Variablen!E34","v":0},{"$f":"Szen3_Variablen!F34","v":0},{"$f":"Szen3_Variablen!G34","v":0.5},null,null,{"$f":"Szen3_Variablen!C28","v":"Notebook"},{"$f":"Szen3_Variablen!E28","v":1},{"$f":"Szen3_Variablen!F28","v":1},{"$f":"Szen3_Variablen!G28","v":1}]
[null,null,{"$f":"Szen3_Variablen!C35","v":"Mini-PC"},{"$f":"Szen3_Variablen!E35","v":0},{"$f":"Szen3_Variablen!F35","v":0},{"$f":"Szen3_Variablen!G35","v":"-"},null,null,{"$f":"Szen3_Variablen!C29","v":"Mini-PC"},{"$f":"Szen3_Variablen!E29","v":1},{"$f":"Szen3_Variablen!F29","v":1},{"$f":"Szen3_Variablen!G29","v":"-"}]
[]
[null,"3. Ergebnisse"]
[null,"3.1 Stromverbrauch während der Nutzung"]
[null,null,"Stromverbrauch pro Gerät während der Nutzung [kWh/Gerät/Betrachtungsraum]"]
[null,null,"IT-Gerät","kWh/Gerät/Betrachtungsraum"]
[null,null,"Desktop-PC",{"$f":"$D$125","v":415.33979493344253}]
[null,null,"Notebook",{"$f":"$E$125","v":131.45326399640874}]
[null,null,"Mini-PC",{"$f":"$F$125","v":244.40998035011251}]
[null,null,"Monitor",{"$f":"$G$125","v":226.618291286035}]
[]
[null,null,"Arbeitsplatztyp","kWh/Betrachtungsraum"]
[null,null,"APC mit Desktop-PC",{"$f":"D42*$D21+$D$45*$E21","v":68728.174447668454}]
[null,null,"APC mit Notebook",{"$f":"D43*$D22+$D$45*$E22","v":17903.577764122187}]
[null,null,"APC mit Mini-PC",{"$f":"D44*$D23+$D$45*$E23","v":35238.161927390676}]
[]
[null,"3.2 GWP-Ergebnisse bezogen auf alle Geräte des Typs über den Betrachtungszeitraum"]
[null,null,"kg CO2e / Betrachtungszeitraum","APC mit Desktop","APC mit Notebook","APC mit Mini-PC","Summe",null,"GWP in % bezogen auf den Arbeitsplatztyp / Betrachtungszeitraum","APC mit Desktop","APC mit Notebook","APC mit Mini-PC","% (Summe)"]
[null,null,"Herstellung",{"$f":"IF(OR($D$21>0,$E$21>0),('Default-Werte'!$D$24+$D$34*$J$34*'Default-Werte'!$C$26+$E$34*$K$34*'Default-Werte'!$C$12)*$J$91*$D$21+'Default-Werte'!$D$25*$E$21*$J$94,0)","v":75456.666666666657},{"$f":"IF(OR($D$22>0,$E$22>0),('Default-Werte'!$D$47+'Default-Werte'!$C$39*$D$35*$J$35+'Default-Werte'!$C$30*$E$35*$K$35+'Default-Werte'!$C$38*$F$35*$L$35)*$J$92*$D$22+'Default-Werte'!$D$48*$J$94*$E$22,0)","v":28554.166666666672},{"$f":"IF(OR($D$23>0,$E$23>0),('Default-Werte'!$D$67+'Default-Werte'!$C$60*$D$36*$J$36+'Default-Werte'!$C$53*$E$36*$K$36)*$J$93*$D$23+$E$23*$J$94*'Default-Werte'!$D$68,0)","v":33985},{"$f":"SUM(D54:F54)","v":137995.83333333331},null,"Herstellung",{"$f":"IF($D$58=0,0,D54/$D$58)","v":0.61493739598179264},{"$f":"IF($E$58=0,0,E54/$E$58)","v":0.70007965543303174},{"$f":"IF($F$58=0,0,F54/$F$58)","v":0.58708732596832192},{"$f":"G54/$G$58","v":0.62334160174481446}]
[null,null,"Distribution",{"$f":"IF(OR($D$21>0,$E$21>0),('Default-Werte'!$C$72+$D$34*$J$34*'Default-Werte'!$C$78+$E$34*$K$34*'Default-Werte'!$C$77)*$J$91*$D$21+$J$94*$E$21*'Default-Werte'!$C$75,0)","v":3528},{"$f":"IF(OR($D$22>0,$E$22>0),('Default-Werte'!$C$73+'Default-Werte'!$C$78*$D$35*$J$35+'Default-Werte'!$C$77*$E$35*$K$35+'Default-Werte'!$C$76*$F$35*$L$35)*$J$92*$D$22+$J$94*$E$22*'Default-Werte'!$C$75,0)","v":865.29166666666674},{"$f":"IF(OR($D$23>0,$E$23>0),('Default-Werte'!$C$74+'Default-Werte'!$C$78*$D$36*$J$36+'Default-Werte'!$C$77*$E$36*$K$36)*$J$93*$D$23+$J$94*$E$23*'Default-Werte'!$C$75,0)","v":1678.5},{"$f":"SUM(D55:F55)","v":6071.791666666667},null,"Distribution",{"$f":"IF($D$58=0,0,D55/$D$58)","v":2.8751589870880834E-2},{"$f":"IF($E$58=0,0,E55/$E$58)","v":2.1214875535353523E-2},{"$f":"IF($F$58=0,0,F55/$F$58)","v":2.8995912215325239E-2},{"$f":"G55/$G$58","v":2.7426917549158977E-2}]
[null,null,"Nutzung",{"$f":"IF(OR($D$21>0,$E$21>0),$D$48*Konstante_Werte!$E$17,0)","v":42748.924506449781},{"$f":"IF(OR($D$22>0,$E$22>0),$D$49*Konstante_Werte!$E$17,0)","v":11136.025369284},{"$f":"IF(OR($D$23>0,$E$23>0),$D$50*Konstante_Werte!$E$17,0)","v":21918.136718837002},{"$f":"SUM(D56:F56)","v":75803.086594570777},null,"Nutzung",{"$f":"IF($D$58=0,0,D56/$D$58)","v":0.34838422472525254},0.27302862291277424,0.37863352292099761,0.34241046467630515]
[null,null,"Entsorgung",{"$f":"IF(OR($D$21>0,$E$21>0),('Default-Werte'!$C$82+$D$34*$J$34*'Default-Werte'!$C$88+$E$34*$K$34*'Default-Werte'!$C$87)*$J$91*$D$21+$J$94*$E$21*'Default-Werte'!$C$85,0)","v":972.66666666666663},{"$f":"IF(OR($D$22>0,$E$22>0),('Default-Werte'!$C$83+'Default-Werte'!$C$88*$D$35*$J$35+'Default-Werte'!$C$87*$E$35*$K$35+'Default-Werte'!$C$86*$F$35*$L$35)*$J$92*$D$22+$J$94*$E$22*'Default-Werte'!$C$85,0)","v":231.54166666666669},{"$f":"IF(OR($D$23>0,$E$23>0),('Default-Werte'!$C$84+'Default-Werte'!$C$88*$D$36*$J$36+'Default-Werte'!$C$87*$E$36*$K$36)*$J$93*$D$23+$J$94*$E$23*'Default-Werte'!$C$85,0)","v":305.83333333333337},{"$f":"SUM(D57:F57)","v":1510.0416666666665},null,"Entsorgung",{"$f":"IF($D$58=0,0,D57/$D$58)","v":7.9267894220739106E-3},5.6768461188404454E-3,5.2832388953551607E-3,6.8210160297212542E-3]
[null,null,"Summe",{"$f":"SUM(D54:D57)","v":122706.25783978311},{"$f":"SUM(E54:E57)","v":40787.025369284005},{"$f":"SUM(F54:F57)","v":57887.470052170342},{"$f":"SUM(D58:F58)","v":221380.75326123746},null,"Summe",{"$f":"SUM(J54:J57)","v":1},{"$f":"SUM(K54:K57)","v":0.99999999999999989},{"$f":"SUM(L54:L57)","v":1},{"$f":"SUM(M54:M57)","v":0.99999999999999978}]
[]
[null,"3.3 Kosten-Ergebnisse bezogen auf Betrachtungszeitraum und je Haushaltsjahr"]
[null,null,"Lebenszykluskosten-Ergebnisse bezogen auf Betrachtungszeitraum"]
[null,null,"Kosten in EURO / Betrachtungszeitraum","APC mit Desktop","APC mit Notebook","APC mit Mini-PC","Summe",null,"Kosten in % / Betrachtungszeitraum","APC mit Desktop","APC mit Notebook","APC mit Mini-PC","% (Summe)"]
[null,null,"Anschaffungskosten",{"$f":"IF(OR($D$21>0,$E$21>0),(Konstante_Werte!$E$63+$D$34*$J$34*Konstante_Werte!$E$67+$E$34*$K$34*Konstante_Werte!$E$68)*$J$91*$D$21+Konstante_Werte!$E$66*$J$94*$E$21,0)","v":89800},{"$f":"IF(OR($D$22>0,$E$22>0),(Konstante_Werte!$E$64+Konstante_Werte!$E$67*$D$35*$J$35+Konstante_Werte!$E$68*$E$35*$K$35+Konstante_Werte!$E$69*$F$35*$L$35)*$J$92*$D$22+Konstante_Werte!$E$66*$J$94*$E$22,0)","v":54791.666666666672},{"$f":"IF(OR($D$23>0,$E$23>0),(Konstante_Werte!$E$65+Konstante_Werte!$E$67*$D$36*$J$36+Konstante_Werte!$E$68*$E$36*$K$36)*$J$93*$D$23+Konstante_Werte!$E$66*$J$94*$E$23,0)","v":63116.666666666672},{"$f":"SUM(D63:F63)","v":207708.33333333337},null,{"$f":"C63","v":"Anschaffungskosten"},{"$f":"IF($D$67=0,0,D63/$D$67)","v":0.53664676383001952},{"$f":"IF($E$67=0,0,E63/$E$67)","v":0.62878314476680031},{"$f":"IF($F$67=0,0,F63/$F$67)","v":0.55629895681568731},{"$f":"G63/$G$67","v":0.56452792540612851}]
[null,null,"Energiekosten",{"$f":"IF(OR($D$21>0,$E$21>0),D141*$D$21+$G$141*$E21,0)","v":14923.281972357818},{"$f":"IF(OR($D$22>0,$E$22>0),(E141*$D$22+$G$141*$E$22),0)","v":3887.4907042885206},{"$f":"IF(OR($D$23>0,$E$23>0),(F141*$D$23+$G$141*$E$23),0)","v":7651.4330673873246},{"$f":"SUM(D64:F64)","v":26462.205744033665},null,{"$f":"C64","v":"Energiekosten"},{"$f":"IF($D$67=0,0,D64/$D$67)","v":8.9181859423036677E-2},{"$f":"IF($E$67=0,0,E64/$E$67)","v":4.4612416066206646E-2},{"$f":"IF($F$67=0,0,F64/$F$67)","v":6.7438355957738949E-2},{"$f":"G64/$G$67","v":7.1921303640599205E-2}]
[null,null,"Bruttopersonalkosten",{"$f":"IF(OR($D$21>0,$E$21>0),($K$13)*($J$91*$D$21+$E$21*$J$94),0)","v":34696.22926},{"$f":"IF(OR($D$22>0,$E$22>0),($K$13)*($J$92*$D$22+$E$22*$J$94),0)","v":15771.013300000002},{"$f":"IF(OR($D$23>0,$E$23>0),($K$13)*($J$93*$D$23+$E$23*$J$94),0)","v":23656.519949999998},{"$f":"SUM(D65:F65)","v":74123.76251},null,"Bruttopersonalkosten",0.20734542482720972,0.18098641531132531,0.2085043153431396,0.20146006277905809]
[null,null,"Sach-und Gemeinkosten",{"$f":"IF(OR($D$21>0,$E$21>0),($K$14)*($J$91*$D$21+$E$21*$J$94),0)","v":27915.887120000003},{"$f":"IF(OR($D$22>0,$E$22>0),($K$14)*($J$92*$D$22+$E$22*$J$94),0)","v":12689.039600000002},{"$f":"IF(OR($D$23>0,$E$23>0),($K$14)*($J$93*$D$23+$E$23*$J$94),0)","v":19033.559400000002},{"$f":"SUM(D66:F66)","v":59638.486120000001},null,"Sach-und Gemeinkosten",0.16682595191973412,0.14561802385566774,0.16775837188343418,0.16209070817421439]
[null,null,"Summe",{"$f":"SUM(D63:D66)","v":167335.39835235782},{"$f":"SUM(E63:E66)","v":87139.210270955198},{"$f":"SUM(F63:F66)","v":113458.17908405399},{"$f":"SUM(D67:F67)","v":367932.78770736698},null,"Summe",{"$f":"SUM(J63:J66)","v":1},{"$f":"SUM(K63:K66)","v":1},{"$f":"SUM(L63:L66)","v":1},{"$f":"SUM(M63:M66)","v":1.0000000000000002}]
[]
[null,null,"Kosten je Haushaltsjahr"]
[null,null,"Haushaltplan: erforderliche Haushaltsmittel (in €) je Haushaltsjahr im Betrachtungszeitraum"]
[null,null,"Hinweis: ","Die Summe kann höher sein als die  Lebenszykluskosten. Bei den Lebenszykluskosten wird die letzte Beschaffung einer Komponente nur anteilig einbezogen, sofern der Betrachtungszeitraum kein ganzzahliges Vielfaches der angenommenen Nutzungsdauer der Komponente ist."]
[]
[null,null,"Kosten in EURO / Betrachtungszeitraum","APC mit Desktop","APC mit Notebook","APC mit Mini-PC","Summe",null,"Kosten: Anteil der Ausstattung in % innerhalb eines Jahres","APC mit Desktop","APC mit Notebook","APC mit Mini-PC","Summe"]
[null,null,{"$f":"C146","v":1},{"$f":"IF(C74<=$F$89,M146,\"-\")","v":93076.998458400005},{"$f":"IF(C74<=$F$89,M163,\"-\")","v":48500.573400000001},{"$f":"IF(C74<=$F$89,M180,\"-\")","v":64319.6385716},{"$f":"IF(C74<=$F$89,(IF(SUM(D74:F74)>=0,SUM(D74:F74),0)),\"-\")","v":205897.21043000001},null,{"$f":"C74","v":1},{"$f":"IF(C74<=$F$89,(IF(G74=0,0,D74/$G$74)),\"-\")","v":0.45205565565466416},{"$f":"IF(C74<=$F$89,(IF(G74=0,0,E74/$G$74)),\"-\")","v":0.23555721468353261},{"$f":"IF(C74<=$F$89,(IF(G74=0,0,F74/$G$74)),\"-\")","v":0.31238712966180326},{"$f":"IF(C74<=$F$89,SUM(J74:L74),\"-\")","v":1}]
[null,null,2,1639.115349423158,426.98688505263158,840.40370000842108,2906.5059344842102,null,{"$f":"C75","v":2},{"$f":"IF(C75<=$F$89,(IF(G75=0,0,D75/$G$74)),\"-\")","v":7.9608429176869153E-3},2.0737866441264711E-3,{"$f":"IF(C75<=$F$89,(IF(G75=0,0,F75/$G$74)),\"-\")","v":4.0816662753871439E-3},{"$f":"IF(C75<=$F$89,SUM(J75:L75),\"-\")","v":1.4116295837200532E-2}]
[null,null,3,1648.5561329650193,2304.4461938245336,845.2441582607039,4798.2464850502565,null,3,8.0066948431313876E-3,1.1192216684295432E-2,4.1051753760795425E-3,2.3304086903506362E-2]
[null,null,4,1658.0512924200311,431.91966743345341,850.11249601434054,2940.0834558678253,null,4,8.0528108610957976E-3,2.0977441439416467E-3,4.1288198817213111E-3,1.4279374886758756E-2]
[null,null,5,1667.6011409761745,434.40738746435125,855.00887384639941,2957.0174022869251,null,5,8.0991924926691414E-3,2.1098264835989079E-3,4.152600572201931E-3,1.436161954846998E-2]
[null,null,6,1677.2059936252924,436.90943597209019,859.9334532588216,2974.0488828562038,null,6,8.1458412677013967E-3,2.1219784136931211E-3,4.1765182319027962E-3,1.4444337913297314E-2]
[null,null,7,92687.271468058898,48399.050152301024,64119.818586514099,205206.14020687403,null,7,0.45016283258276729,0.23506413734903667,0.31141664548346693,0.99664361541527091]
[null,null,8,1247.143655463412,324.8788957085165,639.43281530633635,2211.4553664782648,null,8,6.0571177863889035E-3,1.5778693408717518E-3,3.1055924165797662E-3,1.0740579543840421E-2]
[null,null,9,1254.3268066070943,2201.7500949092209,643.11574512637299,4099.1926466426885,null,9,6.0920048600344428E-3,1.069344305496437E-2,3.1234796420178627E-3,1.9908927557016676E-2]
[null,null,10,1261.5513304187341,328.63207162270021,646.81988745182775,2237.0032894932619,null,10,6.1270928721379181E-3,1.5960977370037125E-3,3.141469892190359E-3,1.086466050133199E-2]
[null,null,11,"-","-","-",{"$f":"IF(C84<=$F$89,(IF(SUM(D84:F84)>=0,SUM(D84:F84),0)),\"-\")","v":"-"},null,11,"-",{"$f":"IF(C84<=$F$89,(IF(G84=0,0,E84/$G$74)),\"-\")","v":"-"},"-","-"]
[null,null,12,"-","-","-",{"$f":"IF(C85<=$F$89,(IF(SUM(D85:F85)>=0,SUM(D85:F85),0)),\"-\")","v":"-"},null,12,"-","-","-","-"]
[]
[null,"4.Berechnungsweg: Stromverbrauch und Energiekosten"]
[null,null,"Berechnung des Stromverbrauchs innerhalb des Betrachtungszeitraums"]
[null,null,"Betrachtungszeitraum",null,null,{"$f":"E6","v":10},"Jahre"]
[null,null,{"$f":"C26","v":"Nutzungsdauer [Jahre]"},null,null,null,null,null,"IT-Gerät","Anzahl des Beschaffungszyklus","Einheit"]
[null,null,null,"Desktop-PC",null,{"$f":"D27","v":6},"Jahre",null,"Desktop-PC",{"$f":"IF(D21<>0,$E$6/D27, \"0\")","v":1.6666666666666667},"Anzahl des Beschaffungszyklus"]
[null,null,null,"Notebook",null,{"$f":"D28","v":6},"Jahre",null,"Notebook",{"$f":"IF(D22<>0,$E$6/D28, \"0\")","v":1.6666666666666667},"Anzahl des Beschaffungszyklus"]
[null,null,null,"Mini-PC",null,{"$f":"D29","v":6},"Jahre",null,"Mini-PC",{"$f":"IF(D23<>0,$E$6/D29, \"0\")","v":1.6666666666666667},"Anzahl des Beschaffungszyklus"]
[null,null,null,"Monitor",null,{"$f":"D30","v":6},"Jahre",null,"Monitor",{"$f":"IF(D30<>0,$E$6/D30, \"0\")","v":1.6666666666666667},"Anzahl des Beschaffungszyklus"]
[null,null,"Energieeffizienzsteigerung von 5% pro Jahr",null,null,0.05]
[]
[null,null,"Stromverbrauch","Wh/Gerät/pro Kalendertag",null,null,null,null,"Stromverbrauch","kWh/Gerät/das erste Jahr"]
[null,null,"IT-Gerät","Hohe Nutzungsintensität ","Mittlere Nutzungsintensität ","Geringe Nutzungsintensität ",null,null,"IT-Gerät","Hohe Nutzungsintensität ","Mittlere Nutzungsintensität ","Geringe Nutzungsintensität "]
[null,null,"Desktop-PC",{"$f":"IF($D$21>0,SUMPRODUCT(Konstante_Werte!$E$28:$G$28,Szen3_Variablen!$E$38:$G$38),0)","v":259.185},{"$f":"IF($D$21>0,SUMPRODUCT(Konstante_Werte!$E$29:$G$29,Szen3_Variablen!$E$38:$G$38),0)","v":213.72},{"$f":"IF($D$21>0,SUMPRODUCT(Konstante_Werte!$E$30:$G$30,Szen3_Variablen!$E$38:$G$38),0)","v":168.255},null,null,"Desktop-PC",{"$f":"IF($D$21>0,(D$99*$E$5+Szen3_Variablen!$G$38*24*(365-$E$5))/1000,0)","v":55.686074999999995},{"$f":"IF($D$21>0,(E$99*$E$5+Szen3_Variablen!$G$38*24*(365-$E$5))/1000,0)","v":46.456679999999992},{"$f":"IF($D$21>0,(F$99*$E$5+Szen3_Variablen!$G$38*24*(365-$E$5))/1000,0)","v":37.227284999999995}]
[null,null,"Notebook",{"$f":"IF($D$22>0,SUMPRODUCT(Konstante_Werte!$E$33:$G$33,Szen3_Variablen!$E$42:$G$42),0)","v":76.077500000000001},{"$f":"IF($D$22>0,SUMPRODUCT(Konstante_Werte!$E$34:$G$34,Szen3_Variablen!$E$42:$G$42),0)","v":63.61999999999999},{"$f":"IF($D$22>0,SUMPRODUCT(Konstante_Werte!$E$35:$G$35,Szen3_Variablen!$E$42:$G$42),0)","v":51.162499999999987},null,null,"Notebook",{"$f":"IF($D$22>0,(D$100*$E$5+Szen3_Variablen!$G$42*24*(365-$E$5))/1000,0)","v":17.232212500000003},{"$f":"IF($D$22>0,(E$100*$E$5+Szen3_Variablen!$G$42*24*(365-$E$5))/1000,0)","v":14.703339999999999},{"$f":"IF($D$22>0,(F$100*$E$5+Szen3_Variablen!$G$42*24*(365-$E$5))/1000,0)","v":12.174467499999997}]
[null,null,"Mini-PC",{"$f":"IF($D$23>0,SUMPRODUCT(Konstante_Werte!$E$38:$G$38,Szen3_Variablen!$E$46:$G$46),0)","v":139.065},{"$f":"IF($D$23>0,SUMPRODUCT(Konstante_Werte!$E$39:$G$39,Szen3_Variablen!$E$46:$G$46),0)","v":117.24},{"$f":"IF($D$23>0,SUMPRODUCT(Konstante_Werte!$E$40:$G$40,Szen3_Variablen!$E$46:$G$46),0)","v":95.414999999999992},null,null,"Mini-PC",{"$f":"IF($D$23>0,(D$101*$E$5+Szen3_Variablen!$G$46*24*(365-$E$5))/1000,0)","v":31.768275000000003},{"$f":"IF($D$23>0,(E$101*$E$5+Szen3_Variablen!$G$46*24*(365-$E$5))/1000,0)","v":27.337799999999994},{"$f":"IF($D$23>0,(F$101*$E$5+Szen3_Variablen!$G$46*24*(365-$E$5))/1000,0)","v":22.907324999999997}]
[null,null,"Monitor",{"$f":"IF($E$24>0,SUMPRODUCT(Konstante_Werte!$E$43:$G$43,Szen3_Variablen!$E$50:$G$50),0)","v":146.6},{"$f":"IF($E$24>0,SUMPRODUCT(Konstante_Werte!$E$44:$G$44,Szen3_Variablen!$E$50:$G$50),0)","v":119.12},{"$f":"IF($E$24>0,SUMPRODUCT(Konstante_Werte!$E$45:$G$45,Szen3_Variablen!$E$50:$G$50),0)","v":91.64},null,null,"Monitor",{"$f":"IF($E$24>0,(D$102*$E$5+Szen3_Variablen!$G$50*24*(365-$E$5))/1000,0)","v":30.926200000000001},{"$f":"IF($E$24>0,(E$102*$E$5+Szen3_Variablen!$G$50*24*(365-$E$5))/1000,0)","v":25.347760000000001},{"$f":"IF($E$24>0,(F$102*$E$5+Szen3_Variablen!$G$50*24*(365-$E$5))/1000,0)","v":19.769320000000004}]
[]
[null,null,"Stromverbrauch im ersten Jahr je Geräteklasse unter Berücksichtigung der Nutzungsprofile "]
[null,null,"IT-Gerät","kWh/Gerät/das erste Jahr"]
[null,null,"Desktop-PC",{"$f":"IF($D$21>0,SUMPRODUCT(J99:L99,$D$17:$F$17),0)","v":46.456679999999992}]
[null,null,"Notebook",{"$f":"IF($D$22>0,SUMPRODUCT(J100:L100,$D$17:$F$17),0)","v":14.703339999999999}]
[null,null,"Mini-PC",{"$f":"IF($D$23>0,SUMPRODUCT(J101:L101,$D$17:$F$17),0)","v":27.337799999999998}]
[null,null,"Monitor",{"$f":"IF($E$24>0,SUMPRODUCT(J102:L102,$D$17:$F$17),0)","v":25.347760000000005}]
[]
[null,null,"Energieeffizienzsteigerung von 5% pro Jahr der neubeschafften Geräte wird berücksichtigt"]
[null,null,"Jahr (max: 12 Jahre)","Desktop","Notebook","Mini-PC","Monitor","Einheit"]
[null,null,1,{"$f":"D106","v":46.456679999999992},{"$f":"D107","v":14.703339999999999},{"$f":"D108","v":27.337799999999998},{"$f":"D109","v":25.347760000000005},"kWh/a/Gerät"]
[null,null,{"$f":"C113+1","v":2},{"$f":"IF($D$113<>0,IF(MOD(C113,$F$91)=0,$D$113*(1-$F$95)^C113,D113),0)","v":46.456679999999992},{"$f":"IF($E$113<>0,IF(MOD(C113,$F$92)=0,$E$113*(1-$F$95)^C113,E113),0)","v":14.703339999999999},{"$f":"IF($F$113<>0,IF(MOD(C113,$F$93)=0,$F$113*(1-$F$95)^C113,F113),0)","v":27.337799999999998},{"$f":"IF($G$113<>0,IF(MOD(C113,$F$94)=0,$G$113*(1-$F$95)^C113,G113),0)","v":25.347760000000005},"kWh/a/Gerät"]
[null,null,{"$f":"C114+1","v":3},{"$f":"IF($D$113<>0,IF(MOD(C114,$F$91)=0,$D$113*(1-$F$95)^C114,D114),0)","v":46.456679999999992},{"$f":"IF($E$113<>0,IF(MOD(C114,$F$92)=0,$E$113*(1-$F$95)^C114,E114),0)","v":14.703339999999999},{"$f":"IF($F$113<>0,IF(MOD(C114,$F$93)=0,$F$113*(1-$F$95)^C114,F114),0)","v":27.337799999999998},{"$f":"IF($G$113<>0,IF(MOD(C114,$F$94)=0,$G$113*(1-$F$95)^C114,G114),0)","v":25.347760000000005},"kWh/a/Gerät"]
[null,null,4,46.456679999999992,14.703339999999999,27.337799999999998,25.347760000000005,"kWh/a/Gerät"]
[null,null,5,46.456679999999992,14.703339999999999,27.337799999999998,25.347760000000005,"kWh/a/Gerät"]
[null,null,6,46.456679999999992,14.703339999999999,27.337799999999998,25.347760000000005,"kWh/a/Gerät"]
[null,null,7,34.149928733360618,10.808305999102185,20.095795087528121,18.632932821508749,"kWh/a/Gerät"]
[null,null,8,34.149928733360618,10.808305999102185,20.095795087528121,18.632932821508749,"kWh/a/Gerät"]
[null,null,9,34.149928733360618,10.808305999102185,20.095795087528121,18.632932821508749,"kWh/a/Gerät"]
[null,null,10,34.149928733360618,10.808305999102185,20.095795087528121,18.632932821508749,"kWh/a/Gerät"]
[null,null,11,34.149928733360618,10.808305999102185,20.095795087528121,18.632932821508749,"kWh/a/Gerät"]
[null,null,12,34.149928733360618,10.808305999102185,20.095795087528121,18.632932821508749,"kWh/a/Gerät"]
[null,null,{"$f":"\"Summe über Betrachtungszeitraum von \" &$F$89 & \" Jahren\"","v":"Summe über Betrachtungszeitraum von 10 Jahren"},{"$f":"SUM(D113:OFFSET(D113,$F$89-1,0))","v":415.33979493344253},{"$f":"SUM(E113:OFFSET(E113,$F$89-1,0))","v":131.45326399640874},{"$f":"SUM(F113:OFFSET(F113,$F$89-1,0))","v":244.40998035011251},{"$f":"SUM(G113:OFFSET(G113,$F$89-1,0))","v":226.618291286035},"kWh/Betrachtungszeitraum/Gerät"]
[]
[null,null,"Berechnung der Energiekosten innerhalb des Betrachtungszeitraums"]
[null,null,"Jahr (max: 12 Jahre)","Desktop","Notebook","Mini-PC","Monitor","Einheit"]
[null,null,1,{"$f":"IF($D$21>0,D113*$G8,0)","v":9.8488161599999984},{"$f":"IF($D$22>0,E113*$G8,0)","v":3.1171080799999995},{"$f":"IF($D$23>0,F113*$G8,0)","v":5.7956135999999994},{"$f":"IF($E$24>0,G113*$G8,0)","v":5.3737251200000005},"Euro/a/Gerät"]
[null,null,{"$f":"C129+1","v":2},{"$f":"IF($D$21>0,D114*$G$8*(1+$G$9)^C129,0)","v":9.9055422113684202},{"$f":"IF($D$22>0,E114*$G$8*(1+$G$9)^C129,0)","v":3.1350616319999998},{"$f":"IF($D$23>0,F114*$G$8*(1+$G$9)^C129,0)","v":5.8289944926315789},{"$f":"IF($E$24>0,G114*$G$8*(1+$G$9)^C129,0)","v":5.4046760690526323},"Euro/a/Gerät"]
[null,null,{"$f":"C130+1","v":3},{"$f":"IF($D$21>0,D115*$G$8*(1+$G$9)^C130,0)","v":9.96259498676657},{"$f":"IF($D$22>0,E115*$G$8*(1+$G$9)^C130,0)","v":3.1531185907543193},{"$f":"IF($D$23>0,F115*$G$8*(1+$G$9)^C130,0)","v":5.862567648597083},{"$f":"IF($E$24>0,G115*$G$8*(1+$G$9)^C130,0)","v":5.4358052857363521},"Euro/a/Gerät"]
[null,null,4,10.019976368021034,3.1712795518530039,5.8963341752722203,5.4671137968160641,"Euro/a/Gerät"]
[null,null,5,10.077688247797125,3.1895451143165068,5.9302951864108291,5.498602634970517,"Euro/a/Gerät"]
[null,null,6,10.135732529661299,3.2079158806154497,5.9644518021816166,5.5302728388263542,"Euro/a/Gerät"]
[null,null,7,7.4936084224286921,2.371694930886854,4.4096730186201665,4.0886733151336072,"Euro/a/Gerät"]
[null,null,8,7.5367692256561858,2.3853551400220514,4.4350713339210568,4.1122227741482789,"Euro/a/Gerät"]
[null,null,9,7.5801786213948228,2.3990940276209871,4.4606159354471178,4.1359078705634342,"Euro/a/Gerät"]
[null,null,10,7.6238380414584679,2.4129120468466096,4.486307665760517,4.1597293856073945,"Euro/a/Gerät"]
[null,null,11,7.6677489259077829,2.4268096534719428,4.5121473722763179,4.1836881050081125,"Euro/a/Gerät"]
[null,null,12,7.7119127230977176,2.4407873058951175,4.5381359072904219,4.2077848190190821,"Euro/a/Gerät"]
[null,null,{"$f":"C125","v":"Summe über Betrachtungszeitraum von 10 Jahren"},{"$f":"SUM(D129:OFFSET(D129,$F$89-1,0))","v":90.184744814552616},{"$f":"SUM(E129:OFFSET(E129,$F$89-1,0))","v":28.54308499491578},{"$f":"SUM(F129:OFFSET(F129,$F$89-1,0))","v":53.069924858842185},{"$f":"SUM(G129:OFFSET(G129,$F$89-1,0))","v":49.206729090854637},"Euro/Betrachtungszeitraum/Gerät"]
[]
[null,null,"APC mit Desktop (für alle Geräte)"]
[null,null,"In EURO ","Anschaffungskosten",null,null,null,null,"Energiekosten",null,"Bruttopersonal-kosten","Sach-und Gemeinkosten","Summe",null,"Anteil"]
[null,null,"Jahr (max: 12 Jahre)","Desktop","Monitor","Ersatz HDD durch SSD","RAM hinzufügen","Wechsel des Akkus","Desktop","Monitor"]
[null,null,1,{"$f":"IF($D$21>0,(IF(MOD(($C146-1),$D$27)<>0,0,Konstante_Werte!$E$63*$D$21)),0)","v":31200},{"$f":"IF($E$21>0,(IF(MOD(($C146-1),$D$30)<>0,0,Konstante_Werte!$E$66*$E$21)),0)","v":22680},{"$f":"IF($D$21>0,(IF($D$27=1,$D$21*$D$34*$J$34*Konstante_Werte!$E$67, IF(AND($D$27<>1,$D$27/($J$34+1)<1),Konstante_Werte!$E$67*$D$34*$D$21*$J$34/$D$27,IF(MOD($C146,$D$27)=0,0,IF(INT(MOD(($C146-$D$27*INT(($C146-1)/$D$27)),($D$27/($J$34+1))))<>0,0,Konstante_Werte!$E$67*$D$34*$D$21))))),0)","v":0},{"$f":"IF($D$21>0,(IF($D$27=1,$D$21*$E$34*$K$34*Konstante_Werte!$E$68, IF(AND($D$27<>1,$D$27/($K$34+1)<1),Konstante_Werte!$E$68*$E$34*$D$21*$K$34/$D$27,IF(MOD($C146,$D$27)=0,0,IF(INT(MOD(($C146-$D$27*INT(($C146-1)/$D$27)),($D$27/($K$34+1))))<>0,0,Konstante_Werte!$E$68*$E$34*$D$21))))),0)","v":0},"-",{"$f":"IF($D$21>0, D129*$D$21,0)","v":984.88161599999989},{"$f":"G129*$E$21","v":644.84701440000003},{"$f":"IF($D$21>0,(IF(MOD(($C146-1),$D$27)<>0,0,$K$13*$D$21)),0)+IF($E$21>0,(IF(MOD(($C146-1),$D$30)<>0,0,$K$13*$E$21)),0)","v":20817.737556},{"$f":"IF($D$21>0,(IF(MOD(($C146-1),$D$27)<>0,0,$K$14*$D$21)),0)+IF($E$21>0,(IF(MOD(($C146-1),$D$30)<>0,0,$K$14*$E$21)),0)","v":16749.532272},{"$f":"SUM(D146:L146)","v":93076.998458400005},"Euro/a",{"$f":"IF($M$158<>0,(IF(C146<=$F$89,M146/$M$158,\"-\")),0)","v":0.47051877172757783}]
[null,null,{"$f":"C146+1","v":2},{"$f":"IF($D$21>0,(IF(MOD(($C147-1),$D$27)<>0,0,Konstante_Werte!$E$63*$D$21)),0)","v":0},{"$f":"IF($E$21>0,(IF(MOD(($C147-1),$D$30)<>0,0,Konstante_Werte!$E$66*$E$21)),0)","v":0},{"$f":"IF($D$21>0,(IF($D$27=1,$D$21*$D$34*$J$34*Konstante_Werte!$E$67, IF(AND($D$27<>1,$D$27/($J$34+1)<1),Konstante_Werte!$E$67*$D$34*$D$21*$J$34/$D$27,IF(MOD($C147,$D$27)=0,0,IF(INT(MOD(($C147-$D$27*INT(($C147-1)/$D$27)),($D$27/($J$34+1))))<>0,0,Konstante_Werte!$E$67*$D$34*$D$21))))),0)","v":0},{"$f":"IF($D$21>0,(IF($D$27=1,$D$21*$E$34*$K$34*Konstante_Werte!$E$68, IF(AND($D$27<>1,$D$27/($K$34+1)<1),Konstante_Werte!$E$68*$E$34*$D$21*$K$34/$D$27,IF(MOD($C147,$D$27)=0,0,IF(INT(MOD(($C147-$D$27*INT(($C147-1)/$D$27)),($D$27/($K$34+1))))<>0,0,Konstante_Werte!$E$68*$E$34*$D$21))))),0)","v":0},"-",990.55422113684199,648.56112828631592,0,0,{"$f":"SUM(D147:L147)","v":1639.115349423158},"Euro/a",8.2859842249328741E-3]
[null,null,{"$f":"C147+1","v":3},{"$f":"IF($D$21>0,(IF(MOD(($C148-1),$D$27)<>0,0,Konstante_Werte!$E$63*$D$21)),0)","v":0},{"$f":"IF($E$21>0,(IF(MOD(($C148-1),$D$30)<>0,0,Konstante_Werte!$E$66*$E$21)),0)","v":0},{"$f":"IF($D$21>0,(IF($D$27=1,$D$21*$D$34*$J$34*Konstante_Werte!$E$67, IF(AND($D$27<>1,$D$27/($J$34+1)<1),Konstante_Werte!$E$67*$D$34*$D$21*$J$34/$D$27,IF(MOD($C148,$D$27)=0,0,IF(INT(MOD(($C148-$D$27*INT(($C148-1)/$D$27)),($D$27/($J$34+1))))<>0,0,Konstante_Werte!$E$67*$D$34*$D$21))))),0)","v":0},{"$f":"IF($D$21>0,(IF($D$27=1,$D$21*$E$34*$K$34*Konstante_Werte!$E$68, IF(AND($D$27<>1,$D$27/($K$34+1)<1),Konstante_Werte!$E$68*$E$34*$D$21*$K$34/$D$27,IF(MOD($C148,$D$27)=0,0,IF(INT(MOD(($C148-$D$27*INT(($C148-1)/$D$27)),($D$27/($K$34+1))))<>0,0,Konstante_Werte!$E$68*$E$34*$D$21))))),0)","v":0},"-",996.25949867665702,652.29663428836227,0,0,1648.5561329650193,"Euro/a",8.3337088609851187E-3]
[null,null,4,{"$f":"IF($D$21>0,(IF(MOD(($C149-1),$D$27)<>0,0,Konstante_Werte!$E$63*$D$21)),0)","v":0},{"$f":"IF($E$21>0,(IF(MOD(($C149-1),$D$30)<>0,0,Konstante_Werte!$E$66*$E$21)),0)","v":0},{"$f":"IF($D$21>0,(IF($D$27=1,$D$21*$D$34*$J$34*Konstante_Werte!$E$67, IF(AND($D$27<>1,$D$27/($J$34+1)<1),Konstante_Werte!$E$67*$D$34*$D$21*$J$34/$D$27,IF(MOD($C149,$D$27)=0,0,IF(INT(MOD(($C149-$D$27*INT(($C149-1)/$D$27)),($D$27/($J$34+1))))<>0,0,Konstante_Werte!$E$67*$D$34*$D$21))))),0)","v":0},{"$f":"IF($D$21>0,(IF($D$27=1,$D$21*$E$34*$K$34*Konstante_Werte!$E$68, IF(AND($D$27<>1,$D$27/($K$34+1)<1),Konstante_Werte!$E$68*$E$34*$D$21*$K$34/$D$27,IF(MOD($C149,$D$27)=0,0,IF(INT(MOD(($C149-$D$27*INT(($C149-1)/$D$27)),($D$27/($K$34+1))))<>0,0,Konstante_Werte!$E$68*$E$34*$D$21))))),0)","v":0},"-",1001.9976368021034,656.05365561792769,0,0,1658.0512924200311,"Euro/a",8.3817083757752996E-3]
[null,null,5,{"$f":"IF($D$21>0,(IF(MOD(($C150-1),$D$27)<>0,0,Konstante_Werte!$E$63*$D$21)),0)","v":0},{"$f":"IF($E$21>0,(IF(MOD(($C150-1),$D$30)<>0,0,Konstante_Werte!$E$66*$E$21)),0)","v":0},{"$f":"IF($D$21>0,(IF($D$27=1,$D$21*$D$34*$J$34*Konstante_Werte!$E$67, IF(AND($D$27<>1,$D$27/($J$34+1)<1),Konstante_Werte!$E$67*$D$34*$D$21*$J$34/$D$27,IF(MOD($C150,$D$27)=0,0,IF(INT(MOD(($C150-$D$27*INT(($C150-1)/$D$27)),($D$27/($J$34+1))))<>0,0,Konstante_Werte!$E$67*$D$34*$D$21))))),0)","v":0},{"$f":"IF($D$21>0,(IF($D$27=1,$D$21*$E$34*$K$34*Konstante_Werte!$E$68, IF(AND($D$27<>1,$D$27/($K$34+1)<1),Konstante_Werte!$E$68*$E$34*$D$21*$K$34/$D$27,IF(MOD($C150,$D$27)=0,0,IF(INT(MOD(($C150-$D$27*INT(($C150-1)/$D$27)),($D$27/($K$34+1))))<>0,0,Konstante_Werte!$E$68*$E$34*$D$21))))),0)","v":0},"-",1007.7688247797125,659.83231619646199,0,0,1667.6011409761745,"Euro/a",8.4299843525176017E-3]
[null,null,6,{"$f":"IF($D$21>0,(IF(MOD(($C151-1),$D$27)<>0,0,Konstante_Werte!$E$63*$D$21)),0)","v":0},{"$f":"IF($E$21>0,(IF(MOD(($C151-1),$D$30)<>0,0,Konstante_Werte!$E$66*$E$21)),0)","v":0},{"$f":"IF($D$21>0,(IF($D$27=1,$D$21*$D$34*$J$34*Konstante_Werte!$E$67, IF(AND($D$27<>1,$D$27/($J$34+1)<1),Konstante_Werte!$E$67*$D$34*$D$21*$J$34/$D$27,IF(MOD($C151,$D$27)=0,0,IF(INT(MOD(($C151-$D$27*INT(($C151-1)/$D$27)),($D$27/($J$34+1))))<>0,0,Konstante_Werte!$E$67*$D$34*$D$21))))),0)","v":0},{"$f":"IF($D$21>0,(IF($D$27=1,$D$21*$E$34*$K$34*Konstante_Werte!$E$68, IF(AND($D$27<>1,$D$27/($K$34+1)<1),Konstante_Werte!$E$68*$E$34*$D$21*$K$34/$D$27,IF(MOD($C151,$D$27)=0,0,IF(INT(MOD(($C151-$D$27*INT(($C151-1)/$D$27)),($D$27/($K$34+1))))<>0,0,Konstante_Werte!$E$68*$E$34*$D$21))))),0)","v":0},"-",1013.5732529661299,663.63274065916255,0,0,1677.2059936252924,"Euro/a",8.4785383835450107E-3]
[null,null,7,{"$f":"IF($D$21>0,(IF(MOD(($C152-1),$D$27)<>0,0,Konstante_Werte!$E$63*$D$21)),0)","v":31200},{"$f":"IF($E$21>0,(IF(MOD(($C152-1),$D$30)<>0,0,Konstante_Werte!$E$66*$E$21)),0)","v":22680},{"$f":"IF($D$21>0,(IF($D$27=1,$D$21*$D$34*$J$34*Konstante_Werte!$E$67, IF(AND($D$27<>1,$D$27/($J$34+1)<1),Konstante_Werte!$E$67*$D$34*$D$21*$J$34/$D$27,IF(MOD($C152,$D$27)=0,0,IF(INT(MOD(($C152-$D$27*INT(($C152-1)/$D$27)),($D$27/($J$34+1))))<>0,0,Konstante_Werte!$E$67*$D$34*$D$21))))),0)","v":0},{"$f":"IF($D$21>0,(IF($D$27=1,$D$21*$E$34*$K$34*Konstante_Werte!$E$68, IF(AND($D$27<>1,$D$27/($K$34+1)<1),Konstante_Werte!$E$68*$E$34*$D$21*$K$34/$D$27,IF(MOD($C152,$D$27)=0,0,IF(INT(MOD(($C152-$D$27*INT(($C152-1)/$D$27)),($D$27/($K$34+1))))<>0,0,Konstante_Werte!$E$68*$E$34*$D$21))))),0)","v":0},"-",749.36084224286924,490.64079781603289,20817.737556,16749.532272,92687.271468058898,"Euro/a",0.46854864089137188]
[null,null,8,{"$f":"IF($D$21>0,(IF(MOD(($C153-1),$D$27)<>0,0,Konstante_Werte!$E$63*$D$21)),0)","v":0},{"$f":"IF($E$21>0,(IF(MOD(($C153-1),$D$30)<>0,0,Konstante_Werte!$E$66*$E$21)),0)","v":0},{"$f":"IF($D$21>0,(IF($D$27=1,$D$21*$D$34*$J$34*Konstante_Werte!$E$67, IF(AND($D$27<>1,$D$27/($J$34+1)<1),Konstante_Werte!$E$67*$D$34*$D$21*$J$34/$D$27,IF(MOD($C153,$D$27)=0,0,IF(INT(MOD(($C153-$D$27*INT(($C153-1)/$D$27)),($D$27/($J$34+1))))<>0,0,Konstante_Werte!$E$67*$D$34*$D$21))))),0)","v":0},{"$f":"IF($D$21>0,(IF($D$27=1,$D$21*$E$34*$K$34*Konstante_Werte!$E$68, IF(AND($D$27<>1,$D$27/($K$34+1)<1),Konstante_Werte!$E$68*$E$34*$D$21*$K$34/$D$27,IF(MOD($C153,$D$27)=0,0,IF(INT(MOD(($C153-$D$27*INT(($C153-1)/$D$27)),($D$27/($K$34+1))))<>0,0,Konstante_Werte!$E$68*$E$34*$D$21))))),0)","v":0},"-",753.67692256561861,493.46673289779346,0,0,1247.143655463412,"Euro/a",6.3045060611699195E-3]
[null,null,9,{"$f":"IF($D$21>0,(IF(MOD(($C154-1),$D$27)<>0,0,Konstante_Werte!$E$63*$D$21)),0)","v":0},{"$f":"IF($E$21>0,(IF(MOD(($C154-1),$D$30)<>0,0,Konstante_Werte!$E$66*$E$21)),0)","v":0},{"$f":"IF($D$21>0,(IF($D$27=1,$D$21*$D$34*$J$34*Konstante_Werte!$E$67, IF(AND($D$27<>1,$D$27/($J$34+1)<1),Konstante_Werte!$E$67*$D$34*$D$21*$J$34/$D$27,IF(MOD($C154,$D$27)=0,0,IF(INT(MOD(($C154-$D$27*INT(($C154-1)/$D$27)),($D$27/($J$34+1))))<>0,0,Konstante_Werte!$E$67*$D$34*$D$21))))),0)","v":0},{"$f":"IF($D$21>0,(IF($D$27=1,$D$21*$E$34*$K$34*Konstante_Werte!$E$68, IF(AND($D$27<>1,$D$27/($K$34+1)<1),Konstante_Werte!$E$68*$E$34*$D$21*$K$34/$D$27,IF(MOD($C154,$D$27)=0,0,IF(INT(MOD(($C154-$D$27*INT(($C154-1)/$D$27)),($D$27/($K$34+1))))<>0,0,Konstante_Werte!$E$68*$E$34*$D$21))))),0)","v":0},"-",758.0178621394823,496.30894446761209,0,0,1254.3268066070943,"Euro/a",6.3408180126642462E-3]
[null,null,10,{"$f":"IF($D$21>0,(IF(MOD(($C155-1),$D$27)<>0,0,Konstante_Werte!$E$63*$D$21)),0)","v":0},{"$f":"IF($E$21>0,(IF(MOD(($C155-1),$D$30)<>0,0,Konstante_Werte!$E$66*$E$21)),0)","v":0},{"$f":"IF($D$21>0,(IF($D$27=1,$D$21*$D$34*$J$34*Konstante_Werte!$E$67, IF(AND($D$27<>1,$D$27/($J$34+1)<1),Konstante_Werte!$E$67*$D$34*$D$21*$J$34/$D$27,IF(MOD($C155,$D$27)=0,0,IF(INT(MOD(($C155-$D$27*INT(($C155-1)/$D$27)),($D$27/($J$34+1))))<>0,0,Konstante_Werte!$E$67*$D$34*$D$21))))),0)","v":0},{"$f":"IF($D$21>0,(IF($D$27=1,$D$21*$E$34*$K$34*Konstante_Werte!$E$68, IF(AND($D$27<>1,$D$27/($K$34+1)<1),Konstante_Werte!$E$68*$E$34*$D$21*$K$34/$D$27,IF(MOD($C155,$D$27)=0,0,IF(INT(MOD(($C155-$D$27*INT(($C155-1)/$D$27)),($D$27/($K$34+1))))<>0,0,Konstante_Werte!$E$68*$E$34*$D$21))))),0)","v":0},"-",762.38380414584674,499.16752627288736,0,0,1261.5513304187341,"Euro/a",6.3773391094601286E-3]
[null,null,11,{"$f":"IF($D$21>0,(IF(MOD(($C156-1),$D$27)<>0,0,Konstante_Werte!$E$63*$D$21)),0)","v":0},{"$f":"IF($E$21>0,(IF(MOD(($C156-1),$D$30)<>0,0,Konstante_Werte!$E$66*$E$21)),0)","v":0},{"$f":"IF($D$21>0,(IF($D$27=1,$D$21*$D$34*$J$34*Konstante_Werte!$E$67, IF(AND($D$27<>1,$D$27/($J$34+1)<1),Konstante_Werte!$E$67*$D$34*$D$21*$J$34/$D$27,IF(MOD($C156,$D$27)=0,0,IF(INT(MOD(($C156-$D$27*INT(($C156-1)/$D$27)),($D$27/($J$34+1))))<>0,0,Konstante_Werte!$E$67*$D$34*$D$21))))),0)","v":0},{"$f":"IF($D$21>0,(IF($D$27=1,$D$21*$E$34*$K$34*Konstante_Werte!$E$68, IF(AND($D$27<>1,$D$27/($K$34+1)<1),Konstante_Werte!$E$68*$E$34*$D$21*$K$34/$D$27,IF(MOD($C156,$D$27)=0,0,IF(INT(MOD(($C156-$D$27*INT(($C156-1)/$D$27)),($D$27/($K$34+1))))<>0,0,Konstante_Werte!$E$68*$E$34*$D$21))))),0)","v":0},"-",766.77489259077834,502.04257260097347,0,0,1268.8174651917518,"Euro/a","-"]
[null,null,12,{"$f":"IF($D$21>0,(IF(MOD(($C157-1),$D$27)<>0,0,Konstante_Werte!$E$63*$D$21)),0)","v":0},{"$f":"IF($E$21>0,(IF(MOD(($C157-1),$D$30)<>0,0,Konstante_Werte!$E$66*$E$21)),0)","v":0},{"$f":"IF($D$21>0,(IF($D$27=1,$D$21*$D$34*$J$34*Konstante_Werte!$E$67, IF(AND($D$27<>1,$D$27/($J$34+1)<1),Konstante_Werte!$E$67*$D$34*$D$21*$J$34/$D$27,IF(MOD($C157,$D$27)=0,0,IF(INT(MOD(($C157-$D$27*INT(($C157-1)/$D$27)),($D$27/($J$34+1))))<>0,0,Konstante_Werte!$E$67*$D$34*$D$21))))),0)","v":0},{"$f":"IF($D$21>0,(IF($D$27=1,$D$21*$E$34*$K$34*Konstante_Werte!$E$68, IF(AND($D$27<>1,$D$27/($K$34+1)<1),Konstante_Werte!$E$68*$E$34*$D$21*$K$34/$D$27,IF(MOD($C157,$D$27)=0,0,IF(INT(MOD(($C157-$D$27*INT(($C157-1)/$D$27)),($D$27/($K$34+1))))<>0,0,Konstante_Werte!$E$68*$E$34*$D$21))))),0)","v":0},"-",771.19127230977176,504.93417828228985,0,0,1276.1254505920615,"Euro/a","-"]
[null,null,"Summe über Betrachtungszeitraum",{"$f":"SUM(D146:OFFSET(D146,$F$89-1,0))","v":62400},{"$f":"SUM(E146:OFFSET(E146,$F$89-1,0))","v":45360},{"$f":"SUM(F146:OFFSET(F146,$F$89-1,0))","v":0},{"$f":"SUM(G146:OFFSET(G146,$F$89-1,0))","v":0},"-",{"$f":"SUM(I146:OFFSET(I146,$F$89-1,0))","v":9018.4744814552632},{"$f":"SUM(J146:OFFSET(J146,$F$89-1,0))","v":5904.8074909025572},{"$f":"SUM(K146:OFFSET(K146,$F$89-1,0))","v":41635.475112},{"$f":"SUM(L146:OFFSET(L146,$F$89-1,0))","v":33499.064544000001},{"$f":"SUM(M146:OFFSET(M146,$F$89-1,0))","v":197817.82162835784},"Euro/Betrachtungszeitraum","-"]
[]
[null,null,"APC mit Notebook (für alle Geräte)"]
[null,null,"In EURO ","Anschaffungskosten",null,null,null,null,"Energiekosten",null,"Bruttopersonal-kosten","Sach-und Gemeinkosten","Summe",null,"Anteil"]
[null,null,"Jahr (max: 12 Jahre)","Notebook","Monitor","Ersatz HDD durch SSD","RAM hinzufügen","Wechsel des Akkus",{"$f":"E128","v":"Notebook"},{"$f":"G128","v":"Monitor"}]
[null,null,1,{"$f":"IF($D$22>0,(IF(MOD(($C146-1),$D$28)<>0,0,Konstante_Werte!$E$64*$D$22)),0)","v":21550},{"$f":"IF($E$22>0,(IF(MOD(($C163-1),$D$30)<>0,0,Konstante_Werte!$E$66*$E$22)),0)","v":9450},{"$f":"IF($D$22>0,(IF($D$28=1,$D$22*$D$35*$J$35*Konstante_Werte!$E$67, IF(AND($D$28<>1,$D$28/($J$35+1)<1),Konstante_Werte!$E$67*$D$35*$D$22*$J$35/$D$28,IF(MOD($C163,$D$28)=0,0,IF(INT(MOD(($C163-$D$28*INT(($C163-1)/$D$28)),($D$28/($J$35+1))))<>0,0,Konstante_Werte!$E$67*$D$35*$D$22))))),0)","v":0},{"$f":"IF($D$22>0,(IF($D$28=1,$D$22*$E$35*$K$35*Konstante_Werte!$E$68, IF(AND($D$28<>1,$D$28/($K$35+1)<1),Konstante_Werte!$E$68*$E$35*$D$22*$K$35/$D$28,IF(MOD($C163,$D$28)=0,0,IF(INT(MOD(($C163-$D$28*INT(($C163-1)/$D$28)),($D$28/($K$35+1))))<>0,0,Konstante_Werte!$E$68*$E$35*$D$22))))),0)","v":0},{"$f":"IF($D$22>0,(IF($D$28=1,$D$22*$F$35*$L$35*Konstante_Werte!$E$69, IF(AND($D$28<>1,$D$28/($L$35+1)<1),Konstante_Werte!$E$69*$F$35*$D$22*$L$35/$D$28,IF(MOD($C163,$D$28)=0,0,IF(INT(MOD(($C163-$D$28*INT(($C163-1)/$D$28)),($D$28/($L$35+1))))<>0,0,Konstante_Werte!$E$69*$F$35*$D$22))))),0)","v":0},{"$f":"IF($D$22>0, E129*$D$22,\"0\")","v":155.85540399999996},{"$f":"G129*$E$22","v":268.68625600000001},{"$f":"IF($D$22>0,(IF(MOD(($C163-1),$D$28)<>0,0,$K$13*$D$22)),0)+IF($E$22>0,(IF(MOD(($C163-1),$D$30)<>0,0,$K$13*$E$22)),0)","v":9462.6079800000007},{"$f":"IF($D$22>0,(IF(MOD(($C163-1),$D$28)<>0,0,$K$14*$D$22)),0)+IF($E$22>0,(IF(MOD(($C163-1),$D$30)<>0,0,$K$14*$E$22)),0)","v":7613.4237600000006},{"$f":"SUM(D163:L163)","v":48500.573400000001},"Euro/a",{"$f":"IF($M$175<>0,(IF(C163<=$F$89,M163/$M$175,\"-\")),0)","v":0.4672972514544429}]
[null,null,{"$f":"C163+1","v":2},{"$f":"IF($D$22>0,(IF(MOD(($C147-1),$D$28)<>0,0,Konstante_Werte!$E$64*$D$22)),0)","v":0},{"$f":"IF($E$22>0,(IF(MOD(($C164-1),$D$30)<>0,0,Konstante_Werte!$E$66*$E$22)),0)","v":0},{"$f":"IF($D$22>0,(IF($D$28=1,$D$22*$D$35*$J$35*Konstante_Werte!$E$67, IF(AND($D$28<>1,$D$28/($J$35+1)<1),Konstante_Werte!$E$67*$D$35*$D$22*$J$35/$D$28,IF(MOD($C164,$D$28)=0,0,IF(INT(MOD(($C164-$D$28*INT(($C164-1)/$D$28)),($D$28/($J$35+1))))<>0,0,Konstante_Werte!$E$67*$D$35*$D$22))))),0)","v":0},{"$f":"IF($D$22>0,(IF($D$28=1,$D$22*$E$35*$K$35*Konstante_Werte!$E$68, IF(AND($D$28<>1,$D$28/($K$35+1)<1),Konstante_Werte!$E$68*$E$35*$D$22*$K$35/$D$28,IF(MOD($C164,$D$28)=0,0,IF(INT(MOD(($C164-$D$28*INT(($C164-1)/$D$28)),($D$28/($K$35+1))))<>0,0,Konstante_Werte!$E$68*$E$35*$D$22))))),0)","v":0},{"$f":"IF($D$22>0,(IF($D$28=1,$D$22*$F$35*$L$35*Konstante_Werte!$E$69, IF(AND($D$28<>1,$D$28/($L$35+1)<1),Konstante_Werte!$E$69*$F$35*$D$22*$L$35/$D$28,IF(MOD($C164,$D$28)=0,0,IF(INT(MOD(($C164-$D$28*INT(($C164-1)/$D$28)),($D$28/($L$35+1))))<>0,0,Konstante_Werte!$E$69*$F$35*$D$22))))),0)","v":0},156.7530816,270.23380345263161,0,0,{"$f":"SUM(D164:L164)","v":426.98688505263158},"Euro/a",4.1139678111968237E-3]
[null,null,{"$f":"C164+1","v":3},{"$f":"IF($D$22>0,(IF(MOD(($C148-1),$D$28)<>0,0,Konstante_Werte!$E$64*$D$22)),0)","v":0},{"$f":"IF($E$22>0,(IF(MOD(($C165-1),$D$30)<>0,0,Konstante_Werte!$E$66*$E$22)),0)","v":0},{"$f":"IF($D$22>0,(IF($D$28=1,$D$22*$D$35*$J$35*Konstante_Werte!$E$67, IF(AND($D$28<>1,$D$28/($J$35+1)<1),Konstante_Werte!$E$67*$D$35*$D$22*$J$35/$D$28,IF(MOD($C165,$D$28)=0,0,IF(INT(MOD(($C165-$D$28*INT(($C165-1)/$D$28)),($D$28/($J$35+1))))<>0,0,Konstante_Werte!$E$67*$D$35*$D$22))))),0)","v":0},{"$f":"IF($D$22>0,(IF($D$28=1,$D$22*$E$35*$K$35*Konstante_Werte!$E$68, IF(AND($D$28<>1,$D$28/($K$35+1)<1),Konstante_Werte!$E$68*$E$35*$D$22*$K$35/$D$28,IF(MOD($C165,$D$28)=0,0,IF(INT(MOD(($C165-$D$28*INT(($C165-1)/$D$28)),($D$28/($K$35+1))))<>0,0,Konstante_Werte!$E$68*$E$35*$D$22))))),0)","v":0},{"$f":"IF($D$22>0,(IF($D$28=1,$D$22*$F$35*$L$35*Konstante_Werte!$E$69, IF(AND($D$28<>1,$D$28/($L$35+1)<1),Konstante_Werte!$E$69*$F$35*$D$22*$L$35/$D$28,IF(MOD($C165,$D$28)=0,0,IF(INT(MOD(($C165-$D$28*INT(($C165-1)/$D$28)),($D$28/($L$35+1))))<>0,0,Konstante_Werte!$E$69*$F$35*$D$22))))),0)","v":1875},157.65592953771596,271.7902642868176,0,0,2304.4461938245336,"Euro/a",2.2203064768278737E-2]
[null,null,4,{"$f":"IF($D$22>0,(IF(MOD(($C149-1),$D$28)<>0,0,Konstante_Werte!$E$64*$D$22)),0)","v":0},{"$f":"IF($E$22>0,(IF(MOD(($C166-1),$D$30)<>0,0,Konstante_Werte!$E$66*$E$22)),0)","v":0},{"$f":"IF($D$22>0,(IF($D$28=1,$D$22*$D$35*$J$35*Konstante_Werte!$E$67, IF(AND($D$28<>1,$D$28/($J$35+1)<1),Konstante_Werte!$E$67*$D$35*$D$22*$J$35/$D$28,IF(MOD($C166,$D$28)=0,0,IF(INT(MOD(($C166-$D$28*INT(($C166-1)/$D$28)),($D$28/($J$35+1))))<>0,0,Konstante_Werte!$E$67*$D$35*$D$22))))),0)","v":0},{"$f":"IF($D$22>0,(IF($D$28=1,$D$22*$E$35*$K$35*Konstante_Werte!$E$68, IF(AND($D$28<>1,$D$28/($K$35+1)<1),Konstante_Werte!$E$68*$E$35*$D$22*$K$35/$D$28,IF(MOD($C166,$D$28)=0,0,IF(INT(MOD(($C166-$D$28*INT(($C166-1)/$D$28)),($D$28/($K$35+1))))<>0,0,Konstante_Werte!$E$68*$E$35*$D$22))))),0)","v":0},{"$f":"IF($D$22>0,(IF($D$28=1,$D$22*$F$35*$L$35*Konstante_Werte!$E$69, IF(AND($D$28<>1,$D$28/($L$35+1)<1),Konstante_Werte!$E$69*$F$35*$D$22*$L$35/$D$28,IF(MOD($C166,$D$28)=0,0,IF(INT(MOD(($C166-$D$28*INT(($C166-1)/$D$28)),($D$28/($L$35+1))))<>0,0,Konstante_Werte!$E$69*$F$35*$D$22))))),0)","v":0},158.56397759265019,273.35568984080322,0,0,431.91966743345341,"Euro/a",4.1614945822634301E-3]
[null,null,5,{"$f":"IF($D$22>0,(IF(MOD(($C150-1),$D$28)<>0,0,Konstante_Werte!$E$64*$D$22)),0)","v":0},{"$f":"IF($E$22>0,(IF(MOD(($C167-1),$D$30)<>0,0,Konstante_Werte!$E$66*$E$22)),0)","v":0},{"$f":"IF($D$22>0,(IF($D$28=1,$D$22*$D$35*$J$35*Konstante_Werte!$E$67, IF(AND($D$28<>1,$D$28/($J$35+1)<1),Konstante_Werte!$E$67*$D$35*$D$22*$J$35/$D$28,IF(MOD($C167,$D$28)=0,0,IF(INT(MOD(($C167-$D$28*INT(($C167-1)/$D$28)),($D$28/($J$35+1))))<>0,0,Konstante_Werte!$E$67*$D$35*$D$22))))),0)","v":0},{"$f":"IF($D$22>0,(IF($D$28=1,$D$22*$E$35*$K$35*Konstante_Werte!$E$68, IF(AND($D$28<>1,$D$28/($K$35+1)<1),Konstante_Werte!$E$68*$E$35*$D$22*$K$35/$D$28,IF(MOD($C167,$D$28)=0,0,IF(INT(MOD(($C167-$D$28*INT(($C167-1)/$D$28)),($D$28/($K$35+1))))<>0,0,Konstante_Werte!$E$68*$E$35*$D$22))))),0)","v":0},{"$f":"IF($D$22>0,(IF($D$28=1,$D$22*$F$35*$L$35*Konstante_Werte!$E$69, IF(AND($D$28<>1,$D$28/($L$35+1)<1),Konstante_Werte!$E$69*$F$35*$D$22*$L$35/$D$28,IF(MOD($C167,$D$28)=0,0,IF(INT(MOD(($C167-$D$28*INT(($C167-1)/$D$28)),($D$28/($L$35+1))))<>0,0,Konstante_Werte!$E$69*$F$35*$D$22))))),0)","v":0},159.47725571582535,274.93013174852587,0,0,434.40738746435125,"Euro/a",4.1854634686359507E-3]
[null,null,6,{"$f":"IF($D$22>0,(IF(MOD(($C151-1),$D$28)<>0,0,Konstante_Werte!$E$64*$D$22)),0)","v":0},{"$f":"IF($E$22>0,(IF(MOD(($C168-1),$D$30)<>0,0,Konstante_Werte!$E$66*$E$22)),0)","v":0},{"$f":"IF($D$22>0,(IF($D$28=1,$D$22*$D$35*$J$35*Konstante_Werte!$E$67, IF(AND($D$28<>1,$D$28/($J$35+1)<1),Konstante_Werte!$E$67*$D$35*$D$22*$J$35/$D$28,IF(MOD($C168,$D$28)=0,0,IF(INT(MOD(($C168-$D$28*INT(($C168-1)/$D$28)),($D$28/($J$35+1))))<>0,0,Konstante_Werte!$E$67*$D$35*$D$22))))),0)","v":0},{"$f":"IF($D$22>0,(IF($D$28=1,$D$22*$E$35*$K$35*Konstante_Werte!$E$68, IF(AND($D$28<>1,$D$28/($K$35+1)<1),Konstante_Werte!$E$68*$E$35*$D$22*$K$35/$D$28,IF(MOD($C168,$D$28)=0,0,IF(INT(MOD(($C168-$D$28*INT(($C168-1)/$D$28)),($D$28/($K$35+1))))<>0,0,Konstante_Werte!$E$68*$E$35*$D$22))))),0)","v":0},{"$f":"IF($D$22>0,(IF($D$28=1,$D$22*$F$35*$L$35*Konstante_Werte!$E$69, IF(AND($D$28<>1,$D$28/($L$35+1)<1),Konstante_Werte!$E$69*$F$35*$D$22*$L$35/$D$28,IF(MOD($C168,$D$28)=0,0,IF(INT(MOD(($C168-$D$28*INT(($C168-1)/$D$28)),($D$28/($L$35+1))))<>0,0,Konstante_Werte!$E$69*$F$35*$D$22))))),0)","v":0},160.39579403077249,276.5136419413177,0,0,436.90943597209019,"Euro/a",4.2095704081772491E-3]
[null,null,7,{"$f":"IF($D$22>0,(IF(MOD(($C152-1),$D$28)<>0,0,Konstante_Werte!$E$64*$D$22)),0)","v":21550},{"$f":"IF($E$22>0,(IF(MOD(($C169-1),$D$30)<>0,0,Konstante_Werte!$E$66*$E$22)),0)","v":9450},{"$f":"IF($D$22>0,(IF($D$28=1,$D$22*$D$35*$J$35*Konstante_Werte!$E$67, IF(AND($D$28<>1,$D$28/($J$35+1)<1),Konstante_Werte!$E$67*$D$35*$D$22*$J$35/$D$28,IF(MOD($C169,$D$28)=0,0,IF(INT(MOD(($C169-$D$28*INT(($C169-1)/$D$28)),($D$28/($J$35+1))))<>0,0,Konstante_Werte!$E$67*$D$35*$D$22))))),0)","v":0},{"$f":"IF($D$22>0,(IF($D$28=1,$D$22*$E$35*$K$35*Konstante_Werte!$E$68, IF(AND($D$28<>1,$D$28/($K$35+1)<1),Konstante_Werte!$E$68*$E$35*$D$22*$K$35/$D$28,IF(MOD($C169,$D$28)=0,0,IF(INT(MOD(($C169-$D$28*INT(($C169-1)/$D$28)),($D$28/($K$35+1))))<>0,0,Konstante_Werte!$E$68*$E$35*$D$22))))),0)","v":0},{"$f":"IF($D$22>0,(IF($D$28=1,$D$22*$F$35*$L$35*Konstante_Werte!$E$69, IF(AND($D$28<>1,$D$28/($L$35+1)<1),Konstante_Werte!$E$69*$F$35*$D$22*$L$35/$D$28,IF(MOD($C169,$D$28)=0,0,IF(INT(MOD(($C169-$D$28*INT(($C169-1)/$D$28)),($D$28/($L$35+1))))<>0,0,Konstante_Werte!$E$69*$F$35*$D$22))))),0)","v":0},118.58474654434271,204.43366575668037,9462.6079800000007,7613.4237600000006,48399.050152301024,"Euro/a",0.46631908704765962]
[null,null,8,{"$f":"IF($D$22>0,(IF(MOD(($C153-1),$D$28)<>0,0,Konstante_Werte!$E$64*$D$22)),0)","v":0},{"$f":"IF($E$22>0,(IF(MOD(($C170-1),$D$30)<>0,0,Konstante_Werte!$E$66*$E$22)),0)","v":0},{"$f":"IF($D$22>0,(IF($D$28=1,$D$22*$D$35*$J$35*Konstante_Werte!$E$67, IF(AND($D$28<>1,$D$28/($J$35+1)<1),Konstante_Werte!$E$67*$D$35*$D$22*$J$35/$D$28,IF(MOD($C170,$D$28)=0,0,IF(INT(MOD(($C170-$D$28*INT(($C170-1)/$D$28)),($D$28/($J$35+1))))<>0,0,Konstante_Werte!$E$67*$D$35*$D$22))))),0)","v":0},{"$f":"IF($D$22>0,(IF($D$28=1,$D$22*$E$35*$K$35*Konstante_Werte!$E$68, IF(AND($D$28<>1,$D$28/($K$35+1)<1),Konstante_Werte!$E$68*$E$35*$D$22*$K$35/$D$28,IF(MOD($C170,$D$28)=0,0,IF(INT(MOD(($C170-$D$28*INT(($C170-1)/$D$28)),($D$28/($K$35+1))))<>0,0,Konstante_Werte!$E$68*$E$35*$D$22))))),0)","v":0},{"$f":"IF($D$22>0,(IF($D$28=1,$D$22*$F$35*$L$35*Konstante_Werte!$E$69, IF(AND($D$28<>1,$D$28/($L$35+1)<1),Konstante_Werte!$E$69*$F$35*$D$22*$L$35/$D$28,IF(MOD($C170,$D$28)=0,0,IF(INT(MOD(($C170-$D$28*INT(($C170-1)/$D$28)),($D$28/($L$35+1))))<>0,0,Konstante_Werte!$E$69*$F$35*$D$22))))),0)","v":0},119.26775700110257,205.61113870741394,0,0,324.8788957085165,"Euro/a",3.1301694882672122E-3]
[null,null,9,{"$f":"IF($D$22>0,(IF(MOD(($C154-1),$D$28)<>0,0,Konstante_Werte!$E$64*$D$22)),0)","v":0},{"$f":"IF($E$22>0,(IF(MOD(($C171-1),$D$30)<>0,0,Konstante_Werte!$E$66*$E$22)),0)","v":0},{"$f":"IF($D$22>0,(IF($D$28=1,$D$22*$D$35*$J$35*Konstante_Werte!$E$67, IF(AND($D$28<>1,$D$28/($J$35+1)<1),Konstante_Werte!$E$67*$D$35*$D$22*$J$35/$D$28,IF(MOD($C171,$D$28)=0,0,IF(INT(MOD(($C171-$D$28*INT(($C171-1)/$D$28)),($D$28/($J$35+1))))<>0,0,Konstante_Werte!$E$67*$D$35*$D$22))))),0)","v":0},{"$f":"IF($D$22>0,(IF($D$28=1,$D$22*$E$35*$K$35*Konstante_Werte!$E$68, IF(AND($D$28<>1,$D$28/($K$35+1)<1),Konstante_Werte!$E$68*$E$35*$D$22*$K$35/$D$28,IF(MOD($C171,$D$28)=0,0,IF(INT(MOD(($C171-$D$28*INT(($C171-1)/$D$28)),($D$28/($K$35+1))))<>0,0,Konstante_Werte!$E$68*$E$35*$D$22))))),0)","v":0},{"$f":"IF($D$22>0,(IF($D$28=1,$D$22*$F$35*$L$35*Konstante_Werte!$E$69, IF(AND($D$28<>1,$D$28/($L$35+1)<1),Konstante_Werte!$E$69*$F$35*$D$22*$L$35/$D$28,IF(MOD($C171,$D$28)=0,0,IF(INT(MOD(($C171-$D$28*INT(($C171-1)/$D$28)),($D$28/($L$35+1))))<>0,0,Konstante_Werte!$E$69*$F$35*$D$22))))),0)","v":1875},119.95470138104936,206.7953935281717,0,0,2201.7500949092209,"Euro/a",2.1213600079636123E-2]
[null,null,10,{"$f":"IF($D$22>0,(IF(MOD(($C155-1),$D$28)<>0,0,Konstante_Werte!$E$64*$D$22)),0)","v":0},{"$f":"IF($E$22>0,(IF(MOD(($C172-1),$D$30)<>0,0,Konstante_Werte!$E$66*$E$22)),0)","v":0},{"$f":"IF($D$22>0,(IF($D$28=1,$D$22*$D$35*$J$35*Konstante_Werte!$E$67, IF(AND($D$28<>1,$D$28/($J$35+1)<1),Konstante_Werte!$E$67*$D$35*$D$22*$J$35/$D$28,IF(MOD($C172,$D$28)=0,0,IF(INT(MOD(($C172-$D$28*INT(($C172-1)/$D$28)),($D$28/($J$35+1))))<>0,0,Konstante_Werte!$E$67*$D$35*$D$22))))),0)","v":0},{"$f":"IF($D$22>0,(IF($D$28=1,$D$22*$E$35*$K$35*Konstante_Werte!$E$68, IF(AND($D$28<>1,$D$28/($K$35+1)<1),Konstante_Werte!$E$68*$E$35*$D$22*$K$35/$D$28,IF(MOD($C172,$D$28)=0,0,IF(INT(MOD(($C172-$D$28*INT(($C172-1)/$D$28)),($D$28/($K$35+1))))<>0,0,Konstante_Werte!$E$68*$E$35*$D$22))))),0)","v":0},{"$f":"IF($D$22>0,(IF($D$28=1,$D$22*$F$35*$L$35*Konstante_Werte!$E$69, IF(AND($D$28<>1,$D$28/($L$35+1)<1),Konstante_Werte!$E$69*$F$35*$D$22*$L$35/$D$28,IF(MOD($C172,$D$28)=0,0,IF(INT(MOD(($C172-$D$28*INT(($C172-1)/$D$28)),($D$28/($L$35+1))))<>0,0,Konstante_Werte!$E$69*$F$35*$D$22))))),0)","v":0},120.64560234233048,207.98646928036973,0,0,328.63207162270021,"Euro/a",3.1663308914419435E-3]
[null,null,11,{"$f":"IF($D$22>0,(IF(MOD(($C156-1),$D$28)<>0,0,Konstante_Werte!$E$64*$D$22)),0)","v":0},{"$f":"IF($E$22>0,(IF(MOD(($C173-1),$D$30)<>0,0,Konstante_Werte!$E$66*$E$22)),0)","v":0},{"$f":"IF($D$22>0,(IF($D$28=1,$D$22*$D$35*$J$35*Konstante_Werte!$E$67, IF(AND($D$28<>1,$D$28/($J$35+1)<1),Konstante_Werte!$E$67*$D$35*$D$22*$J$35/$D$28,IF(MOD($C173,$D$28)=0,0,IF(INT(MOD(($C173-$D$28*INT(($C173-1)/$D$28)),($D$28/($J$35+1))))<>0,0,Konstante_Werte!$E$67*$D$35*$D$22))))),0)","v":0},{"$f":"IF($D$22>0,(IF($D$28=1,$D$22*$E$35*$K$35*Konstante_Werte!$E$68, IF(AND($D$28<>1,$D$28/($K$35+1)<1),Konstante_Werte!$E$68*$E$35*$D$22*$K$35/$D$28,IF(MOD($C173,$D$28)=0,0,IF(INT(MOD(($C173-$D$28*INT(($C173-1)/$D$28)),($D$28/($K$35+1))))<>0,0,Konstante_Werte!$E$68*$E$35*$D$22))))),0)","v":0},{"$f":"IF($D$22>0,(IF($D$28=1,$D$22*$F$35*$L$35*Konstante_Werte!$E$69, IF(AND($D$28<>1,$D$28/($L$35+1)<1),Konstante_Werte!$E$69*$F$35*$D$22*$L$35/$D$28,IF(MOD($C173,$D$28)=0,0,IF(INT(MOD(($C173-$D$28*INT(($C173-1)/$D$28)),($D$28/($L$35+1))))<>0,0,Konstante_Werte!$E$69*$F$35*$D$22))))),0)","v":0},121.34048267359714,209.18440525040563,0,0,330.52488792400277,"Euro/a","-"]
[null,null,12,{"$f":"IF($D$22>0,(IF(MOD(($C157-1),$D$28)<>0,0,Konstante_Werte!$E$64*$D$22)),0)","v":0},{"$f":"IF($E$22>0,(IF(MOD(($C174-1),$D$30)<>0,0,Konstante_Werte!$E$66*$E$22)),0)","v":0},{"$f":"IF($D$22>0,(IF($D$28=1,$D$22*$D$35*$J$35*Konstante_Werte!$E$67, IF(AND($D$28<>1,$D$28/($J$35+1)<1),Konstante_Werte!$E$67*$D$35*$D$22*$J$35/$D$28,IF(MOD($C174,$D$28)=0,0,IF(INT(MOD(($C174-$D$28*INT(($C174-1)/$D$28)),($D$28/($J$35+1))))<>0,0,Konstante_Werte!$E$67*$D$35*$D$22))))),0)","v":0},{"$f":"IF($D$22>0,(IF($D$28=1,$D$22*$E$35*$K$35*Konstante_Werte!$E$68, IF(AND($D$28<>1,$D$28/($K$35+1)<1),Konstante_Werte!$E$68*$E$35*$D$22*$K$35/$D$28,IF(MOD($C174,$D$28)=0,0,IF(INT(MOD(($C174-$D$28*INT(($C174-1)/$D$28)),($D$28/($K$35+1))))<>0,0,Konstante_Werte!$E$68*$E$35*$D$22))))),0)","v":0},{"$f":"IF($D$22>0,(IF($D$28=1,$D$22*$F$35*$L$35*Konstante_Werte!$E$69, IF(AND($D$28<>1,$D$28/($L$35+1)<1),Konstante_Werte!$E$69*$F$35*$D$22*$L$35/$D$28,IF(MOD($C174,$D$28)=0,0,IF(INT(MOD(($C174-$D$28*INT(($C174-1)/$D$28)),($D$28/($L$35+1))))<>0,0,Konstante_Werte!$E$69*$F$35*$D$22))))),0)","v":0},122.03936529475587,210.3892409509541,0,0,332.42860624570994,"Euro/a","-"]
[null,null,"Summe über Betrachtungszeitraum",{"$f":"SUM(D163:OFFSET(D163,$F$89-1,0))","v":43100},{"$f":"SUM(E163:OFFSET(E163,$F$89-1,0))","v":18900},{"$f":"SUM(F163:OFFSET(F163,$F$89-1,0))","v":0},{"$f":"SUM(G163:OFFSET(G163,$F$89-1,0))","v":0},{"$f":"SUM(H163:OFFSET(H163,$F$89-1,0))","v":3750},{"$f":"SUM(I163:OFFSET(I163,$F$89-1,0))","v":1427.1542497457892},{"$f":"SUM(J163:OFFSET(J163,$F$89-1,0))","v":2460.3364545427316},{"$f":"SUM(K163:OFFSET(K163,$F$89-1,0))","v":18925.215960000001},{"$f":"SUM(L163:OFFSET(L163,$F$89-1,0))","v":15226.847520000001},{"$f":"SUM(M163:OFFSET(M163,$F$89-1,0))","v":103789.55418428853},"Euro/Betrachtungszeitraum",{"$f":"SUM(O163:O174)","v":1}]
[]
[null,null,"APC mit Mini-PC (für alle Geräte)"]
[null,null,"In EURO  ","Anschaffungskosten",null,null,null,null,"Energiekosten",null,"Bruttopersonal-kosten","Sach-und Gemeinkosten","Summe",null,"Anteil"]
[null,null,"Jahr (max: 12 Jahre)","Mini-PC","Monitor","Ersatz HDD durch SSD","RAM hinzufügen","Wechsel des Akkus","Desktop","Monitor"]
[null,null,1,{"$f":"IF($D$23>0,(IF(MOD(($C146-1),$D$29)<>0,0,Konstante_Werte!$E$65*$D$23)),0)","v":22750},{"$f":"IF($E$23>0,(IF(MOD(($C180-1),$D$30)<>0,0,Konstante_Werte!$E$66*$E$23)),0)","v":15120},{"$f":"IF($D$23>0,(IF($D$29=1,$D$23*$D$36*$J$36*Konstante_Werte!$E$67, IF(AND($D$29<>1,$D$29/($J$36+1)<1),Konstante_Werte!$E$67*$D$36*$D$23*$J$36/$D$29,IF(MOD($C180,$D$29)=0,0,IF(INT(MOD(($C180-$D$29*INT(($C180-1)/$D$29)),($D$29/($J$36+1))))<>0,0,Konstante_Werte!$E$67*$D$36*$D$23))))),0)","v":0},{"$f":"IF($D$23>0,(IF($D$29=1,$D$23*$E$36*$K$36*Konstante_Werte!$E$68, IF(AND($D$29<>1,$D$29/($K$36+1)<1),Konstante_Werte!$E$68*$E$36*$D$23*$K$36/$D$29,IF(MOD($C180,$D$29)=0,0,IF(INT(MOD(($C180-$D$29*INT(($C180-1)/$D$29)),($D$29/($K$36+1))))<>0,0,Konstante_Werte!$E$68*$E$36*$D$23))))),0)","v":0},"-",{"$f":"IF($D$23>0, F129*$D$23,0)","v":405.69295199999993},{"$f":"G129*$E$23","v":429.89800960000002},{"$f":"IF($D$23>0,(IF(MOD(($C180-1),$D$29)<>0,0,$K$13*$D$23)),0)+IF($E$23>0,(IF(MOD(($C180-1),$D$30)<>0,0,$K$13*$E$23)),0)","v":14193.911970000001},{"$f":"IF($D$23>0,(IF(MOD(($C180-1),$D$29)<>0,0,$K$14*$D$23)),0)+IF($E$23>0,(IF(MOD(($C180-1),$D$30)<>0,0,$K$14*$E$23)),0)","v":11420.13564},{"$f":"SUM(D180:L180)","v":64319.6385716},"Euro/a",{"$f":"IF($M$192<>0,(IF(C180<=$F$89,M180/$M$192,\"-\")),0)","v":0.47778832231747015}]
[null,null,{"$f":"C180+1","v":2},{"$f":"IF($D$23>0,(IF(MOD(($C147-1),$D$29)<>0,0,Konstante_Werte!$E$65*$D$23)),0)","v":0},{"$f":"IF($E$23>0,(IF(MOD(($C181-1),$D$30)<>0,0,Konstante_Werte!$E$66*$E$23)),0)","v":0},{"$f":"IF($D$23>0,(IF($D$29=1,$D$23*$D$36*$J$36*Konstante_Werte!$E$67, IF(AND($D$29<>1,$D$29/($J$36+1)<1),Konstante_Werte!$E$67*$D$36*$D$23*$J$36/$D$29,IF(MOD($C181,$D$29)=0,0,IF(INT(MOD(($C181-$D$29*INT(($C181-1)/$D$29)),($D$29/($J$36+1))))<>0,0,Konstante_Werte!$E$67*$D$36*$D$23))))),0)","v":0},{"$f":"IF($D$23>0,(IF($D$29=1,$D$23*$E$36*$K$36*Konstante_Werte!$E$68, IF(AND($D$29<>1,$D$29/($K$36+1)<1),Konstante_Werte!$E$68*$E$36*$D$23*$K$36/$D$29,IF(MOD($C181,$D$29)=0,0,IF(INT(MOD(($C181-$D$29*INT(($C181-1)/$D$29)),($D$29/($K$36+1))))<>0,0,Konstante_Werte!$E$68*$E$36*$D$23))))),0)","v":0},"-",408.02961448421053,432.37408552421061,0,0,840.40370000842108,"Euro/a",6.2428067509961681E-3]
[null,null,{"$f":"C181+1","v":3},{"$f":"IF($D$23>0,(IF(MOD(($C148-1),$D$29)<>0,0,Konstante_Werte!$E$65*$D$23)),0)","v":0},{"$f":"IF($E$23>0,(IF(MOD(($C182-1),$D$30)<>0,0,Konstante_Werte!$E$66*$E$23)),0)","v":0},{"$f":"IF($D$23>0,(IF($D$29=1,$D$23*$D$36*$J$36*Konstante_Werte!$E$67, IF(AND($D$29<>1,$D$29/($J$36+1)<1),Konstante_Werte!$E$67*$D$36*$D$23*$J$36/$D$29,IF(MOD($C182,$D$29)=0,0,IF(INT(MOD(($C182-$D$29*INT(($C182-1)/$D$29)),($D$29/($J$36+1))))<>0,0,Konstante_Werte!$E$67*$D$36*$D$23))))),0)","v":0},{"$f":"IF($D$23>0,(IF($D$29=1,$D$23*$E$36*$K$36*Konstante_Werte!$E$68, IF(AND($D$29<>1,$D$29/($K$36+1)<1),Konstante_Werte!$E$68*$E$36*$D$23*$K$36/$D$29,IF(MOD($C182,$D$29)=0,0,IF(INT(MOD(($C182-$D$29*INT(($C182-1)/$D$29)),($D$29/($K$36+1))))<>0,0,Konstante_Werte!$E$68*$E$36*$D$23))))),0)","v":0},"-",410.37973540179581,434.86442285890814,0,0,845.2441582607039,"Euro/a",6.2787633340704255E-3]
[null,null,4,{"$f":"IF($D$23>0,(IF(MOD(($C149-1),$D$29)<>0,0,Konstante_Werte!$E$65*$D$23)),0)","v":0},{"$f":"IF($E$23>0,(IF(MOD(($C183-1),$D$30)<>0,0,Konstante_Werte!$E$66*$E$23)),0)","v":0},{"$f":"IF($D$23>0,(IF($D$29=1,$D$23*$D$36*$J$36*Konstante_Werte!$E$67, IF(AND($D$29<>1,$D$29/($J$36+1)<1),Konstante_Werte!$E$67*$D$36*$D$23*$J$36/$D$29,IF(MOD($C183,$D$29)=0,0,IF(INT(MOD(($C183-$D$29*INT(($C183-1)/$D$29)),($D$29/($J$36+1))))<>0,0,Konstante_Werte!$E$67*$D$36*$D$23))))),0)","v":0},{"$f":"IF($D$23>0,(IF($D$29=1,$D$23*$E$36*$K$36*Konstante_Werte!$E$68, IF(AND($D$29<>1,$D$29/($K$36+1)<1),Konstante_Werte!$E$68*$E$36*$D$23*$K$36/$D$29,IF(MOD($C183,$D$29)=0,0,IF(INT(MOD(($C183-$D$29*INT(($C183-1)/$D$29)),($D$29/($K$36+1))))<>0,0,Konstante_Werte!$E$68*$E$36*$D$23))))),0)","v":0},"-",412.74339226905539,437.36910374528514,0,0,850.11249601434054,"Euro/a",6.3149270156370677E-3]
[null,null,5,{"$f":"IF($D$23>0,(IF(MOD(($C150-1),$D$29)<>0,0,Konstante_Werte!$E$65*$D$23)),0)","v":0},{"$f":"IF($E$23>0,(IF(MOD(($C184-1),$D$30)<>0,0,Konstante_Werte!$E$66*$E$23)),0)","v":0},{"$f":"IF($D$23>0,(IF($D$29=1,$D$23*$D$36*$J$36*Konstante_Werte!$E$67, IF(AND($D$29<>1,$D$29/($J$36+1)<1),Konstante_Werte!$E$67*$D$36*$D$23*$J$36/$D$29,IF(MOD($C184,$D$29)=0,0,IF(INT(MOD(($C184-$D$29*INT(($C184-1)/$D$29)),($D$29/($J$36+1))))<>0,0,Konstante_Werte!$E$67*$D$36*$D$23))))),0)","v":0},{"$f":"IF($D$23>0,(IF($D$29=1,$D$23*$E$36*$K$36*Konstante_Werte!$E$68, IF(AND($D$29<>1,$D$29/($K$36+1)<1),Konstante_Werte!$E$68*$E$36*$D$23*$K$36/$D$29,IF(MOD($C184,$D$29)=0,0,IF(INT(MOD(($C184-$D$29*INT(($C184-1)/$D$29)),($D$29/($K$36+1))))<>0,0,Konstante_Werte!$E$68*$E$36*$D$23))))),0)","v":0},"-",415.12066304875805,439.88821079764136,0,0,855.00887384639941,"Euro/a",6.3512989885175994E-3]
[null,null,6,{"$f":"IF($D$23>0,(IF(MOD(($C151-1),$D$29)<>0,0,Konstante_Werte!$E$65*$D$23)),0)","v":0},{"$f":"IF($E$23>0,(IF(MOD(($C185-1),$D$30)<>0,0,Konstante_Werte!$E$66*$E$23)),0)","v":0},{"$f":"IF($D$23>0,(IF($D$29=1,$D$23*$D$36*$J$36*Konstante_Werte!$E$67, IF(AND($D$29<>1,$D$29/($J$36+1)<1),Konstante_Werte!$E$67*$D$36*$D$23*$J$36/$D$29,IF(MOD($C185,$D$29)=0,0,IF(INT(MOD(($C185-$D$29*INT(($C185-1)/$D$29)),($D$29/($J$36+1))))<>0,0,Konstante_Werte!$E$67*$D$36*$D$23))))),0)","v":0},{"$f":"IF($D$23>0,(IF($D$29=1,$D$23*$E$36*$K$36*Konstante_Werte!$E$68, IF(AND($D$29<>1,$D$29/($K$36+1)<1),Konstante_Werte!$E$68*$E$36*$D$23*$K$36/$D$29,IF(MOD($C185,$D$29)=0,0,IF(INT(MOD(($C185-$D$29*INT(($C185-1)/$D$29)),($D$29/($K$36+1))))<>0,0,Konstante_Werte!$E$68*$E$36*$D$23))))),0)","v":0},"-",417.51162615271318,442.42182710610837,0,0,859.9334532588216,"Euro/a",6.3878804524037987E-3]
[null,null,7,{"$f":"IF($D$23>0,(IF(MOD(($C152-1),$D$29)<>0,0,Konstante_Werte!$E$65*$D$23)),0)","v":22750},{"$f":"IF($E$23>0,(IF(MOD(($C186-1),$D$30)<>0,0,Konstante_Werte!$E$66*$E$23)),0)","v":15120},{"$f":"IF($D$23>0,(IF($D$29=1,$D$23*$D$36*$J$36*Konstante_Werte!$E$67, IF(AND($D$29<>1,$D$29/($J$36+1)<1),Konstante_Werte!$E$67*$D$36*$D$23*$J$36/$D$29,IF(MOD($C186,$D$29)=0,0,IF(INT(MOD(($C186-$D$29*INT(($C186-1)/$D$29)),($D$29/($J$36+1))))<>0,0,Konstante_Werte!$E$67*$D$36*$D$23))))),0)","v":0},{"$f":"IF($D$23>0,(IF($D$29=1,$D$23*$E$36*$K$36*Konstante_Werte!$E$68, IF(AND($D$29<>1,$D$29/($K$36+1)<1),Konstante_Werte!$E$68*$E$36*$D$23*$K$36/$D$29,IF(MOD($C186,$D$29)=0,0,IF(INT(MOD(($C186-$D$29*INT(($C186-1)/$D$29)),($D$29/($K$36+1))))<>0,0,Konstante_Werte!$E$68*$E$36*$D$23))))),0)","v":0},"-",308.67711130341166,327.09386521068859,14193.911970000001,11420.13564,64119.818586514099,"Euro/a",0.47630399097544285]
[null,null,8,{"$f":"IF($D$23>0,(IF(MOD(($C153-1),$D$29)<>0,0,Konstante_Werte!$E$65*$D$23)),0)","v":0},{"$f":"IF($E$23>0,(IF(MOD(($C187-1),$D$30)<>0,0,Konstante_Werte!$E$66*$E$23)),0)","v":0},{"$f":"IF($D$23>0,(IF($D$29=1,$D$23*$D$36*$J$36*Konstante_Werte!$E$67, IF(AND($D$29<>1,$D$29/($J$36+1)<1),Konstante_Werte!$E$67*$D$36*$D$23*$J$36/$D$29,IF(MOD($C187,$D$29)=0,0,IF(INT(MOD(($C187-$D$29*INT(($C187-1)/$D$29)),($D$29/($J$36+1))))<>0,0,Konstante_Werte!$E$67*$D$36*$D$23))))),0)","v":0},{"$f":"IF($D$23>0,(IF($D$29=1,$D$23*$E$36*$K$36*Konstante_Werte!$E$68, IF(AND($D$29<>1,$D$29/($K$36+1)<1),Konstante_Werte!$E$68*$E$36*$D$23*$K$36/$D$29,IF(MOD($C187,$D$29)=0,0,IF(INT(MOD(($C187-$D$29*INT(($C187-1)/$D$29)),($D$29/($K$36+1))))<>0,0,Konstante_Werte!$E$68*$E$36*$D$23))))),0)","v":0},"-",310.45499337447399,328.97782193186231,0,0,639.43281530633635,"Euro/a",4.7499261321230293E-3]
[null,null,9,{"$f":"IF($D$23>0,(IF(MOD(($C154-1),$D$29)<>0,0,Konstante_Werte!$E$65*$D$23)),0)","v":0},{"$f":"IF($E$23>0,(IF(MOD(($C188-1),$D$30)<>0,0,Konstante_Werte!$E$66*$E$23)),0)","v":0},{"$f":"IF($D$23>0,(IF($D$29=1,$D$23*$D$36*$J$36*Konstante_Werte!$E$67, IF(AND($D$29<>1,$D$29/($J$36+1)<1),Konstante_Werte!$E$67*$D$36*$D$23*$J$36/$D$29,IF(MOD($C188,$D$29)=0,0,IF(INT(MOD(($C188-$D$29*INT(($C188-1)/$D$29)),($D$29/($J$36+1))))<>0,0,Konstante_Werte!$E$67*$D$36*$D$23))))),0)","v":0},{"$f":"IF($D$23>0,(IF($D$29=1,$D$23*$E$36*$K$36*Konstante_Werte!$E$68, IF(AND($D$29<>1,$D$29/($K$36+1)<1),Konstante_Werte!$E$68*$E$36*$D$23*$K$36/$D$29,IF(MOD($C188,$D$29)=0,0,IF(INT(MOD(($C188-$D$29*INT(($C188-1)/$D$29)),($D$29/($K$36+1))))<>0,0,Konstante_Werte!$E$68*$E$36*$D$23))))),0)","v":0},"-",312.24311548129822,330.87262964507477,0,0,643.11574512637299,"Euro/a",4.7772841972335703E-3]
[null,null,10,{"$f":"IF($D$23>0,(IF(MOD(($C155-1),$D$29)<>0,0,Konstante_Werte!$E$65*$D$23)),0)","v":0},{"$f":"IF($E$23>0,(IF(MOD(($C189-1),$D$30)<>0,0,Konstante_Werte!$E$66*$E$23)),0)","v":0},{"$f":"IF($D$23>0,(IF($D$29=1,$D$23*$D$36*$J$36*Konstante_Werte!$E$67, IF(AND($D$29<>1,$D$29/($J$36+1)<1),Konstante_Werte!$E$67*$D$36*$D$23*$J$36/$D$29,IF(MOD($C189,$D$29)=0,0,IF(INT(MOD(($C189-$D$29*INT(($C189-1)/$D$29)),($D$29/($J$36+1))))<>0,0,Konstante_Werte!$E$67*$D$36*$D$23))))),0)","v":0},{"$f":"IF($D$23>0,(IF($D$29=1,$D$23*$E$36*$K$36*Konstante_Werte!$E$68, IF(AND($D$29<>1,$D$29/($K$36+1)<1),Konstante_Werte!$E$68*$E$36*$D$23*$K$36/$D$29,IF(MOD($C189,$D$29)=0,0,IF(INT(MOD(($C189-$D$29*INT(($C189-1)/$D$29)),($D$29/($K$36+1))))<>0,0,Konstante_Werte!$E$68*$E$36*$D$23))))),0)","v":0},"-",314.04153660323618,332.77835084859157,0,0,646.81988745182775,"Euro/a",4.8047998361054221E-3]
[null,null,11,{"$f":"IF($D$23>0,(IF(MOD(($C156-1),$D$29)<>0,0,Konstante_Werte!$E$65*$D$23)),0)","v":0},{"$f":"IF($E$23>0,(IF(MOD(($C190-1),$D$30)<>0,0,Konstante_Werte!$E$66*$E$23)),0)","v":0},{"$f":"IF($D$23>0,(IF($D$29=1,$D$23*$D$36*$J$36*Konstante_Werte!$E$67, IF(AND($D$29<>1,$D$29/($J$36+1)<1),Konstante_Werte!$E$67*$D$36*$D$23*$J$36/$D$29,IF(MOD($C190,$D$29)=0,0,IF(INT(MOD(($C190-$D$29*INT(($C190-1)/$D$29)),($D$29/($J$36+1))))<>0,0,Konstante_Werte!$E$67*$D$36*$D$23))))),0)","v":0},{"$f":"IF($D$23>0,(IF($D$29=1,$D$23*$E$36*$K$36*Konstante_Werte!$E$68, IF(AND($D$29<>1,$D$29/($K$36+1)<1),Konstante_Werte!$E$68*$E$36*$D$23*$K$36/$D$29,IF(MOD($C190,$D$29)=0,0,IF(INT(MOD(($C190-$D$29*INT(($C190-1)/$D$29)),($D$29/($K$36+1))))<>0,0,Konstante_Werte!$E$68*$E$36*$D$23))))),0)","v":0},"-",315.85031605934228,334.695048400649,0,0,650.54536445999133,"Euro/a","-"]
[null,null,12,{"$f":"IF($D$23>0,(IF(MOD(($C157-1),$D$29)<>0,0,Konstante_Werte!$E$65*$D$23)),0)","v":0},{"$f":"IF($E$23>0,(IF(MOD(($C191-1),$D$30)<>0,0,Konstante_Werte!$E$66*$E$23)),0)","v":0},{"$f":"IF($D$23>0,(IF($D$29=1,$D$23*$D$36*$J$36*Konstante_Werte!$E$67, IF(AND($D$29<>1,$D$29/($J$36+1)<1),Konstante_Werte!$E$67*$D$36*$D$23*$J$36/$D$29,IF(MOD($C191,$D$29)=0,0,IF(INT(MOD(($C191-$D$29*INT(($C191-1)/$D$29)),($D$29/($J$36+1))))<>0,0,Konstante_Werte!$E$67*$D$36*$D$23))))),0)","v":0},{"$f":"IF($D$23>0,(IF($D$29=1,$D$23*$E$36*$K$36*Konstante_Werte!$E$68, IF(AND($D$29<>1,$D$29/($K$36+1)<1),Konstante_Werte!$E$68*$E$36*$D$23*$K$36/$D$29,IF(MOD($C191,$D$29)=0,0,IF(INT(MOD(($C191-$D$29*INT(($C191-1)/$D$29)),($D$29/($K$36+1))))<>0,0,Konstante_Werte!$E$68*$E$36*$D$23))))),0)","v":0},"-",317.66951351032952,336.62278552152657,0,0,654.29229903185615,"Euro/a","-"]
[null,null,"Summe über Betrachtungszeitraum",{"$f":"SUM(D180:OFFSET(D180,$F$89-1,0))","v":45500},{"$f":"SUM(E180:OFFSET(E180,$F$89-1,0))","v":30240},{"$f":"SUM(F180:OFFSET(F180,$F$89-1,0))","v":0},{"$f":"SUM(G180:OFFSET(G180,$F$89-1,0))","v":0},"-",{"$f":"SUM(I180:OFFSET(I180,$F$89-1,0))","v":3714.894740118953},{"$f":"SUM(J180:OFFSET(J180,$F$89-1,0))","v":3936.5383272683712},{"$f":"SUM(K180:OFFSET(K180,$F$89-1,0))","v":28387.823940000002},{"$f":"SUM(L180:OFFSET(L180,$F$89-1,0))","v":22840.271280000001},{"$f":"SUM(M180:OFFSET(M180,$F$89-1,0))","v":134619.52828738731},"Euro/Betrachtungszeitraum",{"$f":"SUM(O180:O191)","v":0.99999999999999989}]

{"sheet":"CO2e-Ergebnisse","index":14,"n_rows":74,"n_cols":45,"rows_kept":74,"cut":false,"hidden":false,"merged":[[22,2,22,5],[23,2,23,3],[24,2,24,3],[25,2,25,3],[14,2,14,3],[15,2,15,3],[18,2,18,3],[19,2,19,3],[20,2,20,3],[17,2,17,5],[13,11,13,13],[2,4,2,5],[12,2,12,3],[13,2,13,3],[5,2,5,3],[40,2,41,8],[73,3,73,5],[27,2,27,3],[29,2,29,3],[37,2,37,3],[38,2,38,3],[34,2,34,3],[35,2,35,3],[36,2,36,3]]}
[]
[null,null,"Berechnete CO2-Emissionen im Vergleich"]
[null,null,null,null,"Zurück zum Inhaltsverzeichnis"]
[]
[]
[null,null,{"$f":"Berechnung_BasisS!C20","v":"Anzahl aller Geräte [Stück]"},null,{"$f":"Berechnung_BasisS!D3","v":"Basisszenario"},"UBA-Empfehlung",{"$f":"Berechnung_Szen1!$D$3","v":"Szenario 1"},{"$f":"Berechnung_Szen2!$D$3","v":"Szenario 2"},{"$f":"Berechnung_Szen3!$D$3","v":"Szenario 3"},null,null,"Vergleich der Szenarien mit dem Basisszenario",null,null,null,null,null,null,null,{"$f":"E6","v":"Basisszenario"},null,null,null,null,null,null,{"$f":"Berechnung_Szen1!D3","v":"Szenario 1"},null,null,null,null,null,null,{"$f":"Berechnung_Szen2!D3","v":"Szenario 2"},null,null,null,null,null,null,{"$f":"Berechnung_Szen3!D3","v":"Szenario 3"}]
[null,null,"Desktop-PC",null,{"$f":"Berechnung_BasisS!D21","v":100},{"$f":"'Berechnung_UBA-Empfehlung'!D21","v":100},{"$f":"Berechnung_Szen1!D21","v":100},{"$f":"Berechnung_Szen2!D21","v":100},{"$f":"Berechnung_Szen3!D21","v":100},null,null,{"$f":"T7","v":"kg CO2e / Betrachtungszeitraum"},{"$f":"E6","v":"Basisszenario"},{"$f":"F6","v":"UBA-Empfehlung"},{"$f":"G6","v":"Szenario 1"},{"$f":"H6","v":"Szenario 2"},{"$f":"I6","v":"Szenario 3"},null,null,{"$f":"Berechnung_BasisS!C53","v":"kg CO2e / Betrachtungszeitraum"},{"$f":"Berechnung_BasisS!D53","v":"APC mit Desktop \n(incl. zugehöriger Monitore)"},{"$f":"Berechnung_BasisS!E53","v":"APC mit Notebook \n(incl. zugehöriger Monitore)"},{"$f":"Berechnung_BasisS!F53","v":"APC mit Mini-PC \n(incl. zugehöriger Monitore)"},{"$f":"Berechnung_BasisS!G53","v":"Summe"},null,null,{"$f":"Berechnung_Szen1!C53","v":"kg CO2e / Betrachtungszeitraum"},{"$f":"Berechnung_Szen1!D53","v":"APC mit Desktop"},{"$f":"Berechnung_Szen1!E53","v":"APC mit Notebook"},{"$f":"Berechnung_Szen1!F53","v":"APC mit Mini-PC"},{"$f":"Berechnung_Szen1!G53","v":"Summe"},null,null,{"$f":"Berechnung_Szen2!C53","v":"kg CO2e / Betrachtungszeitraum"},{"$f":"Berechnung_Szen2!D53","v":"APC mit Desktop"},{"$f":"Berechnung_Szen2!E53","v":"APC mit Notebook"},{"$f":"Berechnung_Szen2!F53","v":"APC mit Mini-PC"},{"$f":"Berechnung_Szen2!G53","v":"Summe"},null,null,{"$f":"Berechnung_Szen3!C53","v":"kg CO2e / Betrachtungszeitraum"},{"$f":"Berechnung_Szen3!D53","v":"APC mit Desktop"},{"$f":"Berechnung_Szen3!E53","v":"APC mit Notebook"},{"$f":"Berechnung_Szen3!F53","v":"APC mit Mini-PC"},{"$f":"Berechnung_Szen3!G53","v":"Summe"}]
[null,null,"Notebook",null,{"$f":"Berechnung_BasisS!D22","v":50},{"$f":"'Berechnung_UBA-Empfehlung'!D22","v":50},{"$f":"Berechnung_Szen1!D22","v":50},{"$f":"Berechnung_Szen2!D22","v":50},{"$f":"Berechnung_Szen3!D22","v":50},null,null,{"$f":"U7","v":"APC mit Desktop \n(incl. zugehöriger Monitore)"},{"$f":"U12","v":122706.25783978311},{"$f":"U30","v":122706.25783978311},{"$f":"AB12","v":122706.25783978311},{"$f":"AI12","v":122706.25783978311},{"$f":"AP12","v":122706.25783978311},null,null,{"$f":"Berechnung_BasisS!C54","v":"Herstellung"},{"$f":"Berechnung_BasisS!D54","v":75456.666666666657},{"$f":"Berechnung_BasisS!E54","v":28554.166666666672},{"$f":"Berechnung_BasisS!F54","v":33985},{"$f":"Berechnung_BasisS!G54","v":137995.83333333331},null,null,{"$f":"Berechnung_Szen1!C54","v":"Herstellung"},{"$f":"Berechnung_Szen1!D54","v":75456.666666666657},{"$f":"Berechnung_Szen1!E54","v":28554.166666666672},{"$f":"Berechnung_Szen1!F54","v":33985},{"$f":"Berechnung_Szen1!G54","v":137995.83333333331},null,null,{"$f":"Berechnung_Szen2!C54","v":"Herstellung"},{"$f":"Berechnung_Szen2!D54","v":75456.666666666657},{"$f":"Berechnung_Szen2!E54","v":28554.166666666672},{"$f":"Berechnung_Szen2!F54","v":33985},{"$f":"Berechnung_Szen2!G54","v":137995.83333333331},null,null,{"$f":"Berechnung_Szen3!C54","v":"Herstellung"},{"$f":"Berechnung_Szen3!D54","v":75456.666666666657},{"$f":"Berechnung_Szen3!E54","v":28554.166666666672},{"$f":"Berechnung_Szen3!F54","v":33985},{"$f":"Berechnung_Szen3!G54","v":137995.83333333331}]
[null,null,"Mini-PC",null,{"$f":"Berechnung_BasisS!D23","v":70},{"$f":"'Berechnung_UBA-Empfehlung'!D23","v":70},{"$f":"Berechnung_Szen1!D23","v":70},{"$f":"Berechnung_Szen2!D23","v":70},{"$f":"Berechnung_Szen3!D23","v":70},null,null,{"$f":"V7","v":"APC mit Notebook \n(incl. zugehöriger Monitore)"},{"$f":"V12","v":40787.025369284005},{"$f":"V30","v":40787.025369284005},{"$f":"AC12","v":40787.025369284005},{"$f":"AJ12","v":40787.025369284005},{"$f":"AQ12","v":40787.025369284005},null,null,{"$f":"Berechnung_BasisS!C55","v":"Distribution"},{"$f":"Berechnung_BasisS!D55","v":3528},{"$f":"Berechnung_BasisS!E55","v":865.29166666666674},{"$f":"Berechnung_BasisS!F55","v":1678.5},{"$f":"Berechnung_BasisS!G55","v":6071.791666666667},null,null,{"$f":"Berechnung_Szen1!C55","v":"Distribution"},{"$f":"Berechnung_Szen1!D55","v":3528},{"$f":"Berechnung_Szen1!E55","v":865.29166666666674},{"$f":"Berechnung_Szen1!F55","v":1678.5},{"$f":"Berechnung_Szen1!G55","v":6071.791666666667},null,null,{"$f":"Berechnung_Szen2!C55","v":"Distribution"},{"$f":"Berechnung_Szen2!D55","v":3528},{"$f":"Berechnung_Szen2!E55","v":865.29166666666674},{"$f":"Berechnung_Szen2!F55","v":1678.5},{"$f":"Berechnung_Szen2!G55","v":6071.791666666667},null,null,{"$f":"Berechnung_Szen3!C55","v":"Distribution"},{"$f":"Berechnung_Szen3!D55","v":3528},{"$f":"Berechnung_Szen3!E55","v":865.29166666666674},{"$f":"Berechnung_Szen3!F55","v":1678.5},{"$f":"Berechnung_Szen3!G55","v":6071.791666666667}]
[null,null,"Monitore",null,{"$f":"Berechnung_BasisS!E24","v":250},{"$f":"'Berechnung_UBA-Empfehlung'!E24","v":250},{"$f":"Berechnung_Szen1!E24","v":250},{"$f":"Berechnung_Szen2!E24","v":250},{"$f":"Berechnung_Szen3!E24","v":250},null,null,{"$f":"W7","v":"APC mit Mini-PC \n(incl. zugehöriger Monitore)"},{"$f":"W12","v":57887.470052170342},{"$f":"W30","v":57887.470052170342},{"$f":"AD12","v":57887.470052170342},{"$f":"AK12","v":57887.470052170342},{"$f":"AR12","v":57887.470052170342},null,null,{"$f":"Berechnung_BasisS!C56","v":"Nutzung"},{"$f":"Berechnung_BasisS!D56","v":42748.924506449781},{"$f":"Berechnung_BasisS!E56","v":11136.025369284},{"$f":"Berechnung_BasisS!F56","v":21918.136718837002},{"$f":"Berechnung_BasisS!G56","v":75803.086594570777},null,null,{"$f":"Berechnung_Szen1!C56","v":"Nutzung"},{"$f":"Berechnung_Szen1!D56","v":42748.924506449781},{"$f":"Berechnung_Szen1!E56","v":11136.025369284},{"$f":"Berechnung_Szen1!F56","v":21918.136718837002},{"$f":"Berechnung_Szen1!G56","v":75803.086594570777},null,null,{"$f":"Berechnung_Szen2!C56","v":"Nutzung"},{"$f":"Berechnung_Szen2!D56","v":42748.924506449781},{"$f":"Berechnung_Szen2!E56","v":11136.025369284},{"$f":"Berechnung_Szen2!F56","v":21918.136718837002},{"$f":"Berechnung_Szen2!G56","v":75803.086594570777},null,null,{"$f":"Berechnung_Szen3!C56","v":"Nutzung"},{"$f":"Berechnung_Szen3!D56","v":42748.924506449781},{"$f":"Berechnung_Szen3!E56","v":11136.025369284},{"$f":"Berechnung_Szen3!F56","v":21918.136718837002},{"$f":"Berechnung_Szen3!G56","v":75803.086594570777}]
[null,null,null,null,null,null,null,null,null,null,null,{"$f":"X7","v":"Summe"},{"$f":"X12","v":221380.75326123746},{"$f":"X30","v":221380.75326123746},{"$f":"AE12","v":221380.75326123746},{"$f":"AL12","v":221380.75326123746},{"$f":"AS12","v":221380.75326123746},null,null,{"$f":"Berechnung_BasisS!C57","v":"Entsorgung"},{"$f":"Berechnung_BasisS!D57","v":972.66666666666663},{"$f":"Berechnung_BasisS!E57","v":231.54166666666669},{"$f":"Berechnung_BasisS!F57","v":305.83333333333337},{"$f":"Berechnung_BasisS!G57","v":1510.0416666666665},null,null,{"$f":"Berechnung_Szen1!C57","v":"Entsorgung"},{"$f":"Berechnung_Szen1!D57","v":972.66666666666663},{"$f":"Berechnung_Szen1!E57","v":231.54166666666669},{"$f":"Berechnung_Szen1!F57","v":305.83333333333337},{"$f":"Berechnung_Szen1!G57","v":1510.0416666666665},null,null,{"$f":"Berechnung_Szen2!C57","v":"Entsorgung"},{"$f":"Berechnung_Szen2!D57","v":972.66666666666663},{"$f":"Berechnung_Szen2!E57","v":231.54166666666669},{"$f":"Berechnung_Szen2!F57","v":305.83333333333337},{"$f":"Berechnung_Szen2!G57","v":1510.0416666666665},null,null,{"$f":"Berechnung_Szen3!C57","v":"Entsorgung"},{"$f":"Berechnung_Szen3!D57","v":972.66666666666663},{"$f":"Berechnung_Szen3!E57","v":231.54166666666669},{"$f":"Berechnung_Szen3!F57","v":305.83333333333337},{"$f":"Berechnung_Szen3!G57","v":1510.0416666666665}]
[null,null,"Angenommene Nutzungsdauer [Jahre]",null,null,null,null,null,null,null,null,null,null,null,null,null,null,null,null,{"$f":"Berechnung_BasisS!C58","v":"Summe"},{"$f":"Berechnung_BasisS!D58","v":122706.25783978311},{"$f":"Berechnung_BasisS!E58","v":40787.025369284005},{"$f":"Berechnung_BasisS!F58","v":57887.470052170342},{"$f":"Berechnung_BasisS!G58","v":221380.75326123746},null,null,{"$f":"Berechnung_Szen1!C58","v":"Summe"},{"$f":"Berechnung_Szen1!D58","v":122706.25783978311},{"$f":"Berechnung_Szen1!E58","v":40787.025369284005},{"$f":"Berechnung_Szen1!F58","v":57887.470052170342},{"$f":"Berechnung_Szen1!G58","v":221380.75326123746},null,null,{"$f":"Berechnung_Szen2!C58","v":"Summe"},{"$f":"Berechnung_Szen2!D58","v":122706.25783978311},{"$f":"Berechnung_Szen2!E58","v":40787.025369284005},{"$f":"Berechnung_Szen2!F58","v":57887.470052170342},{"$f":"Berechnung_Szen2!G58","v":221380.75326123746},null,null,{"$f":"Berechnung_Szen3!C58","v":"Summe"},{"$f":"Berechnung_Szen3!D58","v":122706.25783978311},{"$f":"Berechnung_Szen3!E58","v":40787.025369284005},{"$f":"Berechnung_Szen3!F58","v":57887.470052170342},{"$f":"Berechnung_Szen3!G58","v":221380.75326123746}]
[null,null,{"$f":"Berechnung_BasisS!C27","v":"Desktop-PC"},null,{"$f":"Berechnung_BasisS!D27","v":6},{"$f":"'Berechnung_UBA-Empfehlung'!D27","v":6},{"$f":"Berechnung_Szen1!D27","v":6},{"$f":"Berechnung_Szen2!D27","v":6},{"$f":"Berechnung_Szen3!D27","v":6}]
[null,null,{"$f":"Berechnung_BasisS!C28","v":"Notebook"},null,{"$f":"Berechnung_BasisS!D28","v":6},{"$f":"'Berechnung_UBA-Empfehlung'!D28","v":6},{"$f":"Berechnung_Szen1!D28","v":6},{"$f":"Berechnung_Szen2!D28","v":6},{"$f":"Berechnung_Szen3!D28","v":6},null,null,"Vergleich der Szenarien je nach Arbeitsplatz-Typ, normiert auf das Basisszenario\n",null,null,null,null,null,null,null,{"$f":"Berechnung_BasisS!I53","v":"GWP der Lebensphasen in % bezogen auf den Arbeitsplatztyp / Betrachtungszeitraum"},{"$f":"Berechnung_BasisS!J53","v":"APC mit Desktop \n(incl. zugehöriger Monitore)"},{"$f":"Berechnung_BasisS!K53","v":"APC mit Notebook \n(incl. zugehöriger Monitore)"},{"$f":"Berechnung_BasisS!L53","v":"APC mit Mini-PC \n(incl. zugehöriger Monitore)"},{"$f":"Berechnung_BasisS!M53","v":"% (Summe)"},null,null,{"$f":"Berechnung_Szen1!I53","v":"GWP in % bezogen auf den Arbeitsplatztyp / Betrachtungszeitraum"},{"$f":"Berechnung_Szen1!J53","v":"APC mit Desktop"},{"$f":"Berechnung_Szen1!K53","v":"APC mit Notebook"},{"$f":"Berechnung_Szen1!L53","v":"APC mit Mini-PC"},{"$f":"Berechnung_Szen1!M53","v":"% (Summe)"},null,null,{"$f":"Berechnung_Szen2!I53","v":"GWP in % bezogen auf den Arbeitsplatztyp / Betrachtungszeitraum"},{"$f":"Berechnung_Szen2!J53","v":"APC mit Desktop"},{"$f":"Berechnung_Szen2!K53","v":"APC mit Notebook"},{"$f":"Berechnung_Szen2!L53","v":"APC mit Mini-PC"},{"$f":"Berechnung_Szen2!M53","v":"% (Summe)"},null,null,{"$f":"Berechnung_Szen3!I53","v":"GWP in % bezogen auf den Arbeitsplatztyp / Betrachtungszeitraum"},{"$f":"Berechnung_Szen3!J53","v":"APC mit Desktop"},{"$f":"Berechnung_Szen3!K53","v":"APC mit Notebook"},{"$f":"Berechnung_Szen3!L53","v":"APC mit Mini-PC"},{"$f":"Berechnung_Szen3!M53","v":"% (Summe)"}]
[null,null,{"$f":"Berechnung_BasisS!C29","v":"Mini-PC"},null,{"$f":"Berechnung_BasisS!D29","v":6},{"$f":"'Berechnung_UBA-Empfehlung'!D29","v":6},{"$f":"Berechnung_Szen1!D29","v":6},{"$f":"Berechnung_Szen2!D29","v":6},{"$f":"Berechnung_Szen3!D29","v":6},null,null,{"$f":"L8","v":"APC mit Desktop \n(incl. zugehöriger Monitore)"},{"$f":"IF($M8=0,\" \",M8/$M8)","v":1},{"$f":"IF($M8=0,\"\",N8/$M8)","v":1},1,1,1,null,null,{"$f":"Berechnung_BasisS!I54","v":"Herstellung"},{"$f":"Berechnung_BasisS!J54","v":0.61493739598179264},{"$f":"Berechnung_BasisS!K54","v":0.70007965543303174},{"$f":"Berechnung_BasisS!L54","v":0.58708732596832192},{"$f":"Berechnung_BasisS!M54","v":0.62334160174481446},null,null,{"$f":"Berechnung_Szen1!I54","v":"Herstellung"},{"$f":"Berechnung_Szen1!J54","v":0.61493739598179264},{"$f":"Berechnung_Szen1!K54","v":0.70007965543303174},{"$f":"Berechnung_Szen1!L54","v":0.58708732596832192},{"$f":"Berechnung_Szen1!M54","v":0.62334160174481446},null,null,{"$f":"Berechnung_Szen2!I54","v":"Herstellung"},{"$f":"Berechnung_Szen2!J54","v":0.61493739598179264},{"$f":"Berechnung_Szen2!K54","v":0.70007965543303174},{"$f":"Berechnung_Szen2!L54","v":0.58708732596832192},{"$f":"Berechnung_Szen2!M54","v":0.62334160174481446},null,null,{"$f":"Berechnung_Szen3!I54","v":"Herstellung"},{"$f":"Berechnung_Szen3!J54","v":0.61493739598179264},{"$f":"Berechnung_Szen3!K54","v":0.70007965543303174},{"$f":"Berechnung_Szen3!L54","v":0.58708732596832192},{"$f":"Berechnung_Szen3!M54","v":0.62334160174481446}]
[null,null,{"$f":"Berechnung_BasisS!C30","v":"Monitor"},null,{"$f":"Berechnung_BasisS!D30","v":6},{"$f":"'Berechnung_UBA-Empfehlung'!D30","v":6},{"$f":"Berechnung_Szen1!D30","v":6},{"$f":"Berechnung_Szen2!D30","v":6},{"$f":"Berechnung_Szen3!D30","v":6},null,null,{"$f":"L9","v":"APC mit Notebook \n(incl. zugehöriger Monitore)"},{"$f":"IF($M9=0,\"\",M9/$M9)","v":1},1,1,1,1,null,null,{"$f":"Berechnung_BasisS!I55","v":"Distribution"},{"$f":"Berechnung_BasisS!J55","v":2.8751589870880834E-2},{"$f":"Berechnung_BasisS!K55","v":2.1214875535353523E-2},{"$f":"Berechnung_BasisS!L55","v":2.8995912215325239E-2},{"$f":"Berechnung_BasisS!M55","v":2.7426917549158977E-2},null,null,{"$f":"Berechnung_Szen1!I55","v":"Distribution"},{"$f":"Berechnung_Szen1!J55","v":2.8751589870880834E-2},{"$f":"Berechnung_Szen1!K55","v":2.1214875535353523E-2},{"$f":"Berechnung_Szen1!L55","v":2.8995912215325239E-2},{"$f":"Berechnung_Szen1!M55","v":2.7426917549158977E-2},null,null,{"$f":"Berechnung_Szen2!I55","v":"Distribution"},{"$f":"Berechnung_Szen2!J55","v":2.8751589870880834E-2},{"$f":"Berechnung_Szen2!K55","v":2.1214875535353523E-2},{"$f":"Berechnung_Szen2!L55","v":2.8995912215325239E-2},{"$f":"Berechnung_Szen2!M55","v":2.7426917549158977E-2},null,null,{"$f":"Berechnung_Szen3!I55","v":"Distribution"},{"$f":"Berechnung_Szen3!J55","v":2.8751589870880834E-2},{"$f":"Berechnung_Szen3!K55","v":2.1214875535353523E-2},{"$f":"Berechnung_Szen3!L55","v":2.8995912215325239E-2},{"$f":"Berechnung_Szen3!M55","v":2.7426917549158977E-2}]
[null,null,null,null,null,null,null,null,null,null,null,{"$f":"L10","v":"APC mit Mini-PC \n(incl. zugehöriger Monitore)"},{"$f":"IF($M10=0,\" \",M10/$M10)","v":1},1,1,1,1,null,null,{"$f":"Berechnung_BasisS!I56","v":"Nutzung"},{"$f":"Berechnung_BasisS!J56","v":0.34838422472525254},{"$f":"Berechnung_BasisS!K56","v":0.27302862291277424},{"$f":"Berechnung_BasisS!L56","v":0.37863352292099761},{"$f":"Berechnung_BasisS!M56","v":0.34241046467630515},null,null,{"$f":"Berechnung_Szen1!I56","v":"Nutzung"},{"$f":"Berechnung_Szen1!J56","v":0.34838422472525254},{"$f":"Berechnung_Szen1!K56","v":0.27302862291277424},{"$f":"Berechnung_Szen1!L56","v":0.37863352292099761},{"$f":"Berechnung_Szen1!M56","v":0.34241046467630515},null,null,{"$f":"Berechnung_Szen2!I56","v":"Nutzung"},{"$f":"Berechnung_Szen2!J56","v":0.34838422472525254},{"$f":"Berechnung_Szen2!K56","v":0.27302862291277424},{"$f":"Berechnung_Szen2!L56","v":0.37863352292099761},{"$f":"Berechnung_Szen2!M56","v":0.34241046467630515},null,null,{"$f":"Berechnung_Szen3!I56","v":"Nutzung"},{"$f":"Berechnung_Szen3!J56","v":0.34838422472525254},{"$f":"Berechnung_Szen3!K56","v":0.27302862291277424},{"$f":"Berechnung_Szen3!L56","v":0.37863352292099761},{"$f":"Berechnung_Szen3!M56","v":0.34241046467630515}]
[null,null,{"$f":"Berechnung_BasisS!C32","v":"Prozentualer Anteil der Geräte, bei denen während der Nutzungsphase folgende Komponenten nachgerüstet bzw. ausgetauscht werden [%]"},null,null,null,null,null,null,null,null,{"$f":"L11","v":"Summe"},{"$f":"IF($M11=0,\"Basisszenario fehlt\",M11/$M11)","v":1},{"$f":"IF($M11=0,\"Basisszenario fehlt\",N11/$M11)","v":1},1,1,1,null,null,{"$f":"Berechnung_BasisS!I57","v":"Entsorgung"},{"$f":"Berechnung_BasisS!J57","v":7.9267894220739106E-3},{"$f":"Berechnung_BasisS!K57","v":5.6768461188404454E-3},{"$f":"Berechnung_BasisS!L57","v":5.2832388953551607E-3},{"$f":"Berechnung_BasisS!M57","v":6.8210160297212542E-3},null,null,{"$f":"Berechnung_Szen1!I57","v":"Entsorgung"},{"$f":"Berechnung_Szen1!J57","v":7.9267894220739106E-3},{"$f":"Berechnung_Szen1!K57","v":5.6768461188404454E-3},{"$f":"Berechnung_Szen1!L57","v":5.2832388953551607E-3},{"$f":"Berechnung_Szen1!M57","v":6.8210160297212542E-3},null,null,{"$f":"Berechnung_Szen2!I57","v":"Entsorgung"},{"$f":"Berechnung_Szen2!J57","v":7.9267894220739106E-3},{"$f":"Berechnung_Szen2!K57","v":5.6768461188404454E-3},{"$f":"Berechnung_Szen2!L57","v":5.2832388953551607E-3},{"$f":"Berechnung_Szen2!M57","v":6.8210160297212542E-3},null,null,{"$f":"Berechnung_Szen3!I57","v":"Entsorgung"},{"$f":"Berechnung_Szen3!J57","v":7.9267894220739106E-3},{"$f":"Berechnung_Szen3!K57","v":5.6768461188404454E-3},{"$f":"Berechnung_Szen3!L57","v":5.2832388953551607E-3},{"$f":"Berechnung_Szen3!M57","v":6.8210160297212542E-3}]
[null,null,{"$f":"Berechnung_BasisS!C34","v":"Desktop-PC"},null,{"$f":"IF(AND(Berechnung_BasisS!$C$10=0,Berechnung_BasisS!$D$10=0),\"-\",CONCATENATE(Berechnung_BasisS!$C$10*100,\"%\",\" SSD; \",Berechnung_BasisS!$D$10*100,\"%\",\" RAM\"))","v":"-"},{"$f":"IF(AND('Berechnung_UBA-Empfehlung'!$D$34=0,'Berechnung_UBA-Empfehlung'!$E$34=0),\"-\",CONCATENATE('Berechnung_UBA-Empfehlung'!$D$34*100, \"%\",\" SSD; \",'Berechnung_UBA-Empfehlung'!$E$34*100,\"%\", \" RAM\"))","v":"-"},{"$f":"IF(AND(Berechnung_Szen1!$D$34=0,Berechnung_Szen1!$E$34=0),\"-\",CONCATENATE(Berechnung_Szen1!$D$34*100, \"%\",\" SSD; \",Berechnung_Szen1!$E$34*100,\"%\", \" RAM\"))","v":"-"},{"$f":"IF(AND(Berechnung_Szen2!$D$34=0,Berechnung_Szen2!$E$34=0),\"-\",CONCATENATE(Berechnung_Szen2!$D$34*100, \"%\",\" SSD; \",Berechnung_Szen2!$E$34*100,\"%\", \" RAM\"))","v":"-"},{"$f":"IF(AND(Berechnung_Szen3!$D$34=0,Berechnung_Szen3!$E$34=0),\"-\",CONCATENATE(Berechnung_Szen3!$D$34*100, \"%\",\" SSD; \",Berechnung_Szen3!$E$34*100,\"%\", \" RAM\"))","v":"-"},null,null,null,null,null,null,null,null,null,null,{"$f":"Berechnung_BasisS!I58","v":"Summe"},{"$f":"Berechnung_BasisS!J58","v":1},{"$f":"Berechnung_BasisS!K58","v":0.99999999999999989},{"$f":"Berechnung_BasisS!L58","v":1},{"$f":"Berechnung_BasisS!M58","v":0.99999999999999978},null,null,{"$f":"Berechnung_Szen1!I58","v":"Summe"},{"$f":"Berechnung_Szen1!J58","v":1},{"$f":"Berechnung_Szen1!K58","v":0.99999999999999989},{"$f":"Berechnung_Szen1!L58","v":1},{"$f":"Berechnung_Szen1!M58","v":0.99999999999999978},null,null,{"$f":"Berechnung_Szen2!I58","v":"Summe"},{"$f":"Berechnung_Szen2!J58","v":1},{"$f":"Berechnung_Szen2!K58","v":0.99999999999999989},{"$f":"Berechnung_Szen2!L58","v":1},{"$f":"Berechnung_Szen2!M58","v":0.99999999999999978},null,null,{"$f":"Berechnung_Szen3!I58","v":"Summe"},{"$f":"Berechnung_Szen3!J58","v":1},{"$f":"Berechnung_Szen3!K58","v":0.99999999999999989},{"$f":"Berechnung_Szen3!L58","v":1},{"$f":"Berechnung_Szen3!M58","v":0.99999999999999978}]
[null,null,{"$f":"Berechnung_BasisS!C35","v":"Notebook"},null,{"$f":"IF(AND(Berechnung_BasisS!$D$35=0,Berechnung_BasisS!$E$35=0,Berechnung_BasisS!$F$35=0),\"-\",CONCATENATE(Berechnung_BasisS!$D$35*100, \"%\",\" SSD; \",Berechnung_BasisS!$E$35*100,\"%\", \" RAM; \",Berechnung_BasisS!$F$35*100,\"%\",\" Akku\"))","v":"0% SSD; 0% RAM; 50% Akku"},{"$f":"IF(AND('Berechnung_UBA-Empfehlung'!$D$35=0,'Berechnung_UBA-Empfehlung'!$E$35=0,'Berechnung_UBA-Empfehlung'!$F$35=0),\"-\",CONCATENATE('Berechnung_UBA-Empfehlung'!$D$35*100, \"%\",\" SSD; \",'Berechnung_UBA-Empfehlung'!$E$35*100,\"%\", \" RAM; \",'Berechnung_UBA-Empfehlung'!$F$35*100,\"%\",\" Akku\"))","v":"0% SSD; 0% RAM; 50% Akku"},{"$f":"IF(AND(Berechnung_Szen1!$D$35=0,Berechnung_Szen1!$E$35=0,Berechnung_Szen1!$F$35=0),\"-\",CONCATENATE(Berechnung_Szen1!$D$35*100, \"%\",\" SSD; \",Berechnung_Szen1!$E$35*100,\"%\", \" RAM; \",Berechnung_Szen1!$F$35*100,\"%\",\" Akku\"))","v":"0% SSD; 0% RAM; 50% Akku"},{"$f":"IF(AND(Berechnung_Szen2!$D$35=0,Berechnung_Szen2!$E$35=0,Berechnung_Szen2!$F$35=0),\"-\",CONCATENATE(Berechnung_Szen2!$D$35*100, \"%\",\" SSD; \",Berechnung_Szen2!$E$35*100,\"%\", \" RAM; \",Berechnung_Szen2!$F$35*100,\"%\",\" Akku\"))","v":"0% SSD; 0% RAM; 50% Akku"},{"$f":"IF(AND(Berechnung_Szen3!$D$35=0,Berechnung_Szen3!$E$35=0,Berechnung_Szen3!$F$35=0),\"-\",CONCATENATE(Berechnung_Szen3!$D$35*100, \"%\",\" SSD; \",Berechnung_Szen3!$E$35*100,\"%\", \" RAM; \",Berechnung_Szen3!$F$35*100,\"%\",\" Akku\"))","v":"0% SSD; 0% RAM; 50% Akku"}]
[null,null,{"$f":"Berechnung_BasisS!C36","v":"Mini-PC"},null,{"$f":"IF(AND(Berechnung_BasisS!$D$36=0,Berechnung_BasisS!$E$36=0),\"-\",CONCATENATE(Berechnung_BasisS!$D$36*100, \"%\",\" SSD; \",Berechnung_BasisS!$E$36*100,\"%\", \" RAM\"))","v":"-"},{"$f":"IF(AND('Berechnung_UBA-Empfehlung'!$D$36=0,'Berechnung_UBA-Empfehlung'!$E$36=0),\"-\",CONCATENATE('Berechnung_UBA-Empfehlung'!$D$36*100, \"%\",\" SSD; \",'Berechnung_UBA-Empfehlung'!$E$36*100,\"%\", \" RAM\"))","v":"-"},{"$f":"IF(AND(Berechnung_Szen1!$D$36=0,Berechnung_Szen1!$E$36=0),\"-\",CONCATENATE(Berechnung_Szen1!$D$36*100, \"%\",\" SSD; \",Berechnung_Szen1!$E$36*100,\"%\", \" RAM\"))","v":"-"},{"$f":"IF(AND(Berechnung_Szen2!$D$36=0,Berechnung_Szen2!$E$36=0),\"-\",CONCATENATE(Berechnung_Szen2!$D$36*100, \"%\",\" SSD; \",Berechnung_Szen2!$E$36*100,\"%\", \" RAM\"))","v":"-"},{"$f":"IF(AND(Berechnung_Szen3!$D$36=0,Berechnung_Szen3!$E$36=0),\"-\",CONCATENATE(Berechnung_Szen3!$D$36*100, \"%\",\" SSD; \",Berechnung_Szen3!$E$36*100,\"%\", \" RAM\"))","v":"-"}]
[]
[null,null,{"$f":"Berechnung_BasisS!I32","v":"Anzahl der Austauschvorgänge von Komponenten je Gerät während der Nutzungsphase"}]
[null,null,{"$f":"Berechnung_BasisS!I34","v":"Desktop-PC"},null,{"$f":"IF(AND(Berechnung_BasisS!$D$34=0,Berechnung_BasisS!$E$34=0),\"-\",CONCATENATE(Berechnung_BasisS!$J$34,\" x SSD; \",Berechnung_BasisS!$K$34, \" x RAM\"))","v":"-"},{"$f":"IF(AND('Berechnung_UBA-Empfehlung'!$D$34=0,'Berechnung_UBA-Empfehlung'!$E$34=0),\"-\",CONCATENATE('Berechnung_UBA-Empfehlung'!$J$34,\" x SSD; \",'Berechnung_UBA-Empfehlung'!$K$34, \" x RAM\"))","v":"-"},{"$f":"IF(AND(Berechnung_Szen1!$D$34=0,Berechnung_Szen1!$E$34=0),\"-\",CONCATENATE(Berechnung_Szen1!$J$34,\" x SSD; \",Berechnung_Szen1!$K$34, \" x RAM\"))","v":"-"},{"$f":"IF(AND(Berechnung_Szen2!$D$34=0,Berechnung_Szen2!$E$34=0),\"-\",CONCATENATE(Berechnung_Szen2!$J$34,\" x SSD; \",Berechnung_Szen2!$K$34, \" x RAM\"))","v":"-"},{"$f":"IF(AND(Berechnung_Szen3!$D$34=0,Berechnung_Szen3!$E$34=0),\"-\",CONCATENATE(Berechnung_Szen3!$J$34,\" x SSD; \",Berechnung_Szen3!$K$34, \" x RAM\"))","v":"-"},null,null,null,null,null,null,null,null,null,null,{"$f":"F30","v":"UBA-Empfehlung "}]
[null,null,{"$f":"Berechnung_BasisS!I35","v":"Notebook"},null,{"$f":"IF(AND(Berechnung_BasisS!$D$35=0,Berechnung_BasisS!$E$35=0,Berechnung_BasisS!$F$35=0),\"-\",CONCATENATE(Berechnung_BasisS!$J$35,\" x SSD; \",Berechnung_BasisS!$K$35, \" x RAM; \",Berechnung_BasisS!$L$35, \" x Akku\"))","v":"1 x SSD; 1 x RAM; 1 x Akku"},{"$f":"IF(AND('Berechnung_UBA-Empfehlung'!$D$35=0,'Berechnung_UBA-Empfehlung'!$E$35=0,'Berechnung_UBA-Empfehlung'!$F$35=0),\"-\",CONCATENATE('Berechnung_UBA-Empfehlung'!$J$35,\" x SSD; \",'Berechnung_UBA-Empfehlung'!$K$35, \" x RAM; \",'Berechnung_UBA-Empfehlung'!$L$35, \" x Akku\"))","v":"1 x SSD; 1 x RAM; 1 x Akku"},{"$f":"IF(AND(Berechnung_Szen1!$D$35=0,Berechnung_Szen1!$E$35=0,Berechnung_Szen1!$F$35=0),\"-\",CONCATENATE(Berechnung_Szen1!$J$35,\" x SSD; \",Berechnung_Szen1!$K$35, \" x RAM; \",Berechnung_Szen1!$L$35, \" x Akku\"))","v":"1 x SSD; 1 x RAM; 1 x Akku"},{"$f":"IF(AND(Berechnung_Szen2!$D$35=0,Berechnung_Szen2!$E$35=0,Berechnung_Szen2!$F$35=0),\"-\",CONCATENATE(Berechnung_Szen2!$J$35,\" x SSD; \",Berechnung_Szen2!$K$35, \" x RAM; \",Berechnung_Szen2!$L$35, \" x Akku\"))","v":"1 x SSD; 1 x RAM; 1 x Akku"},{"$f":"IF(AND(Berechnung_Szen3!$D$35=0,Berechnung_Szen3!$E$35=0,Berechnung_Szen3!$F$35=0),\"-\",CONCATENATE(Berechnung_Szen3!$J$35,\" x SSD; \",Berechnung_Szen3!$K$35, \" x RAM; \",Berechnung_Szen3!$L$35, \" x Akku\"))","v":"1 x SSD; 1 x RAM; 1 x Akku"},null,null,null,null,null,null,null,null,null,null,{"$f":"T7","v":"kg CO2e / Betrachtungszeitraum"},{"$f":"U7","v":"APC mit Desktop \n(incl. zugehöriger Monitore)"},{"$f":"V7","v":"APC mit Notebook \n(incl. zugehöriger Monitore)"},{"$f":"W7","v":"APC mit Mini-PC \n(incl. zugehöriger Monitore)"},{"$f":"X7","v":"Summe"}]
[null,null,{"$f":"Berechnung_BasisS!I36","v":"Mini-PC"},null,{"$f":"IF(AND(Berechnung_BasisS!$D$36=0,Berechnung_BasisS!$E$36=0),\"-\",CONCATENATE(Berechnung_BasisS!$J$36,\" x SSD; \",Berechnung_BasisS!$K$36, \" x RAM\"))","v":"-"},{"$f":"IF(AND('Berechnung_UBA-Empfehlung'!$D$36=0,'Berechnung_UBA-Empfehlung'!$E$36=0),\"-\",CONCATENATE('Berechnung_UBA-Empfehlung'!$J$36,\" x SSD; \",'Berechnung_UBA-Empfehlung'!$K$36, \" x RAM\"))","v":"-"},{"$f":"IF(AND(Berechnung_Szen1!$D$36=0,Berechnung_Szen1!$E$36=0),\"-\",CONCATENATE(Berechnung_Szen1!$J$36,\" x SSD; \",Berechnung_Szen1!$K$36, \" x RAM\"))","v":"-"},{"$f":"IF(AND(Berechnung_Szen2!$D$36=0,Berechnung_Szen2!$E$36=0),\"-\",CONCATENATE(Berechnung_Szen2!$J$36,\" x SSD; \",Berechnung_Szen2!$K$36, \" x RAM\"))","v":"-"},{"$f":"IF(AND(Berechnung_Szen3!$D$36=0,Berechnung_Szen3!$E$36=0),\"-\",CONCATENATE(Berechnung_Szen3!$J$36,\" x SSD; \",Berechnung_Szen3!$K$36, \" x RAM\"))","v":"-"},null,null,null,null,null,null,null,null,null,null,{"$f":"T8","v":"Herstellung"},{"$f":"'Berechnung_UBA-Empfehlung'!D54","v":75456.666666666657},{"$f":"'Berechnung_UBA-Empfehlung'!E54","v":28554.166666666672},{"$f":"'Berechnung_UBA-Empfehlung'!F54","v":33985},{"$f":"'Berechnung_UBA-Empfehlung'!G54","v":137995.83333333331}]
[null,null,null,null,null,null,null,null,null,null,null,null,null,null,null,null,null,null,null,{"$f":"T9","v":"Distribution"},{"$f":"'Berechnung_UBA-Empfehlung'!D55","v":3528},{"$f":"'Berechnung_UBA-Empfehlung'!E55","v":865.29166666666674},{"$f":"'Berechnung_UBA-Empfehlung'!F55","v":1678.5},{"$f":"'Berechnung_UBA-Empfehlung'!G55","v":6071.791666666667}]
[null,null,{"$f":"Berechnung_BasisS!C6","v":"Betrachtungszeitraum [Jahr]"},null,{"$f":"Berechnung_BasisS!E6","v":10},{"$f":"Berechnung_BasisS!F6","v":"Jahre"},null,null,null,null,null,null,null,null,null,null,null,null,null,{"$f":"T10","v":"Nutzung"},{"$f":"'Berechnung_UBA-Empfehlung'!D56","v":42748.924506449781},{"$f":"'Berechnung_UBA-Empfehlung'!E56","v":11136.025369284},{"$f":"'Berechnung_UBA-Empfehlung'!F56","v":21918.136718837002},{"$f":"'Berechnung_UBA-Empfehlung'!G56","v":75803.086594570777}]
[null,null,null,null,null,null,null,null,null,null,null,null,null,null,null,null,null,null,null,{"$f":"T11","v":"Entsorgung"},{"$f":"'Berechnung_UBA-Empfehlung'!D57","v":972.66666666666663},{"$f":"'Berechnung_UBA-Empfehlung'!E57","v":231.54166666666669},{"$f":"'Berechnung_UBA-Empfehlung'!F57","v":305.83333333333337},{"$f":"'Berechnung_UBA-Empfehlung'!G57","v":1510.0416666666665}]
[null,null,"Arbeitsplatztyp \n[kWh/Betrachtungsraum]",null,{"$f":"E6","v":"Basisszenario"},{"$f":"'Berechnung_UBA-Empfehlung'!$D$3","v":"UBA-Empfehlung "},{"$f":"Berechnung_Szen1!$D$3","v":"Szenario 1"},{"$f":"Berechnung_Szen2!$D$3","v":"Szenario 2"},{"$f":"Berechnung_Szen3!$D$3","v":"Szenario 3"},null,null,null,null,null,null,null,null,null,null,{"$f":"T12","v":"Summe"},{"$f":"'Berechnung_UBA-Empfehlung'!D58","v":122706.25783978311},{"$f":"'Berechnung_UBA-Empfehlung'!E58","v":40787.025369284005},{"$f":"'Berechnung_UBA-Empfehlung'!F58","v":57887.470052170342},{"$f":"'Berechnung_UBA-Empfehlung'!G58","v":221380.75326123746}]
[null,null,{"$f":"Berechnung_BasisS!C48","v":"APC mit Desktop-PC"},null,{"$f":"Berechnung_BasisS!D48","v":68728.174447668454},{"$f":"'Berechnung_UBA-Empfehlung'!D48","v":68728.174447668454},{"$f":"Berechnung_Szen1!D48","v":68728.174447668454},{"$f":"Berechnung_Szen2!D48","v":68728.174447668454},{"$f":"Berechnung_Szen3!D48","v":68728.174447668454}]
[null,null,{"$f":"Berechnung_BasisS!C49","v":"APC mit Notebook"},null,{"$f":"Berechnung_BasisS!D49","v":17903.577764122187},{"$f":"'Berechnung_UBA-Empfehlung'!D49","v":17903.577764122187},{"$f":"Berechnung_Szen1!D49","v":17903.577764122187},{"$f":"Berechnung_Szen2!D49","v":17903.577764122187},{"$f":"Berechnung_Szen3!D49","v":17903.577764122187},null,null,null,null,null,null,null,null,null,null,{"$f":"T14","v":"GWP der Lebensphasen in % bezogen auf den Arbeitsplatztyp / Betrachtungszeitraum"},{"$f":"U14","v":"APC mit Desktop \n(incl. zugehöriger Monitore)"},{"$f":"V14","v":"APC mit Notebook \n(incl. zugehöriger Monitore)"},{"$f":"W14","v":"APC mit Mini-PC \n(incl. zugehöriger Monitore)"},{"$f":"X14","v":"% (Summe)"}]
[null,null,{"$f":"Berechnung_BasisS!C50","v":"APC mit Mini-PC"},null,{"$f":"Berechnung_BasisS!D50","v":35238.161927390676},{"$f":"'Berechnung_UBA-Empfehlung'!D50","v":35238.161927390676},{"$f":"Berechnung_Szen1!D50","v":35238.161927390676},{"$f":"Berechnung_Szen2!D50","v":35238.161927390676},{"$f":"Berechnung_Szen3!D50","v":35238.161927390676},null,null,null,null,null,null,null,null,null,null,{"$f":"T15","v":"Herstellung"},{"$f":"'Berechnung_UBA-Empfehlung'!J54","v":0.61493739598179264},{"$f":"'Berechnung_UBA-Empfehlung'!K54","v":0.70007965543303174},{"$f":"'Berechnung_UBA-Empfehlung'!L54","v":0.58708732596832192},{"$f":"'Berechnung_UBA-Empfehlung'!M54","v":0.62334160174481446}]
[null,null,"GWP: kg CO2e/Betrachtungszeitraum",null,null,null,null,null,null,null,null,null,null,null,null,null,null,null,null,{"$f":"T16","v":"Distribution"},{"$f":"'Berechnung_UBA-Empfehlung'!J55","v":2.8751589870880834E-2},{"$f":"'Berechnung_UBA-Empfehlung'!K55","v":2.1214875535353523E-2},{"$f":"'Berechnung_UBA-Empfehlung'!L55","v":2.8995912215325239E-2},{"$f":"'Berechnung_UBA-Empfehlung'!M55","v":2.7426917549158977E-2}]
[null,null,"Herstellung",null,{"$f":"Berechnung_BasisS!G54","v":137995.83333333331},{"$f":"'Berechnung_UBA-Empfehlung'!G54","v":137995.83333333331},{"$f":"Berechnung_Szen1!G54","v":137995.83333333331},{"$f":"Berechnung_Szen2!G54","v":137995.83333333331},{"$f":"Berechnung_Szen3!G54","v":137995.83333333331},null,null,null,null,null,null,null,null,null,null,{"$f":"T17","v":"Nutzung"},{"$f":"'Berechnung_UBA-Empfehlung'!J56","v":0.34838422472525254},{"$f":"'Berechnung_UBA-Empfehlung'!K56","v":0.27302862291277424},{"$f":"'Berechnung_UBA-Empfehlung'!L56","v":0.37863352292099761},{"$f":"'Berechnung_UBA-Empfehlung'!M56","v":0.34241046467630515}]
[null,null,"Distribution",null,{"$f":"Berechnung_BasisS!G55","v":6071.791666666667},{"$f":"'Berechnung_UBA-Empfehlung'!G55","v":6071.791666666667},{"$f":"Berechnung_Szen1!G55","v":6071.791666666667},{"$f":"Berechnung_Szen2!G55","v":6071.791666666667},{"$f":"Berechnung_Szen3!G55","v":6071.791666666667},null,null,null,null,null,null,null,null,null,null,{"$f":"T18","v":"Entsorgung"},{"$f":"'Berechnung_UBA-Empfehlung'!J57","v":7.9267894220739106E-3},{"$f":"'Berechnung_UBA-Empfehlung'!K57","v":5.6768461188404454E-3},{"$f":"'Berechnung_UBA-Empfehlung'!L57","v":5.2832388953551607E-3},{"$f":"'Berechnung_UBA-Empfehlung'!M57","v":6.8210160297212542E-3}]
[null,null,"Nutzung",null,{"$f":"Berechnung_BasisS!G56","v":75803.086594570777},{"$f":"'Berechnung_UBA-Empfehlung'!G56","v":75803.086594570777},{"$f":"Berechnung_Szen1!G56","v":75803.086594570777},{"$f":"Berechnung_Szen2!G56","v":75803.086594570777},{"$f":"Berechnung_Szen3!G56","v":75803.086594570777},null,null,null,null,null,null,null,null,null,null,{"$f":"T19","v":"Summe"},{"$f":"'Berechnung_UBA-Empfehlung'!J58","v":1},{"$f":"'Berechnung_UBA-Empfehlung'!K58","v":0.99999999999999989},{"$f":"'Berechnung_UBA-Empfehlung'!L58","v":1},{"$f":"'Berechnung_UBA-Empfehlung'!M58","v":0.99999999999999978}]
[null,null,"End-of-life",null,{"$f":"Berechnung_BasisS!G57","v":1510.0416666666665},{"$f":"'Berechnung_UBA-Empfehlung'!G57","v":1510.0416666666665},{"$f":"Berechnung_Szen1!G57","v":1510.0416666666665},{"$f":"Berechnung_Szen2!G57","v":1510.0416666666665},{"$f":"Berechnung_Szen3!G57","v":1510.0416666666665}]
[null,null,"Summe",null,{"$f":"Berechnung_BasisS!G58","v":221380.75326123746},{"$f":"'Berechnung_UBA-Empfehlung'!G58","v":221380.75326123746},{"$f":"Berechnung_Szen1!G58","v":221380.75326123746},{"$f":"Berechnung_Szen2!G58","v":221380.75326123746},{"$f":"Berechnung_Szen3!G58","v":221380.75326123746}]
[]
[null,null,{"$f":"\"Treibhausgaspotenzial (kg CO2e)  von Computerarbeitsplätzen (bezogen auf den Betrachtungszeitraum von \" &$E$28 & \" Jahren )\"","v":"Treibhausgaspotenzial (kg CO2e)  von Computerarbeitsplätzen (bezogen auf den Betrachtungszeitraum von 10 Jahren )"}]
[]
[]
[]
[]
[]
[]
[]
[]
[]
[]
[]
[]
[]
[]
[]
[]
[]
[]
[]
[]
[]
[]
[]
[]
[]
[]
[]
[]
[]
[]
[null,null,"Hinweis: "]
[null,null,null,"Wenn Sie Szenario 1, 2 oder 3 im Diagramm nicht darstellen möchten, "]
[null,null,null,"können Sie  das jeweilige Szenario durch den entsprechenden Schaltbutton ausblenden."]

{"sheet":"Kosten-Ergebnisse","index":15,"n_rows":83,"n_cols":49,"rows_kept":83,"cut":false,"hidden":false,"merged":[[12,11,12,13],[2,4,2,5],[18,2,18,3],[7,2,7,3],[8,2,8,3],[9,2,9,3],[6,2,6,3],[54,11,55,14],[82,3,82,5],[17,2,17,5],[22,2,22,5],[40,2,41,8],[20,2,20,3],[23,2,23,3],[24,2,24,3],[25,2,25,3],[19,2,19,3],[34,2,34,3],[30,2,30,3],[29,2,29,3],[27,2,27,3]]}
[]
[null,null,"Berechnete Kosten im Vergleich"]
[null,null,null,null,"Zurück zum Inhaltsverzeichnis"]
[]
[]
[null,null,"Daten und Ergebnisse im Betrachtungszeitraum",null,null,null,null,null,null,null,null,"Vergleich der Szenarien mit dem Basisszenario",null,null,null,null,null,null,null,null,null,{"$f":"E30","v":"Basisszenario"},null,null,null,null,null,null,{"$f":"Berechnung_Szen1!D3","v":"Szenario 1"},null,null,null,null,null,null,null,null,{"$f":"Berechnung_Szen2!D3","v":"Szenario 2"},null,null,null,null,null,null,{"$f":"Berechnung_Szen3!D3","v":"Szenario 3"}]
[null,null,{"$f":"'CO2e-Ergebnisse'!C6:D6","v":"Anzahl aller Geräte [Stück]"},null,{"$f":"Berechnung_BasisS!D3","v":"Basisszenario"},"UBA-Empfehlung ",{"$f":"Berechnung_Szen1!$D$3","v":"Szenario 1"},{"$f":"Berechnung_Szen2!$D$3","v":"Szenario 2"},{"$f":"Berechnung_Szen3!$D$3","v":"Szenario 3"},null,null,{"$f":"V7","v":"Kosten in EURO / Betrachtungszeitraum"},{"$f":"E7","v":"Basisszenario"},"UBA-Empfehlung ",{"$f":"G7","v":"Szenario 1"},{"$f":"H7","v":"Szenario 2"},{"$f":"I7","v":"Szenario 3"},null,null,null,null,{"$f":"Berechnung_BasisS!C62","v":"Kosten in EURO / Betrachtungszeitraum"},{"$f":"Berechnung_BasisS!D62","v":"APC mit Desktop"},{"$f":"Berechnung_BasisS!E62","v":"APC mit Notebook"},{"$f":"Berechnung_BasisS!F62","v":"APC mit Mini-PC"},{"$f":"Berechnung_BasisS!G62","v":"Summe"},null,null,{"$f":"V25","v":"Kosten in EURO / Betrachtungszeitraum"},{"$f":"Berechnung_Szen1!D53","v":"APC mit Desktop"},{"$f":"Berechnung_Szen1!E53","v":"APC mit Notebook"},{"$f":"Berechnung_Szen1!F53","v":"APC mit Mini-PC"},{"$f":"Berechnung_Szen1!G53","v":"Summe"},null,null,null,null,{"$f":"AC7","v":"Kosten in EURO / Betrachtungszeitraum"},{"$f":"Berechnung_Szen2!D53","v":"APC mit Desktop"},{"$f":"Berechnung_Szen2!E53","v":"APC mit Notebook"},{"$f":"Berechnung_Szen2!F53","v":"APC mit Mini-PC"},{"$f":"Berechnung_Szen2!G53","v":"Summe"},null,null,{"$f":"AL7","v":"Kosten in EURO / Betrachtungszeitraum"},{"$f":"Berechnung_Szen3!D53","v":"APC mit Desktop"},{"$f":"Berechnung_Szen3!E53","v":"APC mit Notebook"},{"$f":"Berechnung_Szen3!F53","v":"APC mit Mini-PC"},{"$f":"Berechnung_Szen3!G53","v":"Summe"}]
[null,null,{"$f":"'CO2e-Ergebnisse'!C7:D7","v":"Desktop-PC"},null,{"$f":"'CO2e-Ergebnisse'!E7","v":100},{"$f":"'CO2e-Ergebnisse'!F7","v":100},{"$f":"'CO2e-Ergebnisse'!G7","v":100},{"$f":"'CO2e-Ergebnisse'!H7","v":100},{"$f":"'CO2e-Ergebnisse'!I7","v":100},null,null,{"$f":"W7","v":"APC mit Desktop"},{"$f":"W12","v":167335.39835235782},{"$f":"W30","v":167335.39835235782},{"$f":"AD12","v":167335.39835235782},{"$f":"AM12","v":167335.39835235782},{"$f":"AT12","v":167335.39835235782},null,null,null,null,{"$f":"Berechnung_BasisS!C63","v":"Anschaffungskosten"},{"$f":"Berechnung_BasisS!D63","v":89800},{"$f":"Berechnung_BasisS!E63","v":54791.666666666672},{"$f":"Berechnung_BasisS!F63","v":63116.666666666672},{"$f":"Berechnung_BasisS!G63","v":207708.33333333337},null,null,"Anschaffungskosten",{"$f":"Berechnung_Szen1!D63","v":89800},{"$f":"Berechnung_Szen1!E63","v":54791.666666666672},{"$f":"Berechnung_Szen1!F63","v":63116.666666666672},{"$f":"Berechnung_Szen1!G63","v":207708.33333333337},null,null,null,null,"Anschaffungskosten",{"$f":"Berechnung_Szen2!D63","v":89800},{"$f":"Berechnung_Szen2!E63","v":54791.666666666672},{"$f":"Berechnung_Szen2!F63","v":63116.666666666672},{"$f":"Berechnung_Szen2!G63","v":207708.33333333337},null,null,"Anschaffungskosten",{"$f":"Berechnung_Szen3!D63","v":89800},{"$f":"Berechnung_Szen3!E63","v":54791.666666666672},{"$f":"Berechnung_Szen3!F63","v":63116.666666666672},{"$f":"Berechnung_Szen3!G63","v":207708.33333333337}]
[null,null,{"$f":"'CO2e-Ergebnisse'!C8:D8","v":"Notebook"},null,{"$f":"'CO2e-Ergebnisse'!E8","v":50},{"$f":"'CO2e-Ergebnisse'!F8","v":50},{"$f":"'CO2e-Ergebnisse'!G8","v":50},{"$f":"'CO2e-Ergebnisse'!H8","v":50},{"$f":"'CO2e-Ergebnisse'!I8","v":50},null,null,{"$f":"X7","v":"APC mit Notebook"},{"$f":"X12","v":87139.210270955198},{"$f":"X30","v":87139.210270955198},{"$f":"AE12","v":87139.210270955198},{"$f":"AN12","v":87139.210270955198},{"$f":"AU12","v":87139.210270955198},null,null,null,null,{"$f":"Berechnung_BasisS!C64","v":"Energiekosten"},{"$f":"Berechnung_BasisS!D64","v":14923.281972357818},{"$f":"Berechnung_BasisS!E64","v":3887.4907042885206},{"$f":"Berechnung_BasisS!F64","v":7651.4330673873246},{"$f":"Berechnung_BasisS!G64","v":26462.205744033665},null,null,"Energiekosten",{"$f":"Berechnung_Szen1!D64","v":14923.281972357818},{"$f":"Berechnung_Szen1!E64","v":3887.4907042885206},{"$f":"Berechnung_Szen1!F64","v":7651.4330673873246},{"$f":"Berechnung_Szen1!G64","v":26462.205744033665},null,null,null,null,"Energiekosten",{"$f":"Berechnung_Szen2!D64","v":14923.281972357818},{"$f":"Berechnung_Szen2!E64","v":3887.4907042885206},{"$f":"Berechnung_Szen2!F64","v":7651.4330673873246},{"$f":"Berechnung_Szen2!G64","v":26462.205744033665},null,null,"Energiekosten",{"$f":"Berechnung_Szen3!D64","v":14923.281972357818},{"$f":"Berechnung_Szen3!E64","v":3887.4907042885206},{"$f":"Berechnung_Szen3!F64","v":7651.4330673873246},{"$f":"Berechnung_Szen3!G64","v":26462.205744033665}]
[null,null,{"$f":"'CO2e-Ergebnisse'!C9:D9","v":"Mini-PC"},null,{"$f":"'CO2e-Ergebnisse'!E9","v":70},{"$f":"'CO2e-Ergebnisse'!F9","v":70},{"$f":"'CO2e-Ergebnisse'!G9","v":70},{"$f":"'CO2e-Ergebnisse'!H9","v":70},{"$f":"'CO2e-Ergebnisse'!I9","v":70},null,null,{"$f":"AF7","v":"APC mit Mini-PC"},{"$f":"Y12","v":113458.17908405399},{"$f":"Y30","v":113458.17908405399},{"$f":"AF12","v":113458.17908405399},{"$f":"AO12","v":113458.17908405399},{"$f":"AV12","v":113458.17908405399},null,null,null,null,{"$f":"Berechnung_BasisS!C65","v":"Bruttopersonalkosten"},{"$f":"Berechnung_BasisS!D65","v":34696.22926},{"$f":"Berechnung_BasisS!E65","v":15771.013300000002},{"$f":"Berechnung_BasisS!F65","v":23656.519949999998},{"$f":"Berechnung_BasisS!G65","v":74123.76251},null,null,"Bruttopersonalkosten",{"$f":"Berechnung_Szen1!D65","v":34696.22926},{"$f":"Berechnung_Szen1!E65","v":15771.013300000002},{"$f":"Berechnung_Szen1!F65","v":23656.519949999998},{"$f":"Berechnung_Szen1!G65","v":74123.76251},null,null,null,null,"Bruttopersonalkosten",{"$f":"Berechnung_Szen2!D65","v":34696.22926},{"$f":"Berechnung_Szen2!E65","v":15771.013300000002},{"$f":"Berechnung_Szen2!F65","v":23656.519949999998},{"$f":"Berechnung_Szen2!G65","v":74123.76251},null,null,"Bruttopersonalkosten",{"$f":"Berechnung_Szen3!D65","v":34696.22926},{"$f":"Berechnung_Szen3!E65","v":15771.013300000002},{"$f":"Berechnung_Szen3!F65","v":23656.519949999998},{"$f":"Berechnung_Szen3!G65","v":74123.76251}]
[null,null,{"$f":"'CO2e-Ergebnisse'!C10","v":"Monitore"},null,{"$f":"'CO2e-Ergebnisse'!E10","v":250},{"$f":"'CO2e-Ergebnisse'!F10","v":250},{"$f":"'CO2e-Ergebnisse'!G10","v":250},{"$f":"'CO2e-Ergebnisse'!H10","v":250},{"$f":"'CO2e-Ergebnisse'!I10","v":250},null,null,{"$f":"Z7","v":"Summe"},{"$f":"Z12","v":367932.78770736698},{"$f":"Z30","v":367932.78770736698},{"$f":"AG12","v":367932.78770736698},{"$f":"AP12","v":367932.78770736698},{"$f":"AW12","v":367932.78770736698},null,null,null,null,{"$f":"Berechnung_BasisS!C66","v":"Sach-und Gemeinkosten"},{"$f":"Berechnung_BasisS!D66","v":27915.887120000003},{"$f":"Berechnung_BasisS!E66","v":12689.039600000002},{"$f":"Berechnung_BasisS!F66","v":19033.559400000002},{"$f":"Berechnung_BasisS!G66","v":59638.486120000001},null,null,"Sach-und Gemeinkosten",{"$f":"Berechnung_Szen1!D66","v":27915.887120000003},{"$f":"Berechnung_Szen1!E66","v":12689.039600000002},{"$f":"Berechnung_Szen1!F66","v":19033.559400000002},{"$f":"Berechnung_Szen1!G66","v":59638.486120000001},null,null,null,null,"Sach-und Gemeinkosten",{"$f":"Berechnung_Szen2!D66","v":27915.887120000003},{"$f":"Berechnung_Szen2!E66","v":12689.039600000002},{"$f":"Berechnung_Szen2!F66","v":19033.559400000002},{"$f":"Berechnung_Szen2!G66","v":59638.486120000001},null,null,"Sach-und Gemeinkosten",{"$f":"Berechnung_Szen3!D66","v":27915.887120000003},{"$f":"Berechnung_Szen3!E66","v":12689.039600000002},{"$f":"Berechnung_Szen3!F66","v":19033.559400000002},{"$f":"Berechnung_Szen3!G66","v":59638.486120000001}]
[null,null,null,null,null,null,null,null,null,null,null,null,null,null,null,null,null,null,null,null,null,{"$f":"Berechnung_BasisS!C67","v":"Summe"},{"$f":"Berechnung_BasisS!D67","v":167335.39835235782},{"$f":"Berechnung_BasisS!E67","v":87139.210270955198},{"$f":"Berechnung_BasisS!F67","v":113458.17908405399},{"$f":"Berechnung_BasisS!G67","v":367932.78770736698},null,null,"Summe",{"$f":"Berechnung_Szen1!D67","v":167335.39835235782},{"$f":"Berechnung_Szen1!E67","v":87139.210270955198},{"$f":"Berechnung_Szen1!F67","v":113458.17908405399},{"$f":"Berechnung_Szen1!G67","v":367932.78770736698},null,null,null,null,"Summe",{"$f":"Berechnung_Szen2!D67","v":167335.39835235782},{"$f":"Berechnung_Szen2!E67","v":87139.210270955198},{"$f":"Berechnung_Szen2!F67","v":113458.17908405399},{"$f":"Berechnung_Szen2!G67","v":367932.78770736698},null,null,"Summe",{"$f":"Berechnung_Szen3!D67","v":167335.39835235782},{"$f":"Berechnung_Szen3!E67","v":87139.210270955198},{"$f":"Berechnung_Szen3!F67","v":113458.17908405399},{"$f":"Berechnung_Szen3!G67","v":367932.78770736698}]
[null,null,{"$f":"'CO2e-Ergebnisse'!C12","v":"Angenommene Nutzungsdauer [Jahre]"},null,null,null,null,null,null,null,null,"Vergleich der Szenarien je nach Arbeitsplatz-Typ, normiert auf das Basisszenario\n"]
[null,null,{"$f":"'CO2e-Ergebnisse'!C13:D13","v":"Desktop-PC"},null,{"$f":"'CO2e-Ergebnisse'!E13","v":6},{"$f":"'Berechnung_UBA-Empfehlung'!D27","v":6},{"$f":"Berechnung_Szen1!D27","v":6},{"$f":"Berechnung_Szen2!D27","v":6},{"$f":"Berechnung_Szen3!D27","v":6},null,null,{"$f":"L8","v":"APC mit Desktop"},{"$f":"IF($M8=0,\"\",M8/$M8)","v":1},1,1,1,1,null,null,null,null,{"$f":"Berechnung_BasisS!I62","v":"Kosten in % / Betrachtungszeitraum"},{"$f":"Berechnung_BasisS!J62","v":"APC mit Desktop"},{"$f":"Berechnung_BasisS!K62","v":"APC mit Notebook"},{"$f":"Berechnung_BasisS!L62","v":"APC mit Mini-PC"},{"$f":"Berechnung_BasisS!M62","v":"% (Summe)"},null,null,{"$f":"V32","v":"Kosten in % / Betrachtungszeitraum"},{"$f":"Berechnung_Szen1!J53","v":"APC mit Desktop"},{"$f":"Berechnung_Szen1!K53","v":"APC mit Notebook"},{"$f":"Berechnung_Szen1!L53","v":"APC mit Mini-PC"},{"$f":"Berechnung_Szen1!M53","v":"% (Summe)"},null,null,null,null,{"$f":"AC14","v":"Kosten in % / Betrachtungszeitraum"},{"$f":"Berechnung_Szen2!J53","v":"APC mit Desktop"},{"$f":"Berechnung_Szen2!K53","v":"APC mit Notebook"},{"$f":"Berechnung_Szen2!L53","v":"APC mit Mini-PC"},{"$f":"Berechnung_Szen2!M53","v":"% (Summe)"},null,null,{"$f":"AL14","v":"Kosten in % / Betrachtungszeitraum"},{"$f":"Berechnung_Szen3!J53","v":"APC mit Desktop"},{"$f":"Berechnung_Szen3!K53","v":"APC mit Notebook"},{"$f":"Berechnung_Szen3!L53","v":"APC mit Mini-PC"},{"$f":"Berechnung_Szen3!M53","v":"% (Summe)"}]
[null,null,{"$f":"'CO2e-Ergebnisse'!C14:D14","v":"Notebook"},null,{"$f":"'CO2e-Ergebnisse'!E14","v":6},{"$f":"'Berechnung_UBA-Empfehlung'!D28","v":6},{"$f":"Berechnung_Szen1!D28","v":6},{"$f":"Berechnung_Szen2!D28","v":6},{"$f":"Berechnung_Szen3!D28","v":6},null,null,{"$f":"L9","v":"APC mit Notebook"},1,1,1,1,1,null,null,null,null,{"$f":"Berechnung_BasisS!I63","v":"Anschaffungskosten"},{"$f":"Berechnung_BasisS!J63","v":0.53664676383001952},{"$f":"Berechnung_BasisS!K63","v":0.62878314476680031},{"$f":"Berechnung_BasisS!L63","v":0.55629895681568731},{"$f":"Berechnung_BasisS!M63","v":0.56452792540612851},null,null,"Anschaffungskosten",{"$f":"Berechnung_Szen1!J63","v":0.53664676383001952},{"$f":"Berechnung_Szen1!K63","v":0.62878314476680031},{"$f":"Berechnung_Szen1!L63","v":0.55629895681568731},{"$f":"Berechnung_Szen1!M63","v":0.56452792540612851},null,null,null,null,"Anschaffungskosten",{"$f":"Berechnung_Szen2!J63","v":0.53664676383001952},{"$f":"Berechnung_Szen2!K63","v":0.62878314476680031},{"$f":"Berechnung_Szen2!L63","v":0.55629895681568731},{"$f":"Berechnung_Szen2!M63","v":0.56452792540612851},null,null,"Anschaffungskosten",{"$f":"Berechnung_Szen3!J63","v":0.53664676383001952},{"$f":"Berechnung_Szen3!K63","v":0.62878314476680031},{"$f":"Berechnung_Szen3!L63","v":0.55629895681568731},{"$f":"Berechnung_Szen3!M63","v":0.56452792540612851}]
[null,null,{"$f":"'CO2e-Ergebnisse'!C15:D15","v":"Mini-PC"},null,{"$f":"'CO2e-Ergebnisse'!E15","v":6},{"$f":"'Berechnung_UBA-Empfehlung'!D29","v":6},{"$f":"Berechnung_Szen1!D29","v":6},{"$f":"Berechnung_Szen2!D29","v":6},{"$f":"Berechnung_Szen3!D29","v":6},null,null,{"$f":"L10","v":"APC mit Mini-PC"},1,1,1,1,1,null,null,null,null,{"$f":"Berechnung_BasisS!I64","v":"Energiekosten"},{"$f":"Berechnung_BasisS!J64","v":8.9181859423036677E-2},{"$f":"Berechnung_BasisS!K64","v":4.4612416066206646E-2},{"$f":"Berechnung_BasisS!L64","v":6.7438355957738949E-2},{"$f":"Berechnung_BasisS!M64","v":7.1921303640599205E-2},null,null,"Energiekosten",{"$f":"Berechnung_Szen1!J64","v":8.9181859423036677E-2},{"$f":"Berechnung_Szen1!K64","v":4.4612416066206646E-2},{"$f":"Berechnung_Szen1!L64","v":6.7438355957738949E-2},{"$f":"Berechnung_Szen1!M64","v":7.1921303640599205E-2},null,null,null,null,"Energiekosten",{"$f":"Berechnung_Szen2!J64","v":8.9181859423036677E-2},{"$f":"Berechnung_Szen2!K64","v":4.4612416066206646E-2},{"$f":"Berechnung_Szen2!L64","v":6.7438355957738949E-2},{"$f":"Berechnung_Szen2!M64","v":7.1921303640599205E-2},null,null,"Energiekosten",{"$f":"Berechnung_Szen3!J64","v":8.9181859423036677E-2},{"$f":"Berechnung_Szen3!K64","v":4.4612416066206646E-2},{"$f":"Berechnung_Szen3!L64","v":6.7438355957738949E-2},{"$f":"Berechnung_Szen3!M64","v":7.1921303640599205E-2}]
[null,null,{"$f":"'CO2e-Ergebnisse'!C16:D16","v":"Monitor"},null,{"$f":"'CO2e-Ergebnisse'!E16","v":6},{"$f":"'Berechnung_UBA-Empfehlung'!D30","v":6},{"$f":"Berechnung_Szen1!D30","v":6},{"$f":"Berechnung_Szen2!D30","v":6},{"$f":"Berechnung_Szen3!D30","v":6},null,null,{"$f":"L11","v":"Summe"},{"$f":"IF($M11=0,\"Basisszenario fehlt\",M11/$M11)","v":1},{"$f":"IF($M11=0,\"Basisszenario fehlt\",N11/$M11)","v":1},{"$f":"IF($M11=0,\"Basisszenario fehlt\",O11/$M11)","v":1},{"$f":"IF($M11=0,\"Basisszenario fehlt\",P11/$M11)","v":1},{"$f":"IF($M11=0,\"Basisszenario fehlt\",Q11/$M11)","v":1},null,null,null,null,{"$f":"Berechnung_BasisS!I65","v":"Bruttopersonalkosten"},{"$f":"Berechnung_BasisS!J65","v":0.20734542482720972},{"$f":"Berechnung_BasisS!K65","v":0.18098641531132531},{"$f":"Berechnung_BasisS!L65","v":0.2085043153431396},{"$f":"Berechnung_BasisS!M65","v":0.20146006277905809},null,null,"Bruttopersonalkosten",{"$f":"Berechnung_Szen1!J65","v":0.20734542482720972},{"$f":"Berechnung_Szen1!K65","v":0.18098641531132531},{"$f":"Berechnung_Szen1!L65","v":0.2085043153431396},{"$f":"Berechnung_Szen1!M65","v":0.20146006277905809},null,null,null,null,"Bruttopersonalkosten",{"$f":"Berechnung_Szen2!J65","v":0.20734542482720972},{"$f":"Berechnung_Szen2!K65","v":0.18098641531132531},{"$f":"Berechnung_Szen2!L65","v":0.2085043153431396},{"$f":"Berechnung_Szen2!M65","v":0.20146006277905809},null,null,{"$f":"AL17","v":"Bruttopersonalkosten"},{"$f":"Berechnung_Szen3!J65","v":0.20734542482720972},{"$f":"Berechnung_Szen3!K65","v":0.18098641531132531},{"$f":"Berechnung_Szen3!L65","v":0.2085043153431396},{"$f":"Berechnung_Szen3!M65","v":0.20146006277905809}]
[null,null,{"$f":"'CO2e-Ergebnisse'!C18:F18","v":"Prozentualer Anteil der Geräte, bei denen während der Nutzungsphase folgende Komponenten nachgerüstet bzw. ausgetauscht werden [%]"},null,null,null,null,null,null,null,null,null,null,null,null,null,null,null,null,null,null,{"$f":"Berechnung_BasisS!I66","v":"Sach-und Gemeinkosten"},{"$f":"Berechnung_BasisS!J66","v":0.16682595191973412},{"$f":"Berechnung_BasisS!K66","v":0.14561802385566774},{"$f":"Berechnung_BasisS!L66","v":0.16775837188343418},{"$f":"Berechnung_BasisS!M66","v":0.16209070817421439},null,null,"Sach-und Gemeinkosten",{"$f":"Berechnung_Szen1!J66","v":0.16682595191973412},{"$f":"Berechnung_Szen1!K66","v":0.14561802385566774},{"$f":"Berechnung_Szen1!L66","v":0.16775837188343418},{"$f":"Berechnung_Szen1!M66","v":0.16209070817421439},null,null,null,null,"Sach-und Gemeinkosten",{"$f":"Berechnung_Szen2!J66","v":0.16682595191973412},{"$f":"Berechnung_Szen2!K66","v":0.14561802385566774},{"$f":"Berechnung_Szen2!L66","v":0.16775837188343418},{"$f":"Berechnung_Szen2!M66","v":0.16209070817421439},null,null,{"$f":"AL18","v":"Sach-und Gemeinkosten"},{"$f":"Berechnung_Szen3!J66","v":0.16682595191973412},{"$f":"Berechnung_Szen3!K66","v":0.14561802385566774},{"$f":"Berechnung_Szen3!L66","v":0.16775837188343418},{"$f":"Berechnung_Szen3!M66","v":0.16209070817421439}]
[null,null,{"$f":"'CO2e-Ergebnisse'!C19:D19","v":"Desktop-PC"},null,{"$f":"IF(AND(Berechnung_BasisS!$D$34=0,Berechnung_BasisS!$E$34=0),\"-\",CONCATENATE(Berechnung_BasisS!$D$34*100, \"%\",\" SSD; \",Berechnung_BasisS!$E$34*100,\"%\", \" RAM\"))","v":"-"},{"$f":"IF(AND('Berechnung_UBA-Empfehlung'!$D$34=0,'Berechnung_UBA-Empfehlung'!$E$34=0),\"-\",CONCATENATE('Berechnung_UBA-Empfehlung'!$D$34*100, \"%\",\" SSD; \",'Berechnung_UBA-Empfehlung'!$E$34*100,\"%\", \" RAM\"))","v":"-"},{"$f":"IF(AND(Berechnung_Szen1!$D$34=0,Berechnung_Szen1!$E$34=0),\"-\",CONCATENATE(Berechnung_Szen1!$D$34*100, \"%\",\" SSD; \",Berechnung_Szen1!$E$34*100,\"%\", \" RAM\"))","v":"-"},{"$f":"IF(AND(Berechnung_Szen2!$D$34=0,Berechnung_Szen2!$E$34=0),\"-\",CONCATENATE(Berechnung_Szen2!$D$34*100, \"%\",\" SSD; \",Berechnung_Szen2!$E$34*100,\"%\", \" RAM\"))","v":"-"},{"$f":"IF(AND(Berechnung_Szen3!$D$34=0,Berechnung_Szen3!$E$34=0),\"-\",CONCATENATE(Berechnung_Szen3!$D$34*100, \"%\",\" SSD; \",Berechnung_Szen3!$E$34*100,\"%\", \" RAM\"))","v":"-"},null,null,null,null,null,null,null,null,null,null,null,null,{"$f":"Berechnung_BasisS!I67","v":"Summe"},{"$f":"Berechnung_BasisS!J67","v":1},{"$f":"Berechnung_BasisS!K67","v":1},{"$f":"Berechnung_BasisS!L67","v":1},{"$f":"Berechnung_BasisS!M67","v":1.0000000000000002},null,null,"Summe",{"$f":"Berechnung_Szen1!J67","v":1},{"$f":"Berechnung_Szen1!K67","v":1},{"$f":"Berechnung_Szen1!L67","v":1},{"$f":"Berechnung_Szen1!M67","v":1.0000000000000002},null,null,null,null,"Summe",{"$f":"Berechnung_Szen2!J67","v":1},{"$f":"Berechnung_Szen2!K67","v":1},{"$f":"Berechnung_Szen2!L67","v":1},{"$f":"Berechnung_Szen2!M67","v":1.0000000000000002},null,null,{"$f":"AL19","v":"Summe"},{"$f":"Berechnung_Szen3!J67","v":1},{"$f":"Berechnung_Szen3!K67","v":1},{"$f":"Berechnung_Szen3!L67","v":1},{"$f":"Berechnung_Szen3!M67","v":1.0000000000000002}]
[null,null,{"$f":"'CO2e-Ergebnisse'!C20:D20","v":"Notebook"},null,{"$f":"IF(AND(Berechnung_BasisS!$D$35=0,Berechnung_BasisS!$E$35=0,Berechnung_BasisS!$F$35=0),\"-\",CONCATENATE(Berechnung_BasisS!$D$35*100, \"%\",\" SSD; \",Berechnung_BasisS!$E$35*100,\"%\", \" RAM; \",Berechnung_BasisS!$F$35*100,\"%\",\" Akku\"))","v":"0% SSD; 0% RAM; 50% Akku"},{"$f":"IF(AND('Berechnung_UBA-Empfehlung'!$D$35=0,'Berechnung_UBA-Empfehlung'!$E$35=0,'Berechnung_UBA-Empfehlung'!$F$35=0),\"-\",CONCATENATE('Berechnung_UBA-Empfehlung'!$D$35*100, \"%\",\" SSD; \",'Berechnung_UBA-Empfehlung'!$E$35*100,\"%\", \" RAM; \",'Berechnung_UBA-Empfehlung'!$F$35*100,\"%\",\" Akku\"))","v":"0% SSD; 0% RAM; 50% Akku"},{"$f":"IF(AND(Berechnung_Szen1!$D$35=0,Berechnung_Szen1!$E$35=0,Berechnung_Szen1!$F$35=0),\"-\",CONCATENATE(Berechnung_Szen1!$D$35*100, \"%\",\" SSD; \",Berechnung_Szen1!$E$35*100,\"%\", \" RAM; \",Berechnung_Szen1!$F$35*100,\"%\",\" Akku\"))","v":"0% SSD; 0% RAM; 50% Akku"},{"$f":"IF(AND(Berechnung_Szen2!$D$35=0,Berechnung_Szen2!$E$35=0,Berechnung_Szen2!$F$35=0),\"-\",CONCATENATE(Berechnung_Szen2!$D$35*100, \"%\",\" SSD; \",Berechnung_Szen2!$E$35*100,\"%\", \" RAM; \",Berechnung_Szen2!$F$35*100,\"%\",\" Akku\"))","v":"0% SSD; 0% RAM; 50% Akku"},{"$f":"IF(AND(Berechnung_Szen3!$D$35=0,Berechnung_Szen3!$E$35=0,Berechnung_Szen3!$F$35=0),\"-\",CONCATENATE(Berechnung_Szen3!$D$35*100, \"%\",\" SSD; \",Berechnung_Szen3!$E$35*100,\"%\", \" RAM; \",Berechnung_Szen3!$F$35*100,\"%\",\" Akku\"))","v":"0% SSD; 0% RAM; 50% Akku"}]
[null,null,{"$f":"'CO2e-Ergebnisse'!C21:D21","v":"Mini-PC"},null,{"$f":"IF(AND(Berechnung_BasisS!$D$36=0,Berechnung_BasisS!$E$36=0),\"-\",CONCATENATE(Berechnung_BasisS!$D$36*100, \"%\",\" SSD; \",Berechnung_BasisS!$E$36*100,\"%\", \" RAM\"))","v":"-"},{"$f":"IF(AND('Berechnung_UBA-Empfehlung'!$D$36=0,'Berechnung_UBA-Empfehlung'!$E$36=0),\"-\",CONCATENATE('Berechnung_UBA-Empfehlung'!$D$36*100, \"%\",\" SSD; \",'Berechnung_UBA-Empfehlung'!$E$36*100,\"%\", \" RAM\"))","v":"-"},{"$f":"IF(AND(Berechnung_Szen1!$D$36=0,Berechnung_Szen1!$E$36=0),\"-\",CONCATENATE(Berechnung_Szen1!$D$36*100, \"%\",\" SSD; \",Berechnung_Szen1!$E$36*100,\"%\", \" RAM\"))","v":"-"},{"$f":"IF(AND(Berechnung_Szen2!$D$36=0,Berechnung_Szen2!$E$36=0),\"-\",CONCATENATE(Berechnung_Szen2!$D$36*100, \"%\",\" SSD; \",Berechnung_Szen2!$E$36*100,\"%\", \" RAM\"))","v":"-"},{"$f":"IF(AND(Berechnung_Szen3!$D$36=0,Berechnung_Szen3!$E$36=0),\"-\",CONCATENATE(Berechnung_Szen3!$D$36*100, \"%\",\" SSD; \",Berechnung_Szen3!$E$36*100,\"%\", \" RAM\"))","v":"-"}]
[]
[null,null,{"$f":"'CO2e-Ergebnisse'!C23","v":"Anzahl der Austauschvorgänge von Komponenten je Gerät während der Nutzungsphase"}]
[null,null,{"$f":"'CO2e-Ergebnisse'!C24:D24","v":"Desktop-PC"},null,{"$f":"IF(AND(Berechnung_BasisS!$D$34=0,Berechnung_BasisS!$E$34=0),\"-\",CONCATENATE(Berechnung_BasisS!$J$34,\" x SSD; \",Berechnung_BasisS!$K$34, \" x RAM\"))","v":"-"},{"$f":"IF(AND('Berechnung_UBA-Empfehlung'!$D$34=0,'Berechnung_UBA-Empfehlung'!$E$34=0),\"-\",CONCATENATE('Berechnung_UBA-Empfehlung'!$J$34,\" x SSD; \",'Berechnung_UBA-Empfehlung'!$K$34, \" x RAM\"))","v":"-"},{"$f":"IF(AND(Berechnung_Szen1!$D$34=0,Berechnung_Szen1!$E$34=0),\"-\",CONCATENATE(Berechnung_Szen1!$J$34,\" x SSD; \",Berechnung_Szen1!$K$34, \" x RAM\"))","v":"-"},{"$f":"IF(AND(Berechnung_Szen2!$D$34=0,Berechnung_Szen2!$E$34=0),\"-\",CONCATENATE(Berechnung_Szen2!$J$34,\" x SSD; \",Berechnung_Szen2!$K$34, \" x RAM\"))","v":"-"},{"$f":"IF(AND(Berechnung_Szen3!$D$34=0,Berechnung_Szen3!$E$34=0),\"-\",CONCATENATE(Berechnung_Szen3!$J$34,\" x SSD; \",Berechnung_Szen3!$K$34, \" x RAM\"))","v":"-"},null,null,null,null,null,null,null,null,null,null,null,null,{"$f":"F30","v":"UBA-Empfehlung "}]
[null,null,{"$f":"'CO2e-Ergebnisse'!C25:D25","v":"Notebook"},null,{"$f":"IF(AND(Berechnung_BasisS!$D$35=0,Berechnung_BasisS!$E$35=0,Berechnung_BasisS!$F$35=0),\"-\",CONCATENATE(Berechnung_BasisS!$J$35,\" x SSD; \",Berechnung_BasisS!$K$35, \" x RAM; \",Berechnung_BasisS!$L$35, \" x Akku\"))","v":"1 x SSD; 1 x RAM; 1 x Akku"},{"$f":"IF(AND('Berechnung_UBA-Empfehlung'!$D$35=0,'Berechnung_UBA-Empfehlung'!$E$35=0,'Berechnung_UBA-Empfehlung'!$F$35=0),\"-\",CONCATENATE('Berechnung_UBA-Empfehlung'!$J$35,\" x SSD; \",'Berechnung_UBA-Empfehlung'!$K$35, \" x RAM; \",'Berechnung_UBA-Empfehlung'!$L$35, \" x Akku\"))","v":"1 x SSD; 1 x RAM; 1 x Akku"},{"$f":"IF(AND(Berechnung_Szen1!$D$35=0,Berechnung_Szen1!$E$35=0,Berechnung_Szen1!$F$35=0),\"-\",CONCATENATE(Berechnung_Szen1!$J$35,\" x SSD; \",Berechnung_Szen1!$K$35, \" x RAM; \",Berechnung_Szen1!$L$35, \" x Akku\"))","v":"1 x SSD; 1 x RAM; 1 x Akku"},{"$f":"IF(AND(Berechnung_Szen2!$D$35=0,Berechnung_Szen2!$E$35=0,Berechnung_Szen2!$F$35=0),\"-\",CONCATENATE(Berechnung_Szen2!$J$35,\" x SSD; \",Berechnung_Szen2!$K$35, \" x RAM; \",Berechnung_Szen2!$L$35, \" x Akku\"))","v":"1 x SSD; 1 x RAM; 1 x Akku"},{"$f":"IF(AND(Berechnung_Szen3!$D$35=0,Berechnung_Szen3!$E$35=0,Berechnung_Szen3!$F$35=0),\"-\",CONCATENATE(Berechnung_Szen3!$J$35,\" x SSD; \",Berechnung_Szen3!$K$35, \" x RAM; \",Berechnung_Szen3!$L$35, \" x Akku\"))","v":"1 x SSD; 1 x RAM; 1 x Akku"},null,null,null,null,null,null,null,null,null,null,null,null,{"$f":"V7","v":"Kosten in EURO / Betrachtungszeitraum"},{"$f":"W7","v":"APC mit Desktop"},{"$f":"X7","v":"APC mit Notebook"},{"$f":"Y7","v":"APC mit Mini-PC"},{"$f":"Z7","v":"Summe"}]
[null,null,{"$f":"'CO2e-Ergebnisse'!C26:D26","v":"Mini-PC"},null,{"$f":"IF(AND(Berechnung_BasisS!$D$36=0,Berechnung_BasisS!$E$36=0),\"-\",CONCATENATE(Berechnung_BasisS!$J$36,\" x SSD; \",Berechnung_BasisS!$K$36, \" x RAM\"))","v":"-"},{"$f":"IF(AND('Berechnung_UBA-Empfehlung'!$D$36=0,'Berechnung_UBA-Empfehlung'!$E$36=0),\"-\",CONCATENATE('Berechnung_UBA-Empfehlung'!$J$36,\" x SSD; \",'Berechnung_UBA-Empfehlung'!$K$36, \" x RAM\"))","v":"-"},{"$f":"IF(AND(Berechnung_Szen1!$D$36=0,Berechnung_Szen1!$E$36=0),\"-\",CONCATENATE(Berechnung_Szen1!$J$36,\" x SSD; \",Berechnung_Szen1!$K$36, \" x RAM\"))","v":"-"},{"$f":"IF(AND(Berechnung_Szen2!$D$36=0,Berechnung_Szen2!$E$36=0),\"-\",CONCATENATE(Berechnung_Szen2!$J$36,\" x SSD; \",Berechnung_Szen2!$K$36, \" x RAM\"))","v":"-"},{"$f":"IF(AND(Berechnung_Szen3!$D$36=0,Berechnung_Szen3!$E$36=0),\"-\",CONCATENATE(Berechnung_Szen3!$J$36,\" x SSD; \",Berechnung_Szen3!$K$36, \" x RAM\"))","v":"-"},null,null,null,null,null,null,null,null,null,null,null,null,{"$f":"V8","v":"Anschaffungskosten"},{"$f":"'Berechnung_UBA-Empfehlung'!D63","v":89800},{"$f":"'Berechnung_UBA-Empfehlung'!E63","v":54791.666666666672},{"$f":"'Berechnung_UBA-Empfehlung'!F63","v":63116.666666666672},{"$f":"'Berechnung_UBA-Empfehlung'!G63","v":207708.33333333337}]
[null,null,null,null,null,null,null,null,null,null,null,null,null,null,null,null,null,null,null,null,null,{"$f":"V9","v":"Energiekosten"},{"$f":"'Berechnung_UBA-Empfehlung'!D64","v":14923.281972357818},{"$f":"'Berechnung_UBA-Empfehlung'!E64","v":3887.4907042885206},{"$f":"'Berechnung_UBA-Empfehlung'!F64","v":7651.4330673873246},{"$f":"'Berechnung_UBA-Empfehlung'!G64","v":26462.205744033665}]
[null,null,{"$f":"'CO2e-Ergebnisse'!C28","v":"Betrachtungszeitraum [Jahr]"},null,{"$f":"'CO2e-Ergebnisse'!E28","v":10},{"$f":"'CO2e-Ergebnisse'!F28","v":"Jahre"},null,null,null,null,null,null,null,null,null,null,null,null,null,null,null,{"$f":"V10","v":"Bruttopersonalkosten"},{"$f":"'Berechnung_UBA-Empfehlung'!D65","v":34696.22926},{"$f":"'Berechnung_UBA-Empfehlung'!E65","v":15771.013300000002},{"$f":"'Berechnung_UBA-Empfehlung'!F65","v":23656.519949999998},{"$f":"'Berechnung_UBA-Empfehlung'!G65","v":74123.76251}]
[null,null,null,null,null,null,null,null,null,null,null,null,null,null,null,null,null,null,null,null,null,{"$f":"V11","v":"Sach-und Gemeinkosten"},{"$f":"'Berechnung_UBA-Empfehlung'!D66","v":27915.887120000003},{"$f":"'Berechnung_UBA-Empfehlung'!E66","v":12689.039600000002},{"$f":"'Berechnung_UBA-Empfehlung'!F66","v":19033.559400000002},{"$f":"'Berechnung_UBA-Empfehlung'!G66","v":59638.486120000001}]
[null,null,{"$f":"'CO2e-Ergebnisse'!C30:D30","v":"Arbeitsplatztyp \n[kWh/Betrachtungsraum]"},null,{"$f":"Berechnung_BasisS!D3","v":"Basisszenario"},{"$f":"'Berechnung_UBA-Empfehlung'!$D$3","v":"UBA-Empfehlung "},{"$f":"Berechnung_Szen1!$D$3","v":"Szenario 1"},{"$f":"Berechnung_Szen2!$D$3","v":"Szenario 2"},{"$f":"Berechnung_Szen3!$D$3","v":"Szenario 3"},null,null,null,null,null,null,null,null,null,null,null,null,{"$f":"V12","v":"Summe"},{"$f":"'Berechnung_UBA-Empfehlung'!D67","v":167335.39835235782},{"$f":"'Berechnung_UBA-Empfehlung'!E67","v":87139.210270955198},{"$f":"'Berechnung_UBA-Empfehlung'!F67","v":113458.17908405399},{"$f":"'Berechnung_UBA-Empfehlung'!G67","v":367932.78770736698}]
[null,null,{"$f":"'CO2e-Ergebnisse'!C31:D31","v":"APC mit Desktop-PC"},null,{"$f":"'CO2e-Ergebnisse'!E31","v":68728.174447668454},{"$f":"'CO2e-Ergebnisse'!F31","v":68728.174447668454},{"$f":"'CO2e-Ergebnisse'!G31","v":68728.174447668454},{"$f":"'CO2e-Ergebnisse'!H31","v":68728.174447668454},{"$f":"'CO2e-Ergebnisse'!I31","v":68728.174447668454}]
[null,null,{"$f":"'CO2e-Ergebnisse'!C32:D32","v":"APC mit Notebook"},null,{"$f":"'CO2e-Ergebnisse'!E32","v":17903.577764122187},{"$f":"'CO2e-Ergebnisse'!F32","v":17903.577764122187},{"$f":"'CO2e-Ergebnisse'!G32","v":17903.577764122187},{"$f":"'CO2e-Ergebnisse'!H32","v":17903.577764122187},{"$f":"'CO2e-Ergebnisse'!I32","v":17903.577764122187},null,null,null,null,null,null,null,null,null,null,null,null,{"$f":"V14","v":"Kosten in % / Betrachtungszeitraum"},{"$f":"W14","v":"APC mit Desktop"},{"$f":"X14","v":"APC mit Notebook"},{"$f":"Y14","v":"APC mit Mini-PC"},{"$f":"Z14","v":"% (Summe)"}]
[null,null,{"$f":"'CO2e-Ergebnisse'!C33:D33","v":"APC mit Mini-PC"},null,{"$f":"'CO2e-Ergebnisse'!E33","v":35238.161927390676},{"$f":"'CO2e-Ergebnisse'!F33","v":35238.161927390676},{"$f":"'CO2e-Ergebnisse'!G33","v":35238.161927390676},{"$f":"'CO2e-Ergebnisse'!H33","v":35238.161927390676},{"$f":"'CO2e-Ergebnisse'!I33","v":35238.161927390676},null,null,null,null,null,null,null,null,null,null,null,null,{"$f":"V15","v":"Anschaffungskosten"},{"$f":"'Berechnung_UBA-Empfehlung'!J63","v":0.53664676383001952},{"$f":"'Berechnung_UBA-Empfehlung'!K63","v":0.62878314476680031},{"$f":"'Berechnung_UBA-Empfehlung'!L63","v":0.55629895681568731},{"$f":"'Berechnung_UBA-Empfehlung'!M63","v":0.56452792540612851}]
[null,null,null,null,null,null,null,null,null,null,null,null,null,null,null,null,null,null,null,null,null,{"$f":"V16","v":"Energiekosten"},{"$f":"'Berechnung_UBA-Empfehlung'!J64","v":8.9181859423036677E-2},{"$f":"'Berechnung_UBA-Empfehlung'!K64","v":4.4612416066206646E-2},{"$f":"'Berechnung_UBA-Empfehlung'!L64","v":6.7438355957738949E-2},{"$f":"'Berechnung_UBA-Empfehlung'!M64","v":7.1921303640599205E-2}]
[null,null,"Lebenszykluskosten / Betrachtungszeitraum",null,{"$f":"E30","v":"Basisszenario"},{"$f":"F30","v":"UBA-Empfehlung "},"Szenario 1","Szenario 2","Szenario 3",null,null,null,null,null,null,null,null,null,null,null,null,{"$f":"V17","v":"Bruttopersonalkosten"},{"$f":"'Berechnung_UBA-Empfehlung'!J65","v":0.20734542482720972},{"$f":"'Berechnung_UBA-Empfehlung'!K65","v":0.18098641531132531},{"$f":"'Berechnung_UBA-Empfehlung'!L65","v":0.2085043153431396},{"$f":"'Berechnung_UBA-Empfehlung'!M65","v":0.20146006277905809}]
[null,null,"Anschaffungskosten",null,{"$f":"Berechnung_BasisS!G63","v":207708.33333333337},{"$f":"'Berechnung_UBA-Empfehlung'!G63","v":207708.33333333337},{"$f":"Berechnung_Szen1!G63","v":207708.33333333337},{"$f":"Berechnung_Szen2!G63","v":207708.33333333337},{"$f":"Berechnung_Szen3!G63","v":207708.33333333337},null,null,null,null,null,null,null,null,null,null,null,null,{"$f":"V18","v":"Sach-und Gemeinkosten"},{"$f":"'Berechnung_UBA-Empfehlung'!J66","v":0.16682595191973412},{"$f":"'Berechnung_UBA-Empfehlung'!K66","v":0.14561802385566774},{"$f":"'Berechnung_UBA-Empfehlung'!L66","v":0.16775837188343418},{"$f":"'Berechnung_UBA-Empfehlung'!M66","v":0.16209070817421439}]
[null,null,"Energiekosten",null,{"$f":"Berechnung_BasisS!G64","v":26462.205744033665},{"$f":"'Berechnung_UBA-Empfehlung'!G64","v":26462.205744033665},{"$f":"Berechnung_Szen1!G64","v":26462.205744033665},{"$f":"Berechnung_Szen2!G64","v":26462.205744033665},{"$f":"Berechnung_Szen3!G64","v":26462.205744033665},null,null,null,null,null,null,null,null,null,null,null,null,{"$f":"V19","v":"Summe"},{"$f":"'Berechnung_UBA-Empfehlung'!J67","v":1},{"$f":"'Berechnung_UBA-Empfehlung'!K67","v":1},{"$f":"'Berechnung_UBA-Empfehlung'!L67","v":1},{"$f":"'Berechnung_UBA-Empfehlung'!M67","v":1.0000000000000002}]
[null,null,"Bruttopersonalkosten",null,{"$f":"Berechnung_BasisS!G65","v":74123.76251},{"$f":"'Berechnung_UBA-Empfehlung'!G65","v":74123.76251},{"$f":"Berechnung_Szen1!G65","v":74123.76251},{"$f":"Berechnung_Szen2!G65","v":74123.76251},{"$f":"Berechnung_Szen3!G65","v":74123.76251}]
[null,null,"Sach-und Gemeinkosten",null,{"$f":"Berechnung_BasisS!G66","v":59638.486120000001},{"$f":"'Berechnung_UBA-Empfehlung'!G66","v":59638.486120000001},{"$f":"Berechnung_Szen1!G66","v":59638.486120000001},{"$f":"Berechnung_Szen2!G66","v":59638.486120000001},{"$f":"Berechnung_Szen3!G66","v":59638.486120000001}]
[null,null,"Summe",null,{"$f":"Berechnung_BasisS!G67","v":367932.78770736698},{"$f":"'Berechnung_UBA-Empfehlung'!G67","v":367932.78770736698},{"$f":"Berechnung_Szen1!G67","v":367932.78770736698},{"$f":"Berechnung_Szen2!G67","v":367932.78770736698},{"$f":"Berechnung_Szen3!G67","v":367932.78770736698}]
[null,null,{"$f":"\"Lebenszykluskosten (€) von Computerarbeitsplätzen (bezogen auf den Betrachtungszeitraum von \" & 'Kosten-Ergebnisse'!$E$28 & \" Jahren )\"","v":"Lebenszykluskosten (€) von Computerarbeitsplätzen (bezogen auf den Betrachtungszeitraum von 10 Jahren )"}]
[]
[]
[]
[]
[]
[]
[]
[]
[]
[]
[]
[]
[null,null,null,null,null,null,null,null,null,null,null,"Kostenübersicht pro Kalenderjahr"]
[null,null,null,null,null,null,null,null,null,null,null,"Haushaltplan: erforderliche Haushaltsmittel (in €) je Haushaltsjahr im Betrachtungszeitraum"]
[]
[null,null,null,null,null,null,null,null,null,null,null,"Die Summe kann höher sein als die  Lebenszykluskosten. "]
[null,null,null,null,null,null,null,null,null,null,null,"Bei den Lebenszykluskosten wird die letzte Beschaffung einer Komponente "]
[null,null,null,null,null,null,null,null,null,null,null,"nur anteilig einbezogen, sofern der Betrachtungszeitraum kein "]
[null,null,null,null,null,null,null,null,null,null,null,"ganzzahliges Vielfaches der angenommenen Nutzungsdauer  der Komponente ist."]
[]
[]
[null,null,null,null,null,null,null,null,null,null,null,"Kostenübersicht pro Kalenderjahr in Euro/ Jahr"]
[null,null,null,null,null,null,null,null,null,null,null,"Jahr des Betrachtungszeitraums",{"$f":"E7","v":"Basisszenario"},{"$f":"'Berechnung_UBA-Empfehlung'!$D$3","v":"UBA-Empfehlung "},{"$f":"Berechnung_Szen1!$D$3","v":"Szenario 1"},{"$f":"Berechnung_Szen2!$D$3","v":"Szenario 2"},{"$f":"Berechnung_Szen3!$D$3","v":"Szenario 3"}]
[null,null,null,null,null,null,null,null,null,null,null,{"$f":"Berechnung_BasisS!C74","v":1},{"$f":"Berechnung_BasisS!G74","v":205897.21043000001},{"$f":"'Berechnung_UBA-Empfehlung'!G74","v":205897.21043000001},{"$f":"Berechnung_Szen1!G74","v":205897.21043000001},{"$f":"Berechnung_Szen2!G74","v":205897.21043000001},{"$f":"Berechnung_Szen3!G74","v":205897.21043000001}]
[null,null,null,null,null,null,null,null,null,null,null,{"$f":"Berechnung_BasisS!C75","v":2},{"$f":"Berechnung_BasisS!G75","v":2906.5059344842102},{"$f":"'Berechnung_UBA-Empfehlung'!G75","v":2906.5059344842102},{"$f":"Berechnung_Szen1!G75","v":2906.5059344842102},{"$f":"Berechnung_Szen2!G75","v":2906.5059344842102},{"$f":"Berechnung_Szen3!G75","v":2906.5059344842102}]
[null,null,null,null,null,null,null,null,null,null,null,{"$f":"Berechnung_BasisS!C76","v":3},{"$f":"Berechnung_BasisS!G76","v":4798.2464850502565},{"$f":"'Berechnung_UBA-Empfehlung'!G76","v":4798.2464850502565},{"$f":"Berechnung_Szen1!G76","v":4798.2464850502565},{"$f":"Berechnung_Szen2!G76","v":4798.2464850502565},{"$f":"Berechnung_Szen3!G76","v":4798.2464850502565}]
[null,null,null,null,null,null,null,null,null,null,null,{"$f":"Berechnung_BasisS!C77","v":4},{"$f":"Berechnung_BasisS!G77","v":2940.0834558678253},{"$f":"'Berechnung_UBA-Empfehlung'!G77","v":2940.0834558678253},{"$f":"Berechnung_Szen1!G77","v":2940.0834558678253},{"$f":"Berechnung_Szen2!G77","v":2940.0834558678253},{"$f":"Berechnung_Szen3!G77","v":2940.0834558678253}]
[null,null,null,null,null,null,null,null,null,null,null,{"$f":"Berechnung_BasisS!C78","v":5},{"$f":"Berechnung_BasisS!G78","v":2957.0174022869251},{"$f":"'Berechnung_UBA-Empfehlung'!G78","v":2957.0174022869251},{"$f":"Berechnung_Szen1!G78","v":2957.0174022869251},{"$f":"Berechnung_Szen2!G78","v":2957.0174022869251},{"$f":"Berechnung_Szen3!G78","v":2957.0174022869251}]
[null,null,null,null,null,null,null,null,null,null,null,{"$f":"Berechnung_BasisS!C79","v":6},{"$f":"Berechnung_BasisS!G79","v":2974.0488828562038},{"$f":"'Berechnung_UBA-Empfehlung'!G79","v":2974.0488828562038},{"$f":"Berechnung_Szen1!G79","v":2974.0488828562038},{"$f":"Berechnung_Szen2!G79","v":2974.0488828562038},{"$f":"Berechnung_Szen3!G79","v":2974.0488828562038}]
[null,null,null,null,null,null,null,null,null,null,null,{"$f":"Berechnung_BasisS!C80","v":7},{"$f":"Berechnung_BasisS!G80","v":205206.14020687403},{"$f":"'Berechnung_UBA-Empfehlung'!G80","v":205206.14020687403},{"$f":"Berechnung_Szen1!G80","v":205206.14020687403},{"$f":"Berechnung_Szen2!G80","v":205206.14020687403},{"$f":"Berechnung_Szen3!G80","v":205206.14020687403}]
[null,null,null,null,null,null,null,null,null,null,null,{"$f":"Berechnung_BasisS!C81","v":8},{"$f":"Berechnung_BasisS!G81","v":2211.4553664782648},{"$f":"'Berechnung_UBA-Empfehlung'!G81","v":2211.4553664782648},{"$f":"Berechnung_Szen1!G81","v":2211.4553664782648},{"$f":"Berechnung_Szen2!G81","v":2211.4553664782648},{"$f":"Berechnung_Szen3!G81","v":2211.4553664782648}]
[null,null,null,null,null,null,null,null,null,null,null,{"$f":"Berechnung_BasisS!C82","v":9},{"$f":"Berechnung_BasisS!G82","v":4099.1926466426885},{"$f":"'Berechnung_UBA-Empfehlung'!G82","v":4099.1926466426885},{"$f":"Berechnung_Szen1!G82","v":4099.1926466426885},{"$f":"Berechnung_Szen2!G82","v":4099.1926466426885},{"$f":"Berechnung_Szen3!G82","v":4099.1926466426885}]
[null,null,null,null,null,null,null,null,null,null,null,{"$f":"Berechnung_BasisS!C83","v":10},{"$f":"Berechnung_BasisS!G83","v":2237.0032894932619},{"$f":"'Berechnung_UBA-Empfehlung'!G83","v":2237.0032894932619},{"$f":"Berechnung_Szen1!G83","v":2237.0032894932619},{"$f":"Berechnung_Szen2!G83","v":2237.0032894932619},{"$f":"Berechnung_Szen3!G83","v":2237.0032894932619}]
[null,null,null,null,null,null,null,null,null,null,null,{"$f":"Berechnung_BasisS!C84","v":11},{"$f":"Berechnung_BasisS!G84","v":"-"},{"$f":"'Berechnung_UBA-Empfehlung'!G84","v":"-"},{"$f":"Berechnung_Szen1!G84","v":"-"},{"$f":"Berechnung_Szen2!G84","v":"-"},{"$f":"Berechnung_Szen3!G84","v":"-"}]
[null,null,null,null,null,null,null,null,null,null,null,{"$f":"Berechnung_BasisS!C85","v":12},{"$f":"Berechnung_BasisS!G85","v":"-"},{"$f":"'Berechnung_UBA-Empfehlung'!G85","v":"-"},{"$f":"Berechnung_Szen1!G85","v":"-"},{"$f":"Berechnung_Szen2!G85","v":"-"},{"$f":"Berechnung_Szen3!G85","v":"-"}]
[null,null,null,null,null,null,null,null,null,null,null,"Summe",{"$f":"SUM(M65:M76)","v":436226.90410003363},{"$f":"SUM(N65:N76)","v":436226.90410003363},{"$f":"SUM(O65:O76)","v":436226.90410003363},{"$f":"SUM(P65:P76)","v":436226.90410003363},{"$f":"SUM(Q65:Q76)","v":436226.90410003363}]
[]
[]
[]
[null,null,"Hinweis: "]
[null,null,null,"Wenn Sie Szenario 1, 2 oder 3 im Diagramm nicht darstellen möchten, "]
[null,null,null,"können Sie das jeweilige Szenario durch den entsprechenden Schaltbutton ausblenden."]

{"sheet":"Default-Werte","index":16,"n_rows":184,"n_cols":7,"rows_kept":184,"cut":false,"hidden":false,"merged":[[105,4,108,4],[0,3,0,4],[10,4,25,4],[156,3,162,3],[172,5,181,5],[28,4,47,4],[51,4,67,4],[145,5,147,5],[81,3,87,3],[71,3,77,3],[104,2,104,3],[110,2,110,3],[164,2,164,4],[170,2,170,4],[130,5,132,5],[135,5,137,5],[140,5,142,5],[92,5,95,5],[99,5,102,5],[111,4,113,4]]}
[null,"Default Werte",null,"Zurück zum Inhaltsverzeichnis"]
[]
[null,null,null,"Quelle"]
[null,"Anzahl von Arbeitstagen/Jahr",203,"[1]"]
[null,"Betrachtungszeitraum [Jahr]",10,"[1]"]
[null,"Emissionsfaktor (Strommix Deutschland) [kg CO2e/kWh]",0.622,"Ecoinvent v3.4"]
[]
[null,"THG-Ergebnisse der Geräte und der Komponenten nach Lebensdauer in kg CO2e pro Stück"]
[null,"-THG in der Herstellungsphase "]
[null,"Desktop PC APC (Modell 2014)","THG [kg CO2e / Stück]","THG - Summe \n[kg CO2e / Stück]","Quelle"]
[null,"Grundgerät Desktop-PC",null,null,"[1]"]
[null,"DRAM Speichermodule DDR3 DIMM 4 GByte",91.7]
[null,"CPU",6.3]
[null,"Festplatte 3,5“",24.8]
[null,"Mainboard (6 dm2 bestückte Leiterplatte)",135]
[null,"Gehäuse",25.3]
[null,"Netzteil (intern)",39.700000000000003]
[null,"DVD Laufwerk",18.399999999999999]
[null,"THG-Potenzial Grundgerät Desktop-PC",null,{"$f":"SUM(C12:C18)","v":341.2}]
[null,"Peripheriegeräte"]
[null,"Maus",1.8]
[null,"Tastatur",3.9]
[null,"THG-Potential Peripheriegeräte",null,{"$f":"SUM(C21:C22)","v":5.7}]
[null,"Summe (ohne Monitor)",null,{"$f":"D23+D19","v":346.9}]
[null,"Desktop-Monitor (22“)",null,88.2]
[null,"SSD",{"$f":"C39","v":65.599999999999994}]
[]
[null,"Notebook APC (Modell 2014)","THG (kg CO2e / Stück)","THG - Summe \n(kg CO2e / Stück)","Quelle"]
[null,"Grundgerät Notebook ",null,null,"[1]"]
[null,"DRAM Speichermodule DDR3 DIMM 4 GByte",91.7]
[null,"CPU",5.9]
[null,"Festplatte 2,5“ (HDD)",6.2]
[null,"Mainboard (1,6 dm2 bestückte Leiterplatte mit Heatpipe)",84.4]
[null,"Gehäuse",10]
[null,"Display (15,4 Zoll)",13.9]
[null,"Netzteil (extern)",4]
[null,"DVD Laufwerk",5.8]
[null,"Akku",5.5]
[null,"SSD",65.599999999999994]
[null,"THG-Potenzial Grundgerät Notebook (mit HDD)",null,{"$f":"SUM(C30:C38)","v":227.40000000000003}]
[null,"THG-Potenzial Grundgerät Notebook (mit SSD)",null,{"$f":"SUM(C30:C31,C33:C39)","v":286.8}]
[null,"Peripheriegeräte"]
[null,"Dockingstation",18.600000000000001]
[null,"Mouse",1.8]
[null,"Tastatur",3.9]
[null,"THG-Potenzial Peripheriegeräte",null,{"$f":"SUM(C43:C45)","v":24.3}]
[null,"Summe (Notebook mit HDD) (ohne Monitor)",null,{"$f":"D46+D40","v":251.70000000000005}]
[null,"Desktop Monitor (22“)",null,88.2]
[]
[]
[null,"Mini-PC APC (Modell 2014)","THG (kg CO2e / Stück)","THG - Summe \n(kg CO2e / Stück)","Quelle"]
[null,"Grundgerät Mini-PC ",null,null,"[1]"]
[null,"DRAM Speichermodule DDR3 DIMM 4 GByte",91.7]
[null,"CPU",6.3]
[null,"Festplatte 2,5“ (HDD)",6.2]
[null,"Mainboard (1,6 dm2 bestückte Leiterplatte)",65.2]
[null,"Gehäuse",5.6]
[null,"Netzteil (intern)",4]
[null,"DVD Laufwerk",5.8]
[null,"SSD",65.599999999999994]
[null,"THG-Potential Grundgerät Mini-PC (mit HDD)",null,{"$f":"SUM(C53:C59)","v":184.8}]
[null,"THG-Potential Grundgerät Mini-PC (mit SSD)",null,{"$f":"SUM(C53:C54,C56:C60)","v":244.2}]
[null,"Peripheriegeräte"]
[null,"Mouse",1.8]
[null,"Tastatur",3.9]
[null,"THG-Potenzial Peripheriegeräte",null,{"$f":"SUM(C64:C65)","v":5.7}]
[null,"Summe (Notebook mit HDD) (ohne Monitor)",null,{"$f":"D66+D61","v":190.5}]
[null,"Desktop Monitor (22“)",null,88.2]
[]
[null,"-THG in der Distributionsphase"]
[null,"Distribution (kg CO2e)","THG (kg CO2e / Stück)","Quelle"]
[null,"Desktop-PC",12.96,"[1]"]
[null,"Notebook",3.31]
[null,"Mini-PC",6.57]
[null,"Monitor",6.84]
[null,"Akku",0.46700000000000003]
[null,"4 GB RAM",0.27]
[null,"SSD",0.3]
[]
[null,"-THG in der Entsorgungsphase "]
[null,"Ensorgung (kg CO2e)","THG (kg CO2e / Stück)","Quelle"]
[null,"Desktop-PC",4.0599999999999996,"[1]"]
[null,"Notebook",0.93]
[null,"Mini-PC",0.93]
[null,"Monitor",1.48]
[null,"Akku",0.73699999999999999]
[null,"4 GB RAM",0.06]
[null,"SSD",0.06]
[]
[]
[null,"Anteil der Computer, bei denen während der Nutzung folgende Komponenten ausgetauscht werden [%]"]
[null,null,"Ersatz HDD durch SSD","RAM hinzufügen","Wechsel des Akkus","Quelle"]
[null,"Desktop-PC:",0,0,"-","Eigene \nAnnahme"]
[null,"Notebook: ",0,0,"-"]
[null,"Mini-PC:",0,0,"-"]
[null,"Notebook: ",0,0,0.5]
[]
[null,"Anzahl der Austauschvorgänge während der Nutzungsdauer, sofern Komponenten nachgerüstet werden"]
[null,null,"Ersatz HDD durch SSD","RAM hinzufügen","Wechsel des Akkus","Quelle"]
[null,"Desktop-PC:",1,1,"-","Eigene \nAnnahme"]
[null,"Notebook: ",1,1,"-"]
[null,"Mini-PC:",1,1,"-"]
[null,"Notebook: ",1,1,1]
[]
[null,"Nutzungsdauer","Nutzungsdauer [Jahr]",null,"Quelle"]
[null,"Desktop-PC",6,null,"[1]"]
[null,"Notebook",6]
[null,"Mini-PC",6]
[null,"Monitor",6]
[]
[null,"Anteil der Nutzer mit hoher, mittlerer und geringer Nutzungsintensität [%]","Anteil der Nutzungsintensität [%]",null,"Quelle"]
[null,"Hohe Nutzungsintensität",0.25,null,"[1]"]
[null,"Mittlere Nutzungsintensität",0.5]
[null,"Geringe Nutzungsintensität",0.25]
[]
[null,"Leistungsaufnahme"]
[null,"Leistungsaufnahme: ","Short-Idle-Mode","Sleep-Mode","Off-Mode","Quelle"]
[null,"Desktop [W]",32.39,2.08,0.79,"[1]"]
[]
[null,"Leistungsaufnahme: ","Short-Idle-Mode","Sleep-Mode","Off-Mode","Quelle"]
[null,"Notebook [W]",9.0399999999999991,0.73499999999999999,0.46,"[1]"]
[]
[null,"Leistungsaufnahme: ","Short-Idle-Mode","Sleep-Mode","Off-Mode","Quelle"]
[null,"Mini-PC [W]",16.27,1.72,0.91,"[1]"]
[]
[null,"Leistungsaufnahme: ","Short-Idle-Mode","Sleep-Mode","Off-Mode","Quelle"]
[null,"Monitor [W]",18.82,0.5,0.3,"[1]"]
[]
[]
[null,"Anzahl der Stunden eines Betriebszustandes: Desktop","Short-Idle-Mode","Sleep-Mode","Off-Mode","Quelle"]
[null,"Hohe Nutzungsintensität [h/d]",7.5,2.5,14,"[1]"]
[null,"Mittlere Nutzungsintensität [h/d]",6,4,14]
[null,"Geringe Nutzungsintensität [h/d]",4.5,5.5,14]
[]
[null,"Anzahl der Stunden eines Betriebszustandes: Notebook","Short-Idle-Mode","Sleep-Mode","Off-Mode","Quelle"]
[null,"Hohe Nutzungsintensität [h/d]",7.5,2.5,14,"[1]"]
[null,"Mittlere Nutzungsintensität [h/d]",6,4,14]
[null,"Geringe Nutzungsintensität [h/d]",4.5,5.5,14]
[]
[null,"Anzahl der Stunden eines Betriebszustandes: Mini-PC","Short-Idle-Mode","Sleep-Mode","Off-Mode","Quelle"]
[null,"Hohe Nutzungsintensität [h/d]",7.5,2.5,14,"[1]"]
[null,"Mittlere Nutzungsintensität [h/d]",6,4,14]
[null,"Geringe Nutzungsintensität [h/d]",4.5,5.5,14]
[]
[null,"Anzahl der Stunden eines Betriebszustandes: Monitor","Short-Idle-Mode","Sleep-Mode","Off-Mode","Quelle"]
[null,"Hohe Nutzungsintensität [h/d]",7.5,2.5,14,"[1]"]
[null,"Mittlere Nutzungsintensität [h/d]",6,4,14]
[null,"Geringe Nutzungsintensität [h/d]",4.5,5.5,14]
[]
[null,"Kosten","Wert","Quelle"]
[null,"Strompreis (Gewerbe) [€/kWh]",0.21199999999999999,"[2]"]
[null,"Diskontsatz/Kalkulationszinssatz",7.0000000000000001E-3,"[3]"]
[null,"Nominale Preissteigerungsrate allgemein",1.2800000000000001E-2,"[4]"]
[null,"Reale Preissteigerungsrate allgemein",{"$f":"((1+C153)/(1+C152)-1)","v":5.7596822244290191E-3},"berechnet"]
[]
[null,"Anschaffungskosten [EURO/Stück]","Euro/Stück","Quelle"]
[null,"Desktop-PC",312,"[1]"]
[null,"Notebook",431,null,null,null," "]
[null,"Mini-PC",325]
[null,"Monitor",189]
[null,"SSD",89]
[null,"RAM",60]
[null,"Akku",75]
[]
[null,null,"Oberste Bundesbehörden"]
[null,"Personalaufwand [EUR/d]","Höherer Dienst","Gehobener Dienst","Mittlerer Dienst"]
[null,"Tagesbruttopersonalkosten",533.97,408.91,285.08999999999997]
[null,"Tagessach-und Gemeinkosten",344.53,297,249.95]
[]
[null,"Durchschnittlicher Verwaltungsaufwand eines Beschaffungszyklus von 500 Notebooks in der Bundesverwaltung"]
[null,"Anzahl APCs",500]
[null,"Aufwand pro Lebenszyklus (in Personentagen)","Höherer Dienst","Gehobener Dienst ","Mittlerer Dienst","Quelle"]
[null,"Anforderungsanalyse",2.25,0.74,null,"[1]"]
[null,"Marktsichtung",0.38,0.67,0.13]
[null,"Leistungsbeschreibung",2,2.78]
[null,"Beschaffung (Rahmenvertrag)",0.68,2.36,0.22]
[null,"Inventarisierung",null,3.1,7.2]
[null,"Geräte testen / Image anpassen",null,10.75,3.96]
[null,"Installation Betriebssystem",null,19,19.149999999999999]
[null,"Austausch der Geräte",null,2.4300000000000002,46.55]
[null,"Altgeräteaufbereitung",0.5,0.75,15]
[null,"Abschreibung / Entsorgung",null,1.25]
[null,"Zwischensumme [d]",{"$f":"SUM(C173:C182)","v":5.81},{"$f":"SUM(D173:D182)","v":43.83},{"$f":"SUM(E173:E182)","v":92.21}]
[null,"Durchschnittlicher Verwaltungsaufwand  [d/Stück]",{"$f":"C183/$C$171","v":1.1619999999999998E-2},{"$f":"D183/$C$171","v":8.7660000000000002E-2},{"$f":"E183/$C$171","v":0.18442}]

{"sheet":"Quellen","index":17,"n_rows":18,"n_cols":5,"rows_kept":18,"cut":false,"hidden":false,"merged":[[1,4,1,6],[14,2,14,6],[17,2,17,6],[2,2,2,6],[3,2,3,6],[12,2,12,6],[15,2,15,6],[11,2,11,6],[4,2,4,6],[5,2,5,6],[6,2,6,6],[7,2,7,6],[8,2,8,6],[9,2,9,6]]}
[null,"Quellen- und Literaturverzeichnis"]
[null,null,null,null,"Zurück zum Inhaltsverzeichnis"]
["[1]","Öko-APC-Vorhaben","FKZ 3712 95 301; Langtitel: „Ökologische und ökonomische Aspekte beim Vergleich von Arbeitsplatzcomputern für den Einsatz in Behörden unter Einbeziehung des Nutzerverhaltens“.\n"]
[null,null,"https://www.umweltbundesamt.de/sites/default/files/medien/377/publikationen/endbericht_oko-apc_2016_09_27.pdf  "]
[null,null,"Zustätzliche Dokumenten aus dem Vorhaben sind:\n-Presse-Erklärung, 29.9.2016: "]
[null,null,"https://www.umweltbundesamt.de/themen/computerin-\nder-verwaltung-uba-fordert-laengere  "]
[null,null,"-Positionspapier von UBA und Oko-lnstitut: „Paradigmenwechsel in der Green IT notwendig\":"]
[null,null,"https://www.umweltbundesamt.de/publikationen/paradigmenwechsel-in-der-green-it-notwendig-0"]
[null,null,"- Broschüre: „Computer am Arbeitsplatz : Wirtschaftlichkeit und Umweltschutz- Ratgeber für Verwaltungen"]
[null,null,"https://www.umweltbundesamt.de/publikationen/computer-am-arbeitsplatz-wirtschaftlichkeit"]
[]
["[2]","BNetzA Monitoringbericht 2016","Mittlerer Strompreis Gewerbekunde (ohne Umsatzsteuer) zum 1. April 2016, Jahresverbrauch 50 MWh, Niederspannung (0,4 kV), Quelle: Monitoringbericht 2016; Bundesnetzagentur, Bundeskartellamt, November 2016"]
[null,null,"https://www.bundesnetzagentur.de/SharedDocs/Downloads/DE/Sachgebiete/Energie/Unternehmen_Institutionen/DatenaustauschUndMonitoring/Monitoring/Monitoringbericht2016.pdf?__blob=publicationFile&v=2 "]
[]
["[3]","Personal- und Sachkosten für Kostenberechnungen/Wirtschaftlichkeitsuntersuchungen","Durchschnittszinssatz Bundesfinanzministerium \"Personal- und Sachkosten für Kostenberechnungen / Wirtschaftlichkeitsuntersuchungen (PKS)\"\nPersonal- und Sachkosten in der Bundesverwaltung für Kostenberechnungen/WU 2. Kalkulationszinssätze für WU - 2016"]
[null,null,"http://www.bundesfinanzministerium.de/Content/DE/Standardartikel/Themen/Oeffentliche_Finanzen/Bundeshaushalt/personalkostensaetze-2016-anl.pdf;jsessionid=0524DE45DC653036E14D9F4C1A561E8C?__blob=publicationFile&v=3 "]
[]
["[4]","Statistisches Bundesamt, Fachserie 17 Reihe 7","Statistisches Bundesamt, Fachserie 17 Reihe 7, Verbraucherpreisindizes für Deutschland - Eilbericht, December 2017, Verbraucherpreisindex insgesamt, Seite 6, Gliederung nach dem Verwendungszweck, Erste spalte, Durchschnittliche Jährliche Steigerungsrate (2010-2017)"]

{"sheet":"FAQs","index":18,"n_rows":12,"n_cols":5,"rows_kept":12,"cut":false,"hidden":false,"merged":[[4,1,4,7],[8,1,8,7],[11,1,11,7],[5,1,6,7],[0,4,0,6]]}
[null,null,null,null,"Zurück zum Inhaltsverzeichnis"]
[null,"FAQs"]
[]
["1.","Was ist der Personalaufwand?"]
[null,"Für die Verwaltung der Hardware entsteht in den verschiedenen Phasen des Lebenszyklus ein personeller Aufwand.  Zur Vorbereitung der Beschaffung ist für alle Endgeräte zunächst der konkrete Bedarf zu definieren. Erst danach wird das Gerät beschafft und für den Endanwender bereitgestellt. In der letzten Phase wird das auszutauschende Gerät entsorgt. In jeder dieser Phasen entstehen für die einzelnen Aufgaben Aufwände für Beschäftigte der Behörde – und damit Personalkosten."]
[null,"Eine genaue Auflistung der durchschnittlichen Aufgaben und Aufwände ist hier dargestellt."]
[]
["2.","Was bedeutet Default-Wert?"]
[null,"Der Default-Wert, allgemein ausgedrückt: der Standardwert, bezeichnet den Wert, der übernommen wird, wenn keine speziellen Werte eingegeben wurden. Diese Werte sind standardmäßig als allgemein passend vorgegeben. Die Werte wurden im Rahmen des Forschungsvorhabens \"Öko-APC\" ermittelt (siehe Quelle [1]). Die für die Geräte angegebenen Default-Werte für die Leistungsaufnahme entsprechen nicht unbedingt den Werten der  bestverfügbaren Technologie, aber sind realistische Werte für den IT-Markt.\n"]
[]
["3.","Idle-, long-idle oder short-idle? "]
[null,"Als „Leerlauf“ (engl. Idle) wird ein Zustand bezeichnet, in dem das Betriebssystem und andere Software gestartet sind, aber nur Prozesse entsprechend der Voreinstellungen nach dem Start des Computers laufen. Eine Neuerung des Energy Star Version 6.0 für Computer ist, dass die Betriebsart \"idle\" in zwei Sub-Modi, „long-idle“ und „short-idle“, unterteilt wird. Der „Short Idle“ wird in Energy Star v6 als Leerlaufzustand unmittelbar nach dem Hochfahren aus dem netzgetrennten Zustand oder dem Ruhezustand definiert. Direkt nach Bewältigen einer Arbeitslast befindet sich der Computer gemäß Energy Star v6 ebenfalls im „Short Idle“- Leerlaufzustand. Weitere Energiesparmaßnahmen werden in diesem kurzzeitigen Übergangszustand nicht eingeschaltet. Im „Long Idle“-Leerlaufzustand werden nach Energy Star v6 zusätzliche Energiesparfunktionen aktiviert. Dazu gehören das Abschalten des Monitors oder der Festplatten. Der „Long Idle“-Modus beginnt, wenn ein PC längere Zeit im „Short Idle“-Modus verbleibt, jedoch nicht in den Ruhezustand übergeht. Diese Unterteilung ermöglicht, Energiesparfunktionen und deren Auswirkung auf die Leistungsaufnahme im TEC zu berücksichtigen.\nFalls Ihr Produktdatenblatt sowohl short-idle als auch long-idle angibt, dann wählen Sie bitte die Werte für short-idle. Werden (in älteren Produktdatenblättern) nur Daten für  „idle“ angegeben, verwenden Sie diese.\n"]